BEGIN:VCALENDAR
VERSION:2.0
PRODID:-//8. März - ECPv6.15.20//NONSGML v1.0//EN
CALSCALE:GREGORIAN
METHOD:PUBLISH
X-ORIGINAL-URL:https://8maerz.at
X-WR-CALDESC:Veranstaltungen für 8. März
REFRESH-INTERVAL;VALUE=DURATION:PT1H
X-Robots-Tag:noindex
X-PUBLISHED-TTL:PT1H
BEGIN:VTIMEZONE
TZID:Europe/Vienna
BEGIN:DAYLIGHT
TZOFFSETFROM:+0100
TZOFFSETTO:+0200
TZNAME:CEST
DTSTART:20220327T010000
END:DAYLIGHT
BEGIN:STANDARD
TZOFFSETFROM:+0200
TZOFFSETTO:+0100
TZNAME:CET
DTSTART:20221030T010000
END:STANDARD
BEGIN:DAYLIGHT
TZOFFSETFROM:+0100
TZOFFSETTO:+0200
TZNAME:CEST
DTSTART:20230326T010000
END:DAYLIGHT
BEGIN:STANDARD
TZOFFSETFROM:+0200
TZOFFSETTO:+0100
TZNAME:CET
DTSTART:20231029T010000
END:STANDARD
BEGIN:DAYLIGHT
TZOFFSETFROM:+0100
TZOFFSETTO:+0200
TZNAME:CEST
DTSTART:20240331T010000
END:DAYLIGHT
BEGIN:STANDARD
TZOFFSETFROM:+0200
TZOFFSETTO:+0100
TZNAME:CET
DTSTART:20241027T010000
END:STANDARD
END:VTIMEZONE
BEGIN:VEVENT
DTSTART;TZID=Europe/Vienna:20230228T170000
DTEND;TZID=Europe/Vienna:20230228T190000
DTSTAMP:20260424T141707
CREATED:20230202T172821Z
LAST-MODIFIED:20230202T172821Z
UID:10003720-1677603600-1677610800@8maerz.at
SUMMARY:Auf dem Weg zu einem Care-Streik in Österreich? (Teil 2)
DESCRIPTION:So darf’s nicht wei­ter­ge­hen: Die Care-Kri­se wird tag­täg­lich spür­ba­rer in Öster­reich. Ob Ele­men­tar­bil­dung\, Schu­le\, Gesund­heits­ver­sor­gung\, Betreu­ung oder Pfle­ge von älte­ren Men­schen – das Ange­bot ist nicht aus­rei­chend\, über­all fehlt es an Fach­kräf­ten und die Arbeits­be­din­gun­gen sind nicht mehr trag­bar. Dar­über hin­aus beträgt der Gen­der Pen­si­on Gap noch immer mehr als 40%. Es ist klar\, dass sich vie­les und grund­le­gend was ändern muss. Und den­noch gibt’s kei­ne nur annä­hernd adäqua­ten Maß­nah­men. In ande­ren Län­dern wie Deutsch­land oder Groß­bri­tan­ni­en wird in Care-Sek­to­ren immer öfter gestreikt. In Spa­ni­en oder der Schweiz gibt es seit eini­gen Jah­ren ein­mal pro Jahr einen Frau­en­streik mit gro­ßer Betei­li­gung. Immer mehr stel­len sich auch in Öster­reich die Fra­ge\, ob und wie ein „Streik“ der­je­ni­gen\, die Care-Arbeit – bezahlt oder unbe­zahlt – leis­ten aus­se­hen und gelin­gen könn­te. Wir möch­ten an zwei Aben­den von den Erfah­run­gen in der Schweiz und in Deutsch­land ler­nen. Die­se Online-Ver­an­stal­tun­gen sind der Auf­takt eines Pro­zes­ses\, Mög­lich­kei­ten der Mobi­li­sie­rung in Öster­reich aus­zu­lo­ten. Dazu laden wir herz­lich ein. \nHier geht’s zur Anmeldung. \n28. Febru­ar 2023\, 17.00 – 19.00 \nErfah­run­gen von den Kran­ken­haus­streiks in Ber­lin und Nordrhein-Westfalen \nSil­via Habe­kost\, Kran­ken­pfle­ge­rin\, Mit-Initia­to­rin der Ber­li­ner Krankenhausbewegung \nKatha­ri­na Schwa­be­dis­sen\, Kran­ken­pfle­ge­rin\, orga­ni­sie­rend in Essen und im NRW-Streik \nMode­ra­ti­on: Karin Schus­ter\, DGKP\, Pfle­ge­stütz­punkt 3.0 & Ursu­la Nie­diek\, fair sor­gen! Graz
URL:https://8maerz.at/veranstaltung/auf-dem-weg-zu-einem-care-streik-in-oesterreich-teil-2/
LOCATION:Online\, Wien\, Österreich
END:VEVENT
BEGIN:VEVENT
DTSTART;TZID=Europe/Vienna:20230303T080000
DTEND;TZID=Europe/Vienna:20230303T163000
DTSTAMP:20260424T141707
CREATED:20230109T213702Z
LAST-MODIFIED:20230109T214651Z
UID:10003709-1677830400-1677861000@8maerz.at
SUMMARY:4. Fachtagung für Frauen*Netzwerke
DESCRIPTION:Die Fach­ta­gung für Frauen*Netzwerke rich­tet sich an Gestal­te­rin­nen\, Managerinnen\,Newcomerinnen oder Grün­de­rin­nen von ehren­amt­li­chen Frauen:Vereinen und Frauen:Organisationen sowie deren Stake­hol­de­rin­nen. Unse­re Ziel­grup­pe hat sich die­ses Jahr schwer­punkt­mä­ßig um fir­men­in­ter­ne Frauen:Netzwerke – vor allem aus dem tech­no­lo­gie­ori­en­tier­ten Bereich – erweitert. \nEröff­net wird die Fach­ta­gung für Frauen*Netzwerke von Leo­no­re Gewess­ler\, Bun­des­mi­nis­te­rin für Kli­ma­schutz\, Umwelt\, Ener­gie\, Mobi­li­tät\, Inno­va­ti­on und Tech­no­lo­gie. Gruß­bot­schaf­ten aus den Bun­des­län­dern folgen. \nVon 09:00 bis 16:30 Uhr ist der Ver­an­stal­tungs­tag voll­ge­packt mit span­nen­den Online-Vor­trä­gen und 4 fach­spe­zi­fi­schen Work­shops zu fol­gen­den Themen: \nEs gibt: \n\nInput zur recht­li­chen Gestal­tung von Frauen:Vereinen und Frauen:Netzwerken\nOrga­ni­sa­ti­ons­ent­wick­lung und Mit­glie­der­kom­mu­ni­ka­ti­on in her­aus­for­dern­den Zeiten\nGood Prac­ti­ce Bei­spie­le aus den Frauen:Netzwerken und\neine inter­es­san­te Netz­werk Session\n\nDas Online-Event wird durch Pau­sen mit und ohne akti­vie­ren­de Ele­men­te\, Mor­gen Pila­tes und ein vir­tu­el­les Band-Pro­ject aufgelockert. \nZum Tages­aus­klang gibt es ab 17:30 Uhr regio­na­le Meet­ups\, bei denen sich die Teil­neh­me­rin­nen und inter­es­sier­te Frau­en ver­net­zen\, tref­fen und die Com­mu­ni­ty ihrer Regi­on bes­ser ken­nen­ler­nen können.\nDie Teil­nah­me ist für Gestal­te­rin­nen aus ehren­amt­li­chen Frauen:Netzwerken kostenfrei. \nAnmel­dung unter die­sem Link: Event­bri­te \nWeb­sei­te mit Pro­gramm­de­tails: https://fachtagung-frauennetzwerke.at \nDie Mis­si­on des Ver­eins “Fach­ta­gung für Frauen*Netzwerke” ist es\, Frauen:Vereine und deren Stake­hol­de­rin­nen zu ver­net­zen\, damit sie von­ein­an­der pro­fi­tie­ren kön­nen und Frau­en in ihrer Qua­li­fi­zie­rung sicht­ba­rer werden. \nDer Ver­ein hat dafür die Fach­ta­gung für Frauen*Netzwerke ins Leben geru­fen\, bei die­ser jähr­li­chen Ver­an­stal­tung neh­men über 200 Gestal­te­rin­nen\, Mana­ge­rin­nen\, New­co­me­rin­nen aus über 100 Frauen:Netzwerken\, ‑Ver­ei­nen und ‑Orga­ni­sa­tio­nen teil. Mit die­sen Kon­fe­ren­zen will der Ver­ein den Wis­sens­trans­fer und Aus­tausch unter den Frauen:Netzwerken fördern.
URL:https://8maerz.at/veranstaltung/vierte-fachtagung-fuer-frauennetzwerke/
LOCATION:Online\, Wien\, Österreich
END:VEVENT
END:VCALENDAR