BEGIN:VCALENDAR
VERSION:2.0
PRODID:-//8. März - ECPv6.15.20//NONSGML v1.0//EN
CALSCALE:GREGORIAN
METHOD:PUBLISH
X-ORIGINAL-URL:https://8maerz.at
X-WR-CALDESC:Veranstaltungen für 8. März
REFRESH-INTERVAL;VALUE=DURATION:PT1H
X-Robots-Tag:noindex
X-PUBLISHED-TTL:PT1H
BEGIN:VTIMEZONE
TZID:Europe/Vienna
BEGIN:DAYLIGHT
TZOFFSETFROM:+0100
TZOFFSETTO:+0200
TZNAME:CEST
DTSTART:20210328T010000
END:DAYLIGHT
BEGIN:STANDARD
TZOFFSETFROM:+0200
TZOFFSETTO:+0100
TZNAME:CET
DTSTART:20211031T010000
END:STANDARD
BEGIN:DAYLIGHT
TZOFFSETFROM:+0100
TZOFFSETTO:+0200
TZNAME:CEST
DTSTART:20220327T010000
END:DAYLIGHT
BEGIN:STANDARD
TZOFFSETFROM:+0200
TZOFFSETTO:+0100
TZNAME:CET
DTSTART:20221030T010000
END:STANDARD
BEGIN:DAYLIGHT
TZOFFSETFROM:+0100
TZOFFSETTO:+0200
TZNAME:CEST
DTSTART:20230326T010000
END:DAYLIGHT
BEGIN:STANDARD
TZOFFSETFROM:+0200
TZOFFSETTO:+0100
TZNAME:CET
DTSTART:20231029T010000
END:STANDARD
END:VTIMEZONE
BEGIN:VEVENT
DTSTART;TZID=Europe/Vienna:20220228T170000
DTEND;TZID=Europe/Vienna:20220228T200000
DTSTAMP:20260425T144705
CREATED:20220227T145348Z
LAST-MODIFIED:20220227T145427Z
UID:10003661-1646067600-1646078400@8maerz.at
SUMMARY:Online-Workshop: Mentale und verbale Selbstverteidigung gegen sexuelle Belästigung im öffentlichen Raum
DESCRIPTION:Im Work­shop zur ver­ba­len und men­ta­len Selbst­ver­tei­di­gung gegen sexu­el­le Beläs­ti­gung im öffent­li­chen Raum ler­nen Frau­en\, Les­ben\, Inter‑\, Nicht-Binär\, Trans- und Agen­der-Per­so­nen (FLINTA) sich gegen sexis­ti­sche Dis­kri­mi­nie­rung zu weh­ren und (für sich) bes­ser mit sexu­el­ler Beläs­ti­gung umzu­ge­hen. Teilnehmer_innen wer­den über die recht­li­che Lage zu sexu­el­ler Beläs­ti­gung in Öster­reich infor­miert und über Insti­tu­tio­nen\, an die mensch sich wen­den kann. \nDer Work­shop soll einen Safe Space bie­ten\, um Erfah­run­gen aus­zu­tau­schen und von- und mit­ein­an­der zu ler­nen. Es wird über Coping-Stra­te­gien\, Reak­ti­ons­mög­lich­kei­ten und men­ta­le After-Care gespro­chen. Auch die Roten Kar­ten\, ein Tool als Reak­ti­on auf sexu­el­le Beläs­ti­gung im öffent­li­chen Raum\, wer­den vor­ge­stellt und Teilnehmer_innen zur Ver­fü­gung gestellt (www.respect-existence.at). \nDer Work­shop wird in deut­scher Laut­spra­che abge­hal­ten\, soll­test du eine Über­set­zung auf Eng­lisch oder ÖGS brau­chen schreib uns bit­te ein kur­zes Mail.\nZur Anmel­dung schick bit­te bis 14.02.22 ein Mail an femref@oeh.ac.at.
URL:https://8maerz.at/veranstaltung/online-workshop-mentale-und-verbale-selbstverteidigung-gegen-sexuelle-belaestigung-im-oeffentlichen-raum/
LOCATION:Online\, Wien\, Österreich
END:VEVENT
BEGIN:VEVENT
DTSTART;TZID=Europe/Vienna:20220301T183000
DTEND;TZID=Europe/Vienna:20220301T203000
DTSTAMP:20260425T144705
CREATED:20220227T140043Z
LAST-MODIFIED:20220227T140120Z
UID:10003902-1646159400-1646166600@8maerz.at
SUMMARY:Round Table: „66th Commission on the Status of Women: Gleichstellung im Kontext von Klimawandel und Umweltkatastrophen“
DESCRIPTION:Anläss­lich der von 14. bis 25. März statt­fin­den­den 66. Tagung der Frau­en­sta­tus­kom­mis­si­on der Ver­ein­ten Natio­nen (Com­mis­si­on on the Sta­tus of Women – CSW) laden UN Women Aus­tria zu einem digi­ta­len Round Table zum The­ma “66th Com­mis­si­on on the Sta­tus of Women: Gleich­stel­lung im Kon­text von Kli­ma­wan­del und Umwelt­ka­ta­stro­phen” am Diens­tag\, 1. März 2022\, um 18:30 Uhr ein. \nVom 14. bis 25. März 2022 fin­det die 66. Tagung der Frau­en­sta­tus­kom­mis­si­on (Com­mis­si­on on the Sta­tus of Women\, CSW) der Ver­ein­ten Natio­nen statt. Die seit 1946 jähr­lich tagen­de Kom­mis­si­on hat die Auf­ga­be\, Geschlech­ter­gleich­stel­lung vor­an­zu­brin­gen und die Rech­te von Frau­en und Mäd­chen zu stär­ken. Das dies­jäh­ri­ge Schwer­punkt­the­ma ist die Geschlech­ter­gleich­stel­lung im Kon­text des Kli­ma­wan­dels\, sowie die Ent­wick­lung poli­ti­scher Pro­gram­me zur Reduk­ti­on von Umwelt- und Kata­stro­phen­ri­si­ken. Mag.a Laris­sa Lass­mann (Lei­te­rin des Refe­rats I.7.b – Inter­na­tio­na­le Frau­en­fra­gen und ande­re men­schen­recht­li­che Quer­schnitts­fra­gen\, BMEIA) und DIin Marie-Chris­ti­ne Hopf­gart­ner (Abtei­lung VI/1 – All­ge­mei­ne Kli­ma­po­li­tik\, BMK) beleuch­ten wich­ti­ge Pro­zes­se und Inhal­te der 66. CSW sowie die Rol­le Öster­reichs als Mit­glied der VN-Frau­en­sta­tus­kom­mis­si­on von 2021 bis 2025. \nDer vir­tu­el­le Round Table fin­det am Diens­tag\, 1. März 2022\, um 18:30 Uhr als Zoom-Video­kon­fe­renz statt. \nBit­te mel­den Sie sich unter fol­gen­dem Link zum vir­tu­el­len Round Table an: https://us06web.zoom.us/meeting/register/tZwucuCpqDIuHtyCJbQsv0hL78j1Xzi5LHBh \nNach der Regis­trie­rung erhal­ten Sie den Link zur Zoom-Video­kon­fe­renz per Mail zugeschickt.
URL:https://8maerz.at/veranstaltung/round-table-66th-commission-on-the-status-of-women-gleichstellung-im-kontext-von-klimawandel-und-umweltkatastrophen/
LOCATION:Online\, Wien\, Österreich
END:VEVENT
BEGIN:VEVENT
DTSTART;TZID=Europe/Vienna:20220303T140000
DTEND;TZID=Europe/Vienna:20220303T160000
DTSTAMP:20260425T144705
CREATED:20220204T160429Z
LAST-MODIFIED:20220212T175445Z
UID:10003864-1646316000-1646323200@8maerz.at
SUMMARY:Webinar: Gleichstellungspolitiken revisited
DESCRIPTION:Die IHS-For­schungs­platt­form Gen­der und Diver­si­tät lädt ein zum \nWebinar: Gleichstellungspolitiken revisited\nZeitgemäße Gleichstellungspolitik an der Schnittstelle von Politik\, Theorie und Praxis\nDon­ners­tag\, 3. März 2022\, 14 Uhr \nDer Befund des nach wie vor bestehen­den Bedarfs an gleich­stel­lungs­po­li­ti­schen Akti­vi­tä­ten bzw. auch der Aus­dif­fe­ren­zie­rung von Ansprü­chen von ver­schie­dens­ten Akteur*innen steht am Ende des gera­de erschie­nen Sam­mel­bands Gleich­stel­lungs­po­li­ti­ken revis­ted (Wro­blew­ski\, Schmidt 2021). Die­ser Befund bekommt durch die ers­ten Ana­ly­sen der geschlech­ter­spe­zi­fi­schen Kon­se­quen­zen der seit Früh­jahr 2020 herr­schen­den COVID-19-Pan­de­mie noch wei­te­ren Auftrieb. \nZiel der Ver­an­stal­tung ist es\, anhand aus­ge­wähl­ter Bei­trä­ge des Ban­des die Aus­ge­stal­tung die­ser Schnitt­stel­le sowie aktu­el­le Her­aus­for­de­run­gen aus Per­spek­ti­ve der Wis­sen­schaft\, der Poli­tik und der Pra­xis zu diskutieren. \nKurzin­puts basie­rend auf Bei­trä­gen des Ban­des: Regi­ne Bendl (WU)\, Vic­to­ria Eng­l­mai­er (IHS)\, Karin Sard­ad­var (WU)\nKom­men­ta­re: Ingrid Moritz (AK)\, Rober­ta Schal­ler-Steidl (BMBWF)\, Klau­dia Burtscher (Frau­en­stif­tung Steyr) \nDie Ver­an­stal­tung fin­det vir­tu­ell über Micro­soft Teams statt – Anmel­dung per E‑Mail an event@ihs.ac.at. \nNach Ihrer Anmel­dung erhal­ten Sie zeit­ge­recht den Teilnahmelink.
URL:https://8maerz.at/veranstaltung/webinar-gleichstellungspolitiken-revisited/
LOCATION:Online\, Wien\, Österreich
END:VEVENT
BEGIN:VEVENT
DTSTART;TZID=Europe/Vienna:20220304T090000
DTEND;TZID=Europe/Vienna:20220304T160000
DTSTAMP:20260425T144705
CREATED:20220227T212016Z
LAST-MODIFIED:20220227T223623Z
UID:10003905-1646384400-1646409600@8maerz.at
SUMMARY:3. Fachtagung für Frauen*Netzwerke
DESCRIPTION:Die Fach­ta­gung für Frauen*Netzwerke rich­tet sich an Gestal­te­rin­nen\, New­co­me­rin­nen und Stake­hol­dern von Frauen*Netzwerken. \nDer Ver­ein „Fach­ta­gung Frauen*Netzwerke“ hat es sich zur Auf­ga­be gemacht\, Frau­en sicht­ba­rer in ihrer Qua­li­fi­ka­ti­on zu machen\, Wis­sens­trans­fer zu för­dern und Nach­wuchs­ar­beit zu unter­stüt­zen. Mit Tagun­gen und Online-Work­shops hat sich der Ver­ein „Fach­ta­gung Frauen*Netzwerke“ in weni­ger als zwei Jah­ren zu einer der wich­tigs­ten Platt­for­men für fach­spe­zi­fi­schen Aus­tausch und Ver­net­zung entwickelt. \nDie 3. Fach­ta­gung für Frauen*Netzwerke fin­det heu­er unter dem Mot­to „Von­ein­an­der ler­nen\, gemein­sam gestal­ten“ statt. Wir erle­ben einen digi­ta­len Wan­del\, der alle Lebens­be­rei­che betrifft – so auch die Arbeit in den Frauen*Netzwerken. In der heu­ri­gen Fach­ta­gung legen wir unse­ren Schwer­punkt dort­hin und wol­len uns aus­tau­schen\, wie wir in den Berei­chen Digi­ta­li­sie­rung\, Tech­no­lo­gie und Inno­va­ti­on von­ein­an­der ler­nen und gestal­ten können. \nEs wird 3 fach­spe­zi­fi­sche Work­shops zu den The­men Finan­zen & För­de­run­gen\, Medi­en­ar­beit und Good Prac­ti­ce aus den Frauen*Netzwerken. Zusätz­lich geben. Es wird auch eine Netz­werk-Ses­si­on geben\, wo die Teil­neh­me­rin­nen in 10 Minu­ten Ses­si­ons im Speed-Net­wor­king-For­mat gemat­ched wer­den. Abge­run­det wird das Pro­gramm durch Yoga und Pila­tes Einheiten. \nDie Ver­an­stal­tung fin­det am 4. März 2022 online in ver­schie­de­nen vir­tu­el­len Räu­men – dem Digi­place – statt. Start ist um 08:00 mit Yoga – offi­zi­el­ler Start ist 09:00 und Ende um 16:00 \nDie Teil­nah­me ist für Frau­en* aus ehren­amt­li­chen Frauen*Netzwerken kostenfrei. \nWork­shop-Pro­gramm sie­he hier.\nAnmel­dung via Event­bri­te. \nAls spe­zi­el­les High­light wird es zum Aus­klang der Fach­ta­gung für Frauen*Netzwerke Abend­ver­an­stal­tun­gen vor Ort in den ein­zel­nen Bun­des­län­dern geben.\nDie Meet­ups unter­lie­gen den bun­des­wei­ten bzw. regio­nal gel­ten­den Corona-Schutzmaßnahmen.\nAnmel­dung und Infor­ma­tio­nen sie­he hier.
URL:https://8maerz.at/veranstaltung/dritte-fachtagung-fuer-frauennetzwerke/
LOCATION:Online\, Wien\, Österreich
END:VEVENT
END:VCALENDAR