BEGIN:VCALENDAR
VERSION:2.0
PRODID:-//8. März - ECPv6.15.17.1//NONSGML v1.0//EN
CALSCALE:GREGORIAN
METHOD:PUBLISH
X-WR-CALNAME:8. März
X-ORIGINAL-URL:https://8maerz.at
X-WR-CALDESC:Veranstaltungen für 8. März
REFRESH-INTERVAL;VALUE=DURATION:PT1H
X-Robots-Tag:noindex
X-PUBLISHED-TTL:PT1H
BEGIN:VTIMEZONE
TZID:Europe/Vienna
BEGIN:DAYLIGHT
TZOFFSETFROM:+0100
TZOFFSETTO:+0200
TZNAME:CEST
DTSTART:20220327T010000
END:DAYLIGHT
BEGIN:STANDARD
TZOFFSETFROM:+0200
TZOFFSETTO:+0100
TZNAME:CET
DTSTART:20221030T010000
END:STANDARD
BEGIN:DAYLIGHT
TZOFFSETFROM:+0100
TZOFFSETTO:+0200
TZNAME:CEST
DTSTART:20230326T010000
END:DAYLIGHT
BEGIN:STANDARD
TZOFFSETFROM:+0200
TZOFFSETTO:+0100
TZNAME:CET
DTSTART:20231029T010000
END:STANDARD
BEGIN:DAYLIGHT
TZOFFSETFROM:+0100
TZOFFSETTO:+0200
TZNAME:CEST
DTSTART:20240331T010000
END:DAYLIGHT
BEGIN:STANDARD
TZOFFSETFROM:+0200
TZOFFSETTO:+0100
TZNAME:CET
DTSTART:20241027T010000
END:STANDARD
END:VTIMEZONE
BEGIN:VEVENT
DTSTART;TZID=Europe/Vienna:20230215T103000
DTEND;TZID=Europe/Vienna:20230215T120000
DTSTAMP:20260422T085817
CREATED:20230119T183602Z
LAST-MODIFIED:20230119T194314Z
UID:10003952-1676457000-1676462400@8maerz.at
SUMMARY:Vortrag: "Der Comparable Worth Index oder: Zur Bedeutung der Arbeitsbewertung für den Gender Pay Gap"
DESCRIPTION:Am 15.2.2023 (Equal Pay Day) spricht Ute Klam­mer\, Lei­te­rin des Insti­tuts für Arbeit und Qua­li­fi­ka­ti­on der Uni­ver­si­tät Duis­burg-Essen\, zu „Der Com­pa­ra­ble Worth Index\, oder: Zur Bedeu­tung der Arbeits­be­wer­tung für den Gen­der Pay Gap“ (15.2.2023\, 10.30−12.00\, online auf Zoom). \nEine Ver­an­stal­tung im Rah­men der Publi­ka­ti­ons­prä­sen­ta­ti­on „Eine Fra­ge der Orga­ni­sa­ti­on?“ der Uni­ver­si­tät Wien. \n 
URL:https://8maerz.at/veranstaltung/vortrag-der-comparable-worth-index/
LOCATION:Online\, Wien\, Österreich
END:VEVENT
BEGIN:VEVENT
DTSTART;TZID=Europe/Vienna:20230216T170000
DTEND;TZID=Europe/Vienna:20230216T190000
DTSTAMP:20260422T085817
CREATED:20230202T172401Z
LAST-MODIFIED:20230202T172840Z
UID:10003970-1676566800-1676574000@8maerz.at
SUMMARY:Auf dem Weg zu einem Care-Streik in Österreich? (Teil 1)
DESCRIPTION:Was kön­nen wir von den Frau­en­streiks in der Schweiz und den Streiks im Gesund­heits­sek­tor in Deutsch­land lernen? \nSo darf’s nicht wei­ter­ge­hen: Die Care-Kri­se wird tag­täg­lich spür­ba­rer in Öster­reich. Ob Ele­men­tar­bil­dung\, Schu­le\, Gesund­heits­ver­sor­gung\, Betreu­ung oder Pfle­ge von älte­ren Men­schen – das Ange­bot ist nicht aus­rei­chend\, über­all fehlt es an Fach­kräf­ten und die Arbeits­be­din­gun­gen sind nicht mehr trag­bar. Dar­über hin­aus beträgt der Gen­der Pen­si­on Gap noch immer mehr als 40%. Es ist klar\, dass sich vie­les und grund­le­gend was ändern muss. Und den­noch gibt’s kei­ne nur annä­hernd adäqua­ten Maß­nah­men. In ande­ren Län­dern wie Deutsch­land oder Groß­bri­tan­ni­en wird in Care-Sek­to­ren immer öfter gestreikt. In Spa­ni­en oder der Schweiz gibt es seit eini­gen Jah­ren ein­mal pro Jahr einen Frau­en­streik mit gro­ßer Betei­li­gung. Immer mehr stel­len sich auch in Öster­reich die Fra­ge\, ob und wie ein „Streik“ der­je­ni­gen\, die Care-Arbeit – bezahlt oder unbe­zahlt – leis­ten aus­se­hen und gelin­gen könn­te. Wir möch­ten an zwei Aben­den von den Erfah­run­gen in der Schweiz und in Deutsch­land ler­nen. Die­se Online-Ver­an­stal­tun­gen sind der Auf­takt eines Pro­zes­ses\, Mög­lich­kei­ten der Mobi­li­sie­rung in Öster­reich aus­zu­lo­ten. Dazu laden wir herz­lich ein. \nAnmel­dung hier. \n16. Febru­ar 2023\, 17.00 – 19.00\nErfah­run­gen mit dem Frau­en­streik in der Schweiz\nLink: https://eveeno.com/care-streik-erfahrungen-aus-der-schweiz \nTama­ra Funi­ciel­lo\, Natio­nal­rä­tin und Co-Prä­si­den­tin SP Frau­en* Schweiz\nRegu­la Bühl­mann\, poli­ti­sche Sekre­tä­rin im Schwei­ze­ri­schen Gewerkschaftsbund \nMode­ra­ti­on: Eli­sa­beth Klat­zer\, Attac & fair sor­gen! & Johan­na Mar­cher\, fair sor­gen! Graz
URL:https://8maerz.at/veranstaltung/auf-dem-weg-zu-einem-care-streik-in-oesterreich-teil-1/
LOCATION:Online\, Wien\, Österreich
END:VEVENT
BEGIN:VEVENT
DTSTART;TZID=Europe/Vienna:20230222T103000
DTEND;TZID=Europe/Vienna:20230222T120000
DTSTAMP:20260422T085817
CREATED:20230119T193608Z
LAST-MODIFIED:20230119T193658Z
UID:10003953-1677061800-1677067200@8maerz.at
SUMMARY:Vortrag: Eltern und Wissenschaftskarriere
DESCRIPTION:Am 22.2.2023 spricht Inken Lind\, Pro­fes­so­rin an der Tech­ni­schen Hoch­schu­le Köln\, zu Eltern und Wis­sen­schafts­kar­rie­re (22.2.2023\, 10.30−12.00\, online auf Zoom). \nEine Ver­an­stal­tung im Rah­men der Publi­ka­ti­ons­prä­sen­ta­ti­on „Eine Fra­ge der Orga­ni­sa­ti­on?“ der Uni­ver­si­tät Wien.
URL:https://8maerz.at/veranstaltung/vortrag-eltern-und-wissenschaftskarriere/
LOCATION:Online\, Wien\, Österreich
END:VEVENT
BEGIN:VEVENT
DTSTART;TZID=Europe/Vienna:20230228T170000
DTEND;TZID=Europe/Vienna:20230228T190000
DTSTAMP:20260422T085817
CREATED:20230202T172821Z
LAST-MODIFIED:20230202T172821Z
UID:10003720-1677603600-1677610800@8maerz.at
SUMMARY:Auf dem Weg zu einem Care-Streik in Österreich? (Teil 2)
DESCRIPTION:So darf’s nicht wei­ter­ge­hen: Die Care-Kri­se wird tag­täg­lich spür­ba­rer in Öster­reich. Ob Ele­men­tar­bil­dung\, Schu­le\, Gesund­heits­ver­sor­gung\, Betreu­ung oder Pfle­ge von älte­ren Men­schen – das Ange­bot ist nicht aus­rei­chend\, über­all fehlt es an Fach­kräf­ten und die Arbeits­be­din­gun­gen sind nicht mehr trag­bar. Dar­über hin­aus beträgt der Gen­der Pen­si­on Gap noch immer mehr als 40%. Es ist klar\, dass sich vie­les und grund­le­gend was ändern muss. Und den­noch gibt’s kei­ne nur annä­hernd adäqua­ten Maß­nah­men. In ande­ren Län­dern wie Deutsch­land oder Groß­bri­tan­ni­en wird in Care-Sek­to­ren immer öfter gestreikt. In Spa­ni­en oder der Schweiz gibt es seit eini­gen Jah­ren ein­mal pro Jahr einen Frau­en­streik mit gro­ßer Betei­li­gung. Immer mehr stel­len sich auch in Öster­reich die Fra­ge\, ob und wie ein „Streik“ der­je­ni­gen\, die Care-Arbeit – bezahlt oder unbe­zahlt – leis­ten aus­se­hen und gelin­gen könn­te. Wir möch­ten an zwei Aben­den von den Erfah­run­gen in der Schweiz und in Deutsch­land ler­nen. Die­se Online-Ver­an­stal­tun­gen sind der Auf­takt eines Pro­zes­ses\, Mög­lich­kei­ten der Mobi­li­sie­rung in Öster­reich aus­zu­lo­ten. Dazu laden wir herz­lich ein. \nHier geht’s zur Anmeldung. \n28. Febru­ar 2023\, 17.00 – 19.00 \nErfah­run­gen von den Kran­ken­haus­streiks in Ber­lin und Nordrhein-Westfalen \nSil­via Habe­kost\, Kran­ken­pfle­ge­rin\, Mit-Initia­to­rin der Ber­li­ner Krankenhausbewegung \nKatha­ri­na Schwa­be­dis­sen\, Kran­ken­pfle­ge­rin\, orga­ni­sie­rend in Essen und im NRW-Streik \nMode­ra­ti­on: Karin Schus­ter\, DGKP\, Pfle­ge­stütz­punkt 3.0 & Ursu­la Nie­diek\, fair sor­gen! Graz
URL:https://8maerz.at/veranstaltung/auf-dem-weg-zu-einem-care-streik-in-oesterreich-teil-2/
LOCATION:Online\, Wien\, Österreich
END:VEVENT
END:VCALENDAR