BEGIN:VCALENDAR
VERSION:2.0
PRODID:-//8. März - ECPv6.15.17.1//NONSGML v1.0//EN
CALSCALE:GREGORIAN
METHOD:PUBLISH
X-WR-CALNAME:8. März
X-ORIGINAL-URL:https://8maerz.at
X-WR-CALDESC:Veranstaltungen für 8. März
REFRESH-INTERVAL;VALUE=DURATION:PT1H
X-Robots-Tag:noindex
X-PUBLISHED-TTL:PT1H
BEGIN:VTIMEZONE
TZID:Europe/Vienna
BEGIN:DAYLIGHT
TZOFFSETFROM:+0100
TZOFFSETTO:+0200
TZNAME:CEST
DTSTART:20210328T010000
END:DAYLIGHT
BEGIN:STANDARD
TZOFFSETFROM:+0200
TZOFFSETTO:+0100
TZNAME:CET
DTSTART:20211031T010000
END:STANDARD
BEGIN:DAYLIGHT
TZOFFSETFROM:+0100
TZOFFSETTO:+0200
TZNAME:CEST
DTSTART:20220327T010000
END:DAYLIGHT
BEGIN:STANDARD
TZOFFSETFROM:+0200
TZOFFSETTO:+0100
TZNAME:CET
DTSTART:20221030T010000
END:STANDARD
BEGIN:DAYLIGHT
TZOFFSETFROM:+0100
TZOFFSETTO:+0200
TZNAME:CEST
DTSTART:20230326T010000
END:DAYLIGHT
BEGIN:STANDARD
TZOFFSETFROM:+0200
TZOFFSETTO:+0100
TZNAME:CET
DTSTART:20231029T010000
END:STANDARD
END:VTIMEZONE
BEGIN:VEVENT
DTSTART;TZID=Europe/Vienna:20220419T180000
DTEND;TZID=Europe/Vienna:20220419T200000
DTSTAMP:20260423T080245
CREATED:20220301T234635Z
LAST-MODIFIED:20220301T234838Z
UID:10003917-1650391200-1650398400@8maerz.at
SUMMARY:Alles was Recht ist - Online-Vortrag mit Diskussionsmöglichkeit
DESCRIPTION:Rechts­fol­gen einer Schei­dung: Unter­halt\, Ali­men­te und ver­mö­gens­recht­li­che Aufteilung \n• Recht­li­che Situa­ti­on in einer Lebens­ge­mein­schaft und bei Auf­lö­sung derselben\n• Fra­gen zur Obsor­ge und zum Kontaktrecht\n• Psy­cho­so­zia­le Aspek­te von Tren­nung und Scheidung\n• Ist Media­ti­on für mich sinnvoll? \nLei­tung: Dr.in Bar­ba­ra Stekl\, Juristin \nAnmel­dung: stekl@frauenberatenfrauen.at\nSie erhal­ten recht­zei­tig vor Beginn einen Link zur Teilnahme.
URL:https://8maerz.at/veranstaltung/alles-was-recht-ist-online-vortrag-mit-diskussionsmoeglichkeit/
LOCATION:Online\, Wien\, Österreich
END:VEVENT
BEGIN:VEVENT
DTSTART;TZID=Europe/Vienna:20220426T180000
DTEND;TZID=Europe/Vienna:20220426T200000
DTSTAMP:20260423T080245
CREATED:20220227T204222Z
LAST-MODIFIED:20220227T204332Z
UID:10003666-1650996000-1651003200@8maerz.at
SUMMARY:Online-Buchpräsentation: "Ist das schon Gewalt?"
DESCRIPTION:Frau­en* bera­ten Frau­en* lädt herz­lich ein zur Prä­sen­ta­ti­on des neu­en Handbuchs \n„IST DAS SCHON GEWALT? GEWALT ERKENNEN UND VERÄNDERN“ \nBit­te um Anmel­dung unter: office@frauenberatenfrauen.at oder 01 587 67 50\nSie erhal­ten den Link zur Ver­an­stal­tung zugesendet. \nGewalt gegen Frau­en* ist nicht das Pro­blem ein­zel­ner\, son­dern ein gesell­schaft­li­ches Pro­blem\, das uns alle betrifft.\nGewalt gegen Frau­en* ist kei­ne „Pri­vat­sa­che“\, son­dern eine all­täg­li­che Menschenrechtsverletzung. \nIm Fokus der öffent­li­chen Auf­merk­sam­keit steht meist nur die offen- sicht­li­che kör­per­li­che Gewalt und deren extrems­te Kon­se­quenz\, der Frau­en­mord. Wir wol­len mit die­sem Hand­buch die vie­len For­men von Gewalt sicht­bar machen – psy­chi­sche\, phy­si­sche\, sexua­li­sier­te\, öko­no­mi­sche\, sym­bo­li­sche\, struk­tu­rel­le und insti­tu­tio­nel­le Gewalt sowie Gewalt im digi­ta­len Raum – und Hand­lungs­mög­lich­kei­ten und Stra­te­gien gegen Gewalt diskutieren. \nWie kön­nen wir Gewalt früh­zei­tig erken­nen und benennen?\nWie kön­nen Betrof­fe­ne sich weh­ren und schützen?\nWie kön­nen wir Frau­en*\, die Gewalt erle­ben\, sinn­voll unterstützen?\nWie stärkt femi­nis­ti­sche Bera­tung Frau­en* in ihrer Handlungsfähigkeit?\nWas braucht es auf gesell­schaft­li­cher Ebe­ne\, um geschlechts­spe­zi­fi­sche Gewalt ein­deu­tig zu ver­ur­tei­len und prä­ven­tiv dage­gen zu wirken? \nDas Hand­buch ist hier down­load­bar: https://www.frauenberatenfrauen.at/download/FBF-Handbuch-final-Screen.pdf
URL:https://8maerz.at/veranstaltung/online-buchpraesentation-ist-das-schon-gewalt/
LOCATION:Online\, Wien\, Österreich
END:VEVENT
END:VCALENDAR