BEGIN:VCALENDAR
VERSION:2.0
PRODID:-//8. März - ECPv6.15.17.1//NONSGML v1.0//EN
CALSCALE:GREGORIAN
METHOD:PUBLISH
X-WR-CALNAME:8. März
X-ORIGINAL-URL:https://8maerz.at
X-WR-CALDESC:Veranstaltungen für 8. März
REFRESH-INTERVAL;VALUE=DURATION:PT1H
X-Robots-Tag:noindex
X-PUBLISHED-TTL:PT1H
BEGIN:VTIMEZONE
TZID:Europe/Vienna
BEGIN:DAYLIGHT
TZOFFSETFROM:+0100
TZOFFSETTO:+0200
TZNAME:CEST
DTSTART:20210328T010000
END:DAYLIGHT
BEGIN:STANDARD
TZOFFSETFROM:+0200
TZOFFSETTO:+0100
TZNAME:CET
DTSTART:20211031T010000
END:STANDARD
BEGIN:DAYLIGHT
TZOFFSETFROM:+0100
TZOFFSETTO:+0200
TZNAME:CEST
DTSTART:20220327T010000
END:DAYLIGHT
BEGIN:STANDARD
TZOFFSETFROM:+0200
TZOFFSETTO:+0100
TZNAME:CET
DTSTART:20221030T010000
END:STANDARD
BEGIN:DAYLIGHT
TZOFFSETFROM:+0100
TZOFFSETTO:+0200
TZNAME:CEST
DTSTART:20230326T010000
END:DAYLIGHT
BEGIN:STANDARD
TZOFFSETFROM:+0200
TZOFFSETTO:+0100
TZNAME:CET
DTSTART:20231029T010000
END:STANDARD
END:VTIMEZONE
BEGIN:VEVENT
DTSTART;TZID=Europe/Vienna:20220207T180000
DTEND;TZID=Europe/Vienna:20220207T200000
DTSTAMP:20260423T102520
CREATED:20220204T155413Z
LAST-MODIFIED:20220204T155413Z
UID:10003863-1644256800-1644264000@8maerz.at
SUMMARY:Online Round Table: Ending Female Genital Mutilation
DESCRIPTION:Ending Female Genital Mutilation: Österreichische und internationale Initiativen im Kampf gegen weibliche Genitalverstümmelung\nUN Women lädt zum Round Table anläss­lich des Inter­na­tio­na­len Tags gegen weib­li­che Geni­tal­ver­stüm­me­lung mit der Abge­ord­ne­ten Petra Bayr\, MA MLS zum The­ma „Ending Fema­le Geni­tal Muti­la­ti­on: Öster­rei­chi­sche und inter­na­tio­na­le Initia­ti­ven im Kampf gegen weib­li­che Genitalverstümmelung“. \nDer vir­tu­el­le Round Table fin­det am Mon­tag\, 7. Febru­ar 2022 um 18:00 Uhr als Zoom-Video­kon­fe­renz statt. \nLaut UN Women sind welt­weit 200 Mio. Frau­en und Mäd­chen in 31 Län­dern von weib­li­cher Geni­tal­ver­stüm­me­lung (FGM) betrof­fen\, wobei von einer jähr­li­chen Zunah­me von etwa 4 Mio. aus­ge­gan­gen wird. Dass der Kampf gegen FGM ins­be­son­de­re wäh­rend der Coro­na-Pan­de­mie gebo­ten ist\, weiß Abge­ord­ne­te Petra Bayr zu berich­ten\, die sich seit Jah­ren gegen weib­li­che Geni­tal­ver­stüm­me­lung einsetzt. \nBit­te mel­den Sie sich unter fol­gen­dem Link zum vir­tu­el­len Round Table an: https://us06web.zoom.us/meeting/register/tZEkcOqspzopGdVGUr-CtKP0bOKlICFJ75_J \nNach der Regis­trie­rung erhal­ten Sie den Link zur Zoom-Video­kon­fe­renz per Mail zugeschickt.
URL:https://8maerz.at/veranstaltung/online-round-table-ending-female-genital-mutilation/
LOCATION:Online\, Wien\, Österreich
END:VEVENT
BEGIN:VEVENT
DTSTART;TZID=Europe/Vienna:20220214T150000
DTEND;TZID=Europe/Vienna:20220214T170000
DTSTAMP:20260423T102520
CREATED:20220130T211404Z
LAST-MODIFIED:20220130T211404Z
UID:10003620-1644850800-1644858000@8maerz.at
SUMMARY:Webinar: Gemeinsam statt einsam?!
DESCRIPTION:Webinar zu feministisch-solidarischem Handeln in der Wissenschaft\nDie Arbeits­be­din­gun­gen an Uni­ver­si­tä­ten\, ins­be­son­de­re die Befris­tung von Arbeits­ver­trä­gen und das Feh­len von Kar­rie­re-Optio­nen\, ver­ur­sa­chen häu­fig Stress\, Unsi­cher­heit und Pre­ka­ri­tät. In der Wis­sen­schaft wird allen nahe­ge­legt\, ihr «Genie» zum Aus­druck zu brin­gen und nach Exzel­lenz zu stre­ben. Weil aber nur eini­ge weni­ge eine «exzel­len­te» Eli­te for­men kön­nen\, wer­den wir ange­hal­ten\, uns gegen­sei­tig als Konkurrent*innen zu sehen. Das sind kei­ne guten Vor­aus­set­zun­gen für ein soli­da­ri­sches Han­deln. Und die „gie­ri­ge“ Insti­tu­ti­on Wis­sen­schaft for­dert impli­zit von Wissenschafter*innen\, sich der «Beru­fung» Wis­sen­schaft zu ver­schrei­ben\, was kaum Raum für ande­re Lebens­be­rei­che lässt. Die (frag­wür­di­ge) Vor­stel­lung „des idea­len Wis­sen­schaf­ters“ [sic!] ist daher auch ein ver­geis­tig­ter\, wei­ßer\, bür­ger­li­cher Mann ohne kör­per­li­che Bedürf­nis­se\, ande­ren Ver­pflich­tun­gen oder Sor­gen. (Ange­hen­de) Wissenschafter*innen\, deren Lebens­rea­li­tä­ten sol­chen Norm­vor­stel­lun­gen wider­spre­chen\, sto­ßen dem­entspre­chend lau­fend auf Bar­rie­ren. Ein Kli­ma des Miss­trau­ens\, der Ver­ein­ze­lung und des Kon­kur­renz­drucks ist daher oft üblich.\nEine ande­re Wis­sen­schaft ist jedoch möglich. \nIm Web­i­nar soll daher gemein­sam fol­gen­den Fra­gen nach­ge­gan­gen und dabei Spiel­räu­me aus­ge­lo­tet und erschlos­sen werden: \nWie kön­nen wir ange­sichts von Ver­ein­ze­lung\, Indi­vi­dua­li­sie­rung & Kon­kur­renz­druck mit­ein­an­der soli­da­risch sein?\nWie kön­nen wir ange­sichts pre­kä­rer Arbeits­ver­hält­nis­se und bestehen­der Macht- und Herr­schafts­struk­tu­ren den Mut für soli­da­ri­sches Han­deln finden?\nWel­che Dis­kri­mi­nie­rungs­er­fah­run­gen\, wel­che Pri­vi­le­gi­en prä­gen unse­re Handlungsspielräume?\nWel­che Hier­ar­chien und Macht­un­gleich­hei­ten zwi­schen uns müs­sen wir dis­ku­tie­ren\, um soli­da­risch Han­deln zu können? \nEs spre­chen (in alpha­be­ti­scher Reihenfolge):\nMery­em Chou­kri\, M.A.\nMMag.a* Utta Isop\nDr.in Ange­la Wegscheider \nOrganisator:innen:\nDr.in Dag­mar Fink\nDr.in Eli­sa­beth Anna Günther\nDr.in Vik­to­ri­ja Ratković \nAnmel­dung vie Event­bri­te: Link
URL:https://8maerz.at/veranstaltung/webinar-gemeinsam-statt-einsam/
LOCATION:Online\, Wien\, Österreich
END:VEVENT
BEGIN:VEVENT
DTSTART;TZID=Europe/Vienna:20220224T173000
DTEND;TZID=Europe/Vienna:20220224T200000
DTSTAMP:20260423T102520
CREATED:20220212T231942Z
LAST-MODIFIED:20220212T231942Z
UID:10003872-1645723800-1645732800@8maerz.at
SUMMARY:Online-Workshop: Mehr für CARE! Wirtschaften fürs Leben
DESCRIPTION:Online-Workshop: Mehr für CARE! Wirtschaften fürs Leben\nmit Dr.in Eli­sa­beth Klat­zer und DIin Angie Weikmann \nOhne Care-Arbeit steht alles still. Das hat beson­ders auch die Pan­de­mie auf­ge­zeigt. Die Kos­ten und Belas­tun­gen durch die Coro­na-Kri­se sind ungleich ver­teilt\, eben­so wie die Hil­fen der Regie­rung. Wir wol­len das nicht wei­ter hin­neh­men und for­dern Mehr für Care! Denn es ist höchs­te Zeit\, dass sich vie­les ändert! \nWel­che Vor­schlä­ge hat Mehr für Care! um ein gutes Leben für alle zu ermög­li­chen? Was braucht’s um Sor­ge­ar­beit ins Zen­trum des Wirt­schaf­tens zu brin­gen? Wie sieht eine geschlech­ter­ge­rech­te Bud­get- und Wirt­schafts­po­li­tik aus? Die­sen Fra­gen gehen wir in unse­rem Work­shop nach. Und: Wie ent­wi­ckeln wir den lan­gen Atem\, den wir brau­chen\, um die Welt nach­hal­tig ein Stück bes­ser zu machen? Wie wer­den wir mehr? Wie kön­nen wir die drin­gend nöti­gen Ver­än­de­run­gen errei­chen? Wie gehen wir es an? Wie gewin­nen wir Ver­bün­de­te für unser Vor­ha­ben? Wie pla­nen wir Aktivitäten? \nDie Refe­ren­tin­nen wer­den Hin­ter­grün­de und Mecha­nis­men ana­ly­sie­ren\, die bewir­ken\, dass Frau­en die Kos­ten für die Kri­se auf­ge­bür­det wer­den. Und sie wer­den auf­zei­gen\, dass es auch anders geht\, dass Inves­ti­tio­nen in Bil­dung\, Kin­der­be­treu­ung\, Pfle­ge und Gesund­heit – wie sie von Mehr für Care! vor­ge­schla­gen wer­den – leist­bar und not­wen­dig sind. \nWir wol­len mit dem Work­shop in einen gemein­sa­men Aus­tausch kom­men. Und auch wei­ter­spin­nen\, wie wir im Raum Wien Mehr für Care! stär­ken können. \nOnline via Zoom – den Link erhältst du nach Anmel­dung an info@mehr-fuer-care.at
URL:https://8maerz.at/veranstaltung/online-workshop-mehr-fuer-care-wirtschaften-fuers-leben/
LOCATION:Online\, Wien\, Österreich
END:VEVENT
BEGIN:VEVENT
DTSTART;TZID=Europe/Vienna:20220225T140000
DTEND;TZID=Europe/Vienna:20220225T180000
DTSTAMP:20260423T102520
CREATED:20220221T225609Z
LAST-MODIFIED:20220221T225830Z
UID:10003895-1645797600-1645812000@8maerz.at
SUMMARY:Online-Workshop: WikiGAP 2022
DESCRIPTION:Frau­en sind immer noch unter­re­prä­sen­tiert auf Wikipedia.\nObwohl Wiki­pe­dia allen zum Mit­ma­chen und Bear­bei­ten offen­steht\, machen Frau­en gemäß Schät­zun­gen nur etwa zehn Pro­zent der akti­ven Frei­wil­li­gen aus. Und auch die Inhal­te auf Wiki­pe­dia sind weit von Gleich­be­rech­ti­gung ent­fernt: Die Bio­gra­phien vie­ler wich­ti­ger Frau­en feh­len genau­so wie die von ande­ren mar­gi­na­li­sier­ten Grup­pen wie etwa Men­schen des glo­ba­len Südens oder LSBTTIQ-Personen. \nDie Kam­pa­gne #Wiki­Gap wird seit 2018 vom Schwe­di­schen Außen­mi­nis­te­ri­um in Zusam­men­ar­beit mit Wiki­me­dia-Zwei­gen in ver­schie­de­nen Län­dern orga­ni­siert\, um die Sicht­bar­keit von Frau­en und quee­ren Men­schen im Inter­net zu erhöhen. \nDie­ses Jahr wol­len wir Frau­en und que­e­re Per­so­nen in der Wis­sen­schaft sicht­bar machen.Hast du Inter­es­se\, Arti­kel über Wissenschaftler*innen zu schrei­ben\, zu ver­bes­sern oder zu übersetzen? \nAm 25. Febru­ar 2022 von 14:00 bis 18:00 ver­an­stal­ten die Schwe­di­schen Bot­schaf­ten in Deutsch­land\, Öster­reich und der Schweiz gemein­sam mit Wiki­me­dia Deutsch­land\, Wiki­me­dia Öster­reich und Wiki­me­dia Schweiz einen Online-Work­shop\, um neue Autor*innen für Wiki­pe­dia zu gewin­nen. Auch bestehen­de Wikipedia-Autor*innen sind zum Work­shop und zum Bear­bei­ten von Arti­keln über Frau­en und que­e­re Per­so­nen in der Wis­sen­schaft eingeladen. \nBit­te mel­de dich vor 23. Febru­ar an! Nach Bestä­ti­gung dei­ner Anmel­dung erhältst du von uns Infos zum Work­shop und einen Zoom-Link.
URL:https://8maerz.at/veranstaltung/online-workshop-wikigap-2022/
LOCATION:Online\, Wien\, Österreich
END:VEVENT
BEGIN:VEVENT
DTSTART;TZID=Europe/Vienna:20220228T170000
DTEND;TZID=Europe/Vienna:20220228T200000
DTSTAMP:20260423T102520
CREATED:20220227T145348Z
LAST-MODIFIED:20220227T145427Z
UID:10003661-1646067600-1646078400@8maerz.at
SUMMARY:Online-Workshop: Mentale und verbale Selbstverteidigung gegen sexuelle Belästigung im öffentlichen Raum
DESCRIPTION:Im Work­shop zur ver­ba­len und men­ta­len Selbst­ver­tei­di­gung gegen sexu­el­le Beläs­ti­gung im öffent­li­chen Raum ler­nen Frau­en\, Les­ben\, Inter‑\, Nicht-Binär\, Trans- und Agen­der-Per­so­nen (FLINTA) sich gegen sexis­ti­sche Dis­kri­mi­nie­rung zu weh­ren und (für sich) bes­ser mit sexu­el­ler Beläs­ti­gung umzu­ge­hen. Teilnehmer_innen wer­den über die recht­li­che Lage zu sexu­el­ler Beläs­ti­gung in Öster­reich infor­miert und über Insti­tu­tio­nen\, an die mensch sich wen­den kann. \nDer Work­shop soll einen Safe Space bie­ten\, um Erfah­run­gen aus­zu­tau­schen und von- und mit­ein­an­der zu ler­nen. Es wird über Coping-Stra­te­gien\, Reak­ti­ons­mög­lich­kei­ten und men­ta­le After-Care gespro­chen. Auch die Roten Kar­ten\, ein Tool als Reak­ti­on auf sexu­el­le Beläs­ti­gung im öffent­li­chen Raum\, wer­den vor­ge­stellt und Teilnehmer_innen zur Ver­fü­gung gestellt (www.respect-existence.at). \nDer Work­shop wird in deut­scher Laut­spra­che abge­hal­ten\, soll­test du eine Über­set­zung auf Eng­lisch oder ÖGS brau­chen schreib uns bit­te ein kur­zes Mail.\nZur Anmel­dung schick bit­te bis 14.02.22 ein Mail an femref@oeh.ac.at.
URL:https://8maerz.at/veranstaltung/online-workshop-mentale-und-verbale-selbstverteidigung-gegen-sexuelle-belaestigung-im-oeffentlichen-raum/
LOCATION:Online\, Wien\, Österreich
END:VEVENT
END:VCALENDAR