BEGIN:VCALENDAR
VERSION:2.0
PRODID:-//8. März - ECPv6.15.17.1//NONSGML v1.0//EN
CALSCALE:GREGORIAN
METHOD:PUBLISH
X-WR-CALNAME:8. März
X-ORIGINAL-URL:https://8maerz.at
X-WR-CALDESC:Veranstaltungen für 8. März
REFRESH-INTERVAL;VALUE=DURATION:PT1H
X-Robots-Tag:noindex
X-PUBLISHED-TTL:PT1H
BEGIN:VTIMEZONE
TZID:Europe/Vienna
BEGIN:DAYLIGHT
TZOFFSETFROM:+0100
TZOFFSETTO:+0200
TZNAME:CEST
DTSTART:20230326T010000
END:DAYLIGHT
BEGIN:STANDARD
TZOFFSETFROM:+0200
TZOFFSETTO:+0100
TZNAME:CET
DTSTART:20231029T010000
END:STANDARD
BEGIN:DAYLIGHT
TZOFFSETFROM:+0100
TZOFFSETTO:+0200
TZNAME:CEST
DTSTART:20240331T010000
END:DAYLIGHT
BEGIN:STANDARD
TZOFFSETFROM:+0200
TZOFFSETTO:+0100
TZNAME:CET
DTSTART:20241027T010000
END:STANDARD
BEGIN:DAYLIGHT
TZOFFSETFROM:+0100
TZOFFSETTO:+0200
TZNAME:CEST
DTSTART:20250330T010000
END:DAYLIGHT
BEGIN:STANDARD
TZOFFSETFROM:+0200
TZOFFSETTO:+0100
TZNAME:CET
DTSTART:20251026T010000
END:STANDARD
END:VTIMEZONE
BEGIN:VEVENT
DTSTART;TZID=Europe/Vienna:20240306T200000
DTEND;TZID=Europe/Vienna:20240306T220000
DTSTAMP:20260420T234429
CREATED:20240121T204523Z
LAST-MODIFIED:20240121T204523Z
UID:10004062-1709755200-1709762400@8maerz.at
SUMMARY:Gastspiel: MAMA LOVE
DESCRIPTION:MAMA LOVE\nvon und mit Lea Whitcher\nGast­spiel | FEM*EXCHANGE – Femi­nis­ti­scher Diskurs\nBeginn: Mi\, 06. Mrz. 2024 | 20:00 \nKar­ten: Der Vor­ver­kauf star­tet regu­lär 4 Wochen vor dem ers­ten Vorstellungstermin. \nDie Kunst­fi­gur Lea Blair Whit­cher spielt mit der Absur­di­tät von idea­li­sier­ten und toxi­schen Mut­ter­bil­dern und unter­sucht ihre eige­nen Ver­stri­ckun­gen dar­in. Sie ver­webt bio­gra­phi­sche Erfah­run­gen mit aktu­el­len Dis­kur­sen über Mut­ter­schaft und ent­wirft uto­pi­sche Lebens­mo­del­le in einer Gesell­schaft jen­seits des Patri­ar­chats. Sie spielt mit den Mit­teln von Stand-Up-Come­dy\, dekon­stru­iert die­se aber gleich­zei­tig auch: All­tags­si­tua­tio­nen und gesell­schaft­li­che Kli­schees wer­den humo­ris­tisch ver­han­delt. Die Reflek­ti­on dar­über\, was wir lus­tig fin­den und war­um wir lachen\, wird femi­nis­tisch kon­tex­tua­li­siert. Eine abgrün­dig-humo­ris­ti­sche One-Woman-Show. \nKonzept/Text/Performance: Lea Whit­cher | Dra­ma­tur­gie: Kath­rin Veser | Out­side Eye: Fabi­en­ne Hadorn | Pro­duk­ti­on/­Tour-Manage­ment: Kath­rin Wal­de | Musik: Mare­na Whit­cher\, Max Whit­cher | Kos­tüm: Lydia Sonderegger
URL:https://8maerz.at/veranstaltung/gastspiel-mama-love/
LOCATION:KosmosTheater\, Siebensterngasse 42\, Wien\, 1070
GEO:48.2023843;16.3514542
X-APPLE-STRUCTURED-LOCATION;VALUE=URI;X-ADDRESS=KosmosTheater Siebensterngasse 42 Wien 1070;X-APPLE-RADIUS=500;X-TITLE=Siebensterngasse 42:geo:16.3514542,48.2023843
END:VEVENT
BEGIN:VEVENT
DTSTART;TZID=Europe/Vienna:20240307T190000
DTEND;TZID=Europe/Vienna:20240307T210000
DTSTAMP:20260420T234429
CREATED:20240205T203354Z
LAST-MODIFIED:20240205T203629Z
UID:10004094-1709838000-1709845200@8maerz.at
SUMMARY:Ganz schön mächtig. Geschlechterverhältnisse am Theater
DESCRIPTION:Gespräch zum inter­na­tio­na­len Frauen*tag 2024 \nDo.\, 7.3.2024 | 19:00 Uhr\nMax Rein­hardt Semi­nar\, Insti­tut für Schau­spiel und Schauspielregie/mdw & online\, Neue Studiobühne/Palais Cum­ber­land | Pen­zin­ger Stra­ße 9\, 1140 Wien \nAnläss­lich des femi­nis­ti­schen Inter­na­tio­na­len Frau­en­tags spricht Alex­an­dra Alhoff\, stv. Insti­tuts­lei­tung am Max Rein­hardt Semi­nar\, mit Bet­ti­na Hering\, Regis­seu­rin\, Dra­ma­tur­gin und zuletzt ver­ant­wort­lich für das Schau­spiel bei den Salz­bur­ger Fest­spie­len\, Petra Pater­no\, Mit­her­aus­ge­be­rin der Publi­ka­ti­on „Sta­tus Quo­te. Thea­ter im Umbruch: Regis­seu­rin­nen im Gespräch“ sowie Julia Wis­sert\, Inten­dan­tin am Schau­spiel Dortmund. \nÜbe​​​​​​​r Geschlech­ter­ver­hält­nis­se zu spre­chen\, bedeu­tet über Macht­ver­hält­nis­se zu spre­chen. In dem hier­ar­chisch und patri­ar­chal gepräg­ten Sys­tem des Thea­ter­be­triebs zie­hen sich Geschlech­ter­ver­hält­nis­se durch alle Arbeits­be­rei­che\, sind jedoch ganz unter­schied­lich ver­teilt – je höher oben auf der Hier­ar­chie­lei­ter und je grö​​​​​​​ßer Macht\, Ein­fluss\, künst­le­ri­scher Gestal­tungs­spiel­raum und Gehalt\, des­to weni­ger Frau­en sind in die­sen Posi­tio­nen zu finden. \nDie For­de­rung einer Frau­en­quo­te\, wie sie etwa 2020 beim Ber­li­ner Thea­ter­tref­fen für die aus­ge­wähl­ten Regie­po­si­tio­nen ein­ge­führt wur­de\, ist eine von vie­len wirk­sa­men Schrit­ten\, um gegen Geschlech­ter­un­gleich­hei­ten vorzugehen. \nEs braucht viel­schich­ti­ge und nach­hal­ti­ge Stra­te­gien und Maß­nah­men\, um struk­tu­rel­len Benach­tei­li­gun­gen ent­ge­gen­zu­wir­ken und Ver­än­de­run­gen hin zu mehr Gleich­stel­lung\, Reprä­sen­ta­ti­on und Teil­ha­be zu ermög­li­chen; Ver­än­de­run­gen\, die bereits im Aus­bil­dungs­kon­text anset­zen müssen. \nEine Ver­an­stal­tung der Stab­stel­le Gleich­stel­lung\, Gen­der Stu­dies und Diver­si­tät (GGD) in Koope­ra­ti­on mit dem Max Rein­hardt Seminar. \nEin­tritt frei.
URL:https://8maerz.at/veranstaltung/ganz-schoen-maechtig-geschlechterverhaeltnisse-am-theater/
LOCATION:Max Reinhardt Seminar\, Penzinger Straße 9\, Wien\, 1140
ORGANIZER;CN="mdw %E2%80%93 Universit%C3%A4t f%C3%BCr Musik und darstellende Kunst":MAILTO:https://www.mdw.ac.at
END:VEVENT
BEGIN:VEVENT
DTSTART;TZID=Europe/Vienna:20240315T200000
DTEND;TZID=Europe/Vienna:20240315T220000
DTSTAMP:20260420T234429
CREATED:20240210T212216Z
LAST-MODIFIED:20240210T212216Z
UID:10004117-1710532800-1710540000@8maerz.at
SUMMARY:What the hell is LUVOS? (Gastspiel)
DESCRIPTION:WHAT THE HELL IS LUVOS?\nGast­spiel der edit­ta braun company\nBeginn: Fr\, 15. Mrz. 2024 | 20:00 \nIn fast 40 Jah­ren als Cho­reo­gra­fin und Tän­ze­rin hat Edit­ta Braun mit LUVOS eine ganz eige­ne Form weib­li­chen Kör­pe­ril­lu­si­ons­thea­ters ent­wi­ckelt. In sechs Tanz­stü­cken in Sze­ne gesetzt\, wur­de der Stil welt­weit gezeigt und unter­rich­tet. Das Kos­mos Thea­ter zeigt nun eine abend­fül­len­de Hom­mage dazu: Live auf der Büh­ne wird das LUVOS-Gesamt­kunst­werk HYDRÁOS zu sehen sein\, eine lyri­sche Phan­ta­sie über die Evo­lu­ti­on\, die Sehen und Den­ken vom Anthro­po­zen­tris­mus zu befrei­en versucht. \nAnschlie­ßend zei­gen wir den Film LUVOS MIGRATIONS\, der bereits viel­fach auf inter­na­tio­na­len Fes­ti­vals ver­tre­ten war. Ein Artist-Talk und der kur­ze Doku­men­ta­ti­ons­film WHAT THE HELL IS LUVOS? über die Geschich­te der LUVOS-Ästhe­tik run­den das Pro­gramm ab. \nCho­reo­gra­fie\, künst­le­ri­sche Lei­tung: Edit­ta Braun | Kom­po­si­ti­on\, Arran­ge­ments: Thier­ry Zaboitz­eff | Licht­de­sign: Tho­mas Hinterberger \nTanz: Sonia Bor­ko­wicz\, Weng-Teng Choi-But­tin­ger\, Simo­na Štangová
URL:https://8maerz.at/veranstaltung/what-the-hell-is-luvos-gastspiel/
LOCATION:KosmosTheater\, Siebensterngasse 42\, Wien\, 1070
GEO:48.2023843;16.3514542
X-APPLE-STRUCTURED-LOCATION;VALUE=URI;X-ADDRESS=KosmosTheater Siebensterngasse 42 Wien 1070;X-APPLE-RADIUS=500;X-TITLE=Siebensterngasse 42:geo:16.3514542,48.2023843
END:VEVENT
BEGIN:VEVENT
DTSTART;TZID=Europe/Vienna:20240318T200000
DTEND;TZID=Europe/Vienna:20240318T213000
DTSTAMP:20260420T234429
CREATED:20240210T211346Z
LAST-MODIFIED:20240210T211532Z
UID:10004114-1710792000-1710797400@8maerz.at
SUMMARY:Ahnfrauen (Wiederaufnahme)
DESCRIPTION:AHNFRAUEN\nUrauf­füh­rung | Kopro­duk­ti­on mit Die Rabtaldirndln\nPre­mie­re: Do\, 02. Feb. 2023 | 20:00\nDau­er: ca. 90 min. \nKar­ten für die Wie­der­auf­nah­me (18./19./20. März 2024): Der Vor­ver­kauf star­tet regu­lär 4 Wochen vor dem ers­ten Vorstellungstermin. \nNESTROYPREIS 2023: BESTE OFF-PRODUKTION \nder lus­tigs­te und einer der berüh­rends­ten Thea­ter­mo­men­te der Saison\n(Mar­tin Tho­mas Pesl\, Nestroy-Jury) \nDie Rab­tal­dirndln fra­gen in AHNFRAUEN nach ihren Wur­zeln und dem Ursprung ihrer Gefüh­le\, Ängs­te und Vor­lie­ben. Woher kommt das alles\, wer hat da ihre Spu­ren hin­ter­las­sen? Die Rab­tal­dirndln legen sich auf das müt­ter­li­che Sofa und gra­ben sich in den weib­li­chen Urschlamm. \nBegin­nen wir mit der Ver­gan­gen­heit. Wie sehr ent­spre­chen die vier Müt­ter dem\, was mit dem Urbild der Mut­ter ver­bun­den wird? Was hat­ten sie für Erwar­tun­gen an sich als Mut­ter? Woll­ten sie den tra­di­tio­nel­len Bil­dern ent­spre­chen\, oder woll­ten sie es „ganz anders“ machen? Wie sehr ist ihnen gelun­gen\, was sie sich vor­ge­nom­men haben? Oder haben sie sich viel­leicht gar nichts vor­ge­nom­men? Die Rab­tal­dirndln befra­gen ihre Müt­ter ohne Scham\, ohne Angst\, ohne Tabus und zei­gen damit die Grä­ben zwi­schen Kon­struk­ti­on und Rea­li­tät auf. \nRegie: Nad­ja Brach­vo­gel | Kon­zept\, Text & Umset­zung: Die Rab­tal­dirndln\, Nad­ja Brach­vo­gel | Büh­ne & Kos­tüm: Lisa Hor­vath | Dra­ma­tur­gie: Mar­tin Brach­vo­gel | Regie­as­sis­tenz: Azlea Wriess­nig | Video: Andrea Scha­ber­nack\, Nata­lie Pin­ter | Pro­duk­ti­ons­lei­tung: Die Rab­tal­dirndln | Tech­nik: Tom Berg­ner\, Dul­ci Jan\, Karl Bör­ner\, Vale­rie Keller \nPer­for­me­rin­nen: Bar­ba­ra Car­li\, Rosa Degen-Faschin­ger\, Bea Der­mond\, Gud­run Maier
URL:https://8maerz.at/veranstaltung/ahnfrauen-wiederaufnahme-2/2024-03-18/
LOCATION:KosmosTheater\, Siebensterngasse 42\, Wien\, 1070
GEO:48.2023843;16.3514542
X-APPLE-STRUCTURED-LOCATION;VALUE=URI;X-ADDRESS=KosmosTheater Siebensterngasse 42 Wien 1070;X-APPLE-RADIUS=500;X-TITLE=Siebensterngasse 42:geo:16.3514542,48.2023843
END:VEVENT
BEGIN:VEVENT
DTSTART;TZID=Europe/Vienna:20240319T200000
DTEND;TZID=Europe/Vienna:20240319T213000
DTSTAMP:20260420T234429
CREATED:20240210T211346Z
LAST-MODIFIED:20240210T211532Z
UID:10004115-1710878400-1710883800@8maerz.at
SUMMARY:Ahnfrauen (Wiederaufnahme)
DESCRIPTION:AHNFRAUEN\nUrauf­füh­rung | Kopro­duk­ti­on mit Die Rabtaldirndln\nPre­mie­re: Do\, 02. Feb. 2023 | 20:00\nDau­er: ca. 90 min. \nKar­ten für die Wie­der­auf­nah­me (18./19./20. März 2024): Der Vor­ver­kauf star­tet regu­lär 4 Wochen vor dem ers­ten Vorstellungstermin. \nNESTROYPREIS 2023: BESTE OFF-PRODUKTION \nder lus­tigs­te und einer der berüh­rends­ten Thea­ter­mo­men­te der Saison\n(Mar­tin Tho­mas Pesl\, Nestroy-Jury) \nDie Rab­tal­dirndln fra­gen in AHNFRAUEN nach ihren Wur­zeln und dem Ursprung ihrer Gefüh­le\, Ängs­te und Vor­lie­ben. Woher kommt das alles\, wer hat da ihre Spu­ren hin­ter­las­sen? Die Rab­tal­dirndln legen sich auf das müt­ter­li­che Sofa und gra­ben sich in den weib­li­chen Urschlamm. \nBegin­nen wir mit der Ver­gan­gen­heit. Wie sehr ent­spre­chen die vier Müt­ter dem\, was mit dem Urbild der Mut­ter ver­bun­den wird? Was hat­ten sie für Erwar­tun­gen an sich als Mut­ter? Woll­ten sie den tra­di­tio­nel­len Bil­dern ent­spre­chen\, oder woll­ten sie es „ganz anders“ machen? Wie sehr ist ihnen gelun­gen\, was sie sich vor­ge­nom­men haben? Oder haben sie sich viel­leicht gar nichts vor­ge­nom­men? Die Rab­tal­dirndln befra­gen ihre Müt­ter ohne Scham\, ohne Angst\, ohne Tabus und zei­gen damit die Grä­ben zwi­schen Kon­struk­ti­on und Rea­li­tät auf. \nRegie: Nad­ja Brach­vo­gel | Kon­zept\, Text & Umset­zung: Die Rab­tal­dirndln\, Nad­ja Brach­vo­gel | Büh­ne & Kos­tüm: Lisa Hor­vath | Dra­ma­tur­gie: Mar­tin Brach­vo­gel | Regie­as­sis­tenz: Azlea Wriess­nig | Video: Andrea Scha­ber­nack\, Nata­lie Pin­ter | Pro­duk­ti­ons­lei­tung: Die Rab­tal­dirndln | Tech­nik: Tom Berg­ner\, Dul­ci Jan\, Karl Bör­ner\, Vale­rie Keller \nPer­for­me­rin­nen: Bar­ba­ra Car­li\, Rosa Degen-Faschin­ger\, Bea Der­mond\, Gud­run Maier
URL:https://8maerz.at/veranstaltung/ahnfrauen-wiederaufnahme-2/2024-03-19/
LOCATION:KosmosTheater\, Siebensterngasse 42\, Wien\, 1070
GEO:48.2023843;16.3514542
X-APPLE-STRUCTURED-LOCATION;VALUE=URI;X-ADDRESS=KosmosTheater Siebensterngasse 42 Wien 1070;X-APPLE-RADIUS=500;X-TITLE=Siebensterngasse 42:geo:16.3514542,48.2023843
END:VEVENT
BEGIN:VEVENT
DTSTART;TZID=Europe/Vienna:20240320T200000
DTEND;TZID=Europe/Vienna:20240320T213000
DTSTAMP:20260420T234429
CREATED:20240210T211346Z
LAST-MODIFIED:20240210T211532Z
UID:10004116-1710964800-1710970200@8maerz.at
SUMMARY:Ahnfrauen (Wiederaufnahme)
DESCRIPTION:AHNFRAUEN\nUrauf­füh­rung | Kopro­duk­ti­on mit Die Rabtaldirndln\nPre­mie­re: Do\, 02. Feb. 2023 | 20:00\nDau­er: ca. 90 min. \nKar­ten für die Wie­der­auf­nah­me (18./19./20. März 2024): Der Vor­ver­kauf star­tet regu­lär 4 Wochen vor dem ers­ten Vorstellungstermin. \nNESTROYPREIS 2023: BESTE OFF-PRODUKTION \nder lus­tigs­te und einer der berüh­rends­ten Thea­ter­mo­men­te der Saison\n(Mar­tin Tho­mas Pesl\, Nestroy-Jury) \nDie Rab­tal­dirndln fra­gen in AHNFRAUEN nach ihren Wur­zeln und dem Ursprung ihrer Gefüh­le\, Ängs­te und Vor­lie­ben. Woher kommt das alles\, wer hat da ihre Spu­ren hin­ter­las­sen? Die Rab­tal­dirndln legen sich auf das müt­ter­li­che Sofa und gra­ben sich in den weib­li­chen Urschlamm. \nBegin­nen wir mit der Ver­gan­gen­heit. Wie sehr ent­spre­chen die vier Müt­ter dem\, was mit dem Urbild der Mut­ter ver­bun­den wird? Was hat­ten sie für Erwar­tun­gen an sich als Mut­ter? Woll­ten sie den tra­di­tio­nel­len Bil­dern ent­spre­chen\, oder woll­ten sie es „ganz anders“ machen? Wie sehr ist ihnen gelun­gen\, was sie sich vor­ge­nom­men haben? Oder haben sie sich viel­leicht gar nichts vor­ge­nom­men? Die Rab­tal­dirndln befra­gen ihre Müt­ter ohne Scham\, ohne Angst\, ohne Tabus und zei­gen damit die Grä­ben zwi­schen Kon­struk­ti­on und Rea­li­tät auf. \nRegie: Nad­ja Brach­vo­gel | Kon­zept\, Text & Umset­zung: Die Rab­tal­dirndln\, Nad­ja Brach­vo­gel | Büh­ne & Kos­tüm: Lisa Hor­vath | Dra­ma­tur­gie: Mar­tin Brach­vo­gel | Regie­as­sis­tenz: Azlea Wriess­nig | Video: Andrea Scha­ber­nack\, Nata­lie Pin­ter | Pro­duk­ti­ons­lei­tung: Die Rab­tal­dirndln | Tech­nik: Tom Berg­ner\, Dul­ci Jan\, Karl Bör­ner\, Vale­rie Keller \nPer­for­me­rin­nen: Bar­ba­ra Car­li\, Rosa Degen-Faschin­ger\, Bea Der­mond\, Gud­run Maier
URL:https://8maerz.at/veranstaltung/ahnfrauen-wiederaufnahme-2/2024-03-20/
LOCATION:KosmosTheater\, Siebensterngasse 42\, Wien\, 1070
GEO:48.2023843;16.3514542
X-APPLE-STRUCTURED-LOCATION;VALUE=URI;X-ADDRESS=KosmosTheater Siebensterngasse 42 Wien 1070;X-APPLE-RADIUS=500;X-TITLE=Siebensterngasse 42:geo:16.3514542,48.2023843
END:VEVENT
END:VCALENDAR