BEGIN:VCALENDAR
VERSION:2.0
PRODID:-//8. März - ECPv6.15.20//NONSGML v1.0//EN
CALSCALE:GREGORIAN
METHOD:PUBLISH
X-ORIGINAL-URL:https://8maerz.at
X-WR-CALDESC:Veranstaltungen für 8. März
REFRESH-INTERVAL;VALUE=DURATION:PT1H
X-Robots-Tag:noindex
X-PUBLISHED-TTL:PT1H
BEGIN:VTIMEZONE
TZID:Europe/Vienna
BEGIN:DAYLIGHT
TZOFFSETFROM:+0100
TZOFFSETTO:+0200
TZNAME:CEST
DTSTART:20190331T010000
END:DAYLIGHT
BEGIN:STANDARD
TZOFFSETFROM:+0200
TZOFFSETTO:+0100
TZNAME:CET
DTSTART:20191027T010000
END:STANDARD
BEGIN:DAYLIGHT
TZOFFSETFROM:+0100
TZOFFSETTO:+0200
TZNAME:CEST
DTSTART:20200329T010000
END:DAYLIGHT
BEGIN:STANDARD
TZOFFSETFROM:+0200
TZOFFSETTO:+0100
TZNAME:CET
DTSTART:20201025T010000
END:STANDARD
BEGIN:DAYLIGHT
TZOFFSETFROM:+0100
TZOFFSETTO:+0200
TZNAME:CEST
DTSTART:20210328T010000
END:DAYLIGHT
BEGIN:STANDARD
TZOFFSETFROM:+0200
TZOFFSETTO:+0100
TZNAME:CET
DTSTART:20211031T010000
END:STANDARD
END:VTIMEZONE
BEGIN:VEVENT
DTSTART;TZID=Europe/Vienna:20200120T100000
DTEND;TZID=Europe/Vienna:20200120T160000
DTSTAMP:20260424T183853
CREATED:20200108T201228Z
LAST-MODIFIED:20200108T205920Z
UID:10003582-1579514400-1579536000@8maerz.at
SUMMARY:Barbara Prammer Symposium 2020
DESCRIPTION:Barbara Prammer Symposium 2020\nMon­tag\, 20. Jän­ner 2020\, 10 Uhr bis 16 Uhr Par­la­ment Wien\, Aus­weich­quar­tier Hof­burg\, Ein­gang bei Haupt­ein­gang Josefs­platz\, 1010 Wien \nEin­lass: 9.00 Uhr (Bit­te recht­zei­tig da sein\, da der Ein­lass ins Par­la­ment auf­grund der Sicher­heits­kon­trol­len immer län­ger dauert.) \nAnmel­dung per E‑Mail erfor­der­lich unter veranstaltungen@spoe.at. \nIm Jahr 2020 wol­len wir nach 25 Jah­ren die Ergeb­nis­se der 4. Welt­frau­en­kon­fe­renz in Peking von 1995 noch ein­mal einer kri­ti­schen Ana­ly­se unter­zie­hen und die not­wen­di­gen wei­te­ren Schrit­te\, die damals von 189 Regie­run­gen ange­nom­men wur­den wei­ter­zu­den­ken. 1995 wur­den wich­ti­ge The­men in den Berei­chen Armut\, all­ge­mei­ne und beruf­li­che Bil­dung\, Gesund­heit\, Gewalt\, bewaff­ne­te Kon­flik­te\, Wirt­schaft\, Macht und Ent­schei­dungs­fin­dung\, insti­tu­tio­nel­le Mecha­nis­men\, Men­schen­rech­te\, Medi­en\, Umwelt und Mäd­chen stra­te­gisch andis­ku­tiert. Es muss end­lich zu ech­ten Schrit­ten für glei­che Rech­te und Gleich­stel­lung welt­weit kommen. \nPro­gramm:\n9.00 Uhr Einlass\n10.00 Uhr Eröff­nung Klub­vor­sit­zen­de und SPÖ-Vor­sit­zen­de Pame­la Rendi-Wagner\nEröff­nungs­talk mit der Prä­si­den­tin des Ren­ner-Insti­tuts Doris Bures\, Bun­des­frau­en­vor­sit­zen­der Gabrie­le Hei­nisch-Hosek und dem Gene­ral­se­kre­tär der FEPS László Andor.\nEin­füh­rungs­wor­te Hel­ga Kon­rad\, Frau­en­mi­nis­te­rin a.D.\, lei­te­te feder­füh­rend die Regie­rungs­de­le­ga­ti­on zur 4. Weltfrauenkonferenz\n11.00 Uhr Key­note­spre­che­rin wird in Kür­ze bekannt gegeben\n12.00 Uhr Mittagsbuffet \n13.00 Uhr Workshops\nWork­shop 1 „Frau­en – Arbeit – Wirt­schaft“ mit Dr.in Katha­ri­na Mader\, WU Wien\, ÖGB-Vize­prä­si­den­tin und Vor­sit­zen­de der SPÖ-Bun­des­rats­frak­ti­on Korin­na Schu­mann (Mode­ra­ti­on: SPÖ im Parlament) \nWork­shop 2 „Gewalt­frei Leben“ mit Exper­tin (wird noch bekannt gege­ben)\, MEP Eve­lyn Reg­ner (Mode­ra­ti­on: FEPS\, Work­shop wird in eng­li­scher Spra­che mit Über­set­zung angeboten) \nWork­shop 3 „Frau­en und Repro­duk­ti­ve Rech­te“ mit Dr.in Bar­ba­ra Mai­er\, Öster­rei­chi­sche Gesell­schaft für Fami­li­en­pla­nung ÖGF) und SPÖ-Spre­che­rin für Glo­ba­le Ent­wick­lung Petra Bayr (Mode­ra­ti­on: SPÖ Frauen) \nWork­shop 4 „Frau­en und Umwelt“ mit The­re­sia Vogel (Kli­ma­fonds) und Con­ny Ecker (Mode­ra­ti­on: Karl-Renner-Institut) \n15.00 Uhr Kaffeepause\n15.15 Uhr Berich­te aus den Work­shops und Ausblick\n16.00 Uhr Ende \nMode­ra­ti­on: Son­ja Kato Mailath \nKin­der­be­treu­ung wird ange­bo­ten. Dafür ist aber eine ver­läss­li­che Anmel­dung unter Anga­be des Alters des Kindes/der Kin­der bis spä­tes­tens 14. Jän­ner not­wen­dig. Spä­te­re Anmel­dun­gen kön­nen nicht berück­sich­tigt werden. \nMit der Teil­nah­me an der Ver­an­stal­tung stim­men Sie der Ver­öf­fent­li­chung von Fotos und Film­auf­nah­men\, die im Rah­men der Ver­an­stal­tung ent­ste­hen\, aus­drück­lich zu.
URL:https://8maerz.at/veranstaltung/barbara-prammer-symposium-2020/
LOCATION:Ausweichquartier Hofburg\, Josefsplatz 2\, Wien\, Wien\, 1010\, Österreich
END:VEVENT
END:VCALENDAR