BEGIN:VCALENDAR
VERSION:2.0
PRODID:-//8. März - ECPv6.15.17.1//NONSGML v1.0//EN
CALSCALE:GREGORIAN
METHOD:PUBLISH
X-ORIGINAL-URL:https://8maerz.at
X-WR-CALDESC:Veranstaltungen für 8. März
REFRESH-INTERVAL;VALUE=DURATION:PT1H
X-Robots-Tag:noindex
X-PUBLISHED-TTL:PT1H
BEGIN:VTIMEZONE
TZID:Europe/Vienna
BEGIN:DAYLIGHT
TZOFFSETFROM:+0100
TZOFFSETTO:+0200
TZNAME:CEST
DTSTART:20220327T010000
END:DAYLIGHT
BEGIN:STANDARD
TZOFFSETFROM:+0200
TZOFFSETTO:+0100
TZNAME:CET
DTSTART:20221030T010000
END:STANDARD
BEGIN:DAYLIGHT
TZOFFSETFROM:+0100
TZOFFSETTO:+0200
TZNAME:CEST
DTSTART:20230326T010000
END:DAYLIGHT
BEGIN:STANDARD
TZOFFSETFROM:+0200
TZOFFSETTO:+0100
TZNAME:CET
DTSTART:20231029T010000
END:STANDARD
BEGIN:DAYLIGHT
TZOFFSETFROM:+0100
TZOFFSETTO:+0200
TZNAME:CEST
DTSTART:20240331T010000
END:DAYLIGHT
BEGIN:STANDARD
TZOFFSETFROM:+0200
TZOFFSETTO:+0100
TZNAME:CET
DTSTART:20241027T010000
END:STANDARD
END:VTIMEZONE
BEGIN:VEVENT
DTSTART;TZID=Europe/Vienna:20230308T160000
DTEND;TZID=Europe/Vienna:20230308T220000
DTSTAMP:20260421T213219
CREATED:20230209T212059Z
LAST-MODIFIED:20230209T212422Z
UID:10003727-1678291200-1678312800@8maerz.at
SUMMARY:International Women's Day - Ausstellungseröffnung und Eisstockschießen
DESCRIPTION:Zum dies­jäh­ri­gen Women’s Day am 8. März lädt das Bade­schiff alle Frau­en zum Eis­stock­schie­ßen und zu einer Ausstellungseröffnung.\nAm 8. März wird in der Ram­pen­ga­le­rie die Aus­stel­lung „40 Jah­re Frauen*solidarität“ eröff­net. Zu sehen gibt es Schau­ta­feln mit Infor­ma­tio­nen und Bil­dern aus der Geschich­te der Frauen*solidarität.\nDazu ste­hen an die­sem Tag die 6 Eis­stock­bah­nen am Bade­schiff zur frei­en Verfügung.\nReser­vie­run­gen unter www.badeschiff.at/#eisstock \nSujet © Badeschiff
URL:https://8maerz.at/veranstaltung/international-womens-day-ausstellungseroeffnung-und-eisstockschiessen/
LOCATION:Badeschiff\, Franz-Josefs-Kai 4\, Wolfgang-Schmitz-Promenade\, Wien\, Wien\, 1010\, Österreich
ATTACH;FMTTYPE=image/png:https://8maerz.at/wp-content/uploads/sites/20/2023/02/womensday_square-e1675977805118.png
END:VEVENT
END:VCALENDAR