BEGIN:VCALENDAR
VERSION:2.0
PRODID:-//8. März - ECPv6.15.20//NONSGML v1.0//EN
CALSCALE:GREGORIAN
METHOD:PUBLISH
X-ORIGINAL-URL:https://8maerz.at
X-WR-CALDESC:Veranstaltungen für 8. März
REFRESH-INTERVAL;VALUE=DURATION:PT1H
X-Robots-Tag:noindex
X-PUBLISHED-TTL:PT1H
BEGIN:VTIMEZONE
TZID:Europe/Vienna
BEGIN:DAYLIGHT
TZOFFSETFROM:+0100
TZOFFSETTO:+0200
TZNAME:CEST
DTSTART:20190331T010000
END:DAYLIGHT
BEGIN:STANDARD
TZOFFSETFROM:+0200
TZOFFSETTO:+0100
TZNAME:CET
DTSTART:20191027T010000
END:STANDARD
BEGIN:DAYLIGHT
TZOFFSETFROM:+0100
TZOFFSETTO:+0200
TZNAME:CEST
DTSTART:20200329T010000
END:DAYLIGHT
BEGIN:STANDARD
TZOFFSETFROM:+0200
TZOFFSETTO:+0100
TZNAME:CET
DTSTART:20201025T010000
END:STANDARD
BEGIN:DAYLIGHT
TZOFFSETFROM:+0100
TZOFFSETTO:+0200
TZNAME:CEST
DTSTART:20210328T010000
END:DAYLIGHT
BEGIN:STANDARD
TZOFFSETFROM:+0200
TZOFFSETTO:+0100
TZNAME:CET
DTSTART:20211031T010000
END:STANDARD
END:VTIMEZONE
BEGIN:VEVENT
DTSTART;TZID=Europe/Vienna:20200310T183000
DTEND;TZID=Europe/Vienna:20200310T200000
DTSTAMP:20260425T213842
CREATED:20200208T204042Z
LAST-MODIFIED:20200208T204054Z
UID:10003640-1583865000-1583870400@8maerz.at
SUMMARY:Diskussion: Brot und Rosen
DESCRIPTION:Diskussion: Brot und Rosen\nOb im Pfle­ge­heim\, im Kin­der­gar­ten\, im Kran­ken­haus oder in der Rei­ni­gung – Frau­en leis­ten har­te Arbeit. Und das oft bei nied­ri­gen Löh­nen. Und nach der Lohn­ar­beit beginnt meis­tens die zwei­te Schicht mit Haus­ar­beit und Kin­der­er­zie­hung. An die­sem Abend berich­ten Ria Brandl­ho­fer (Betriebs­rä­tin im Kura­to­ri­um Wie­ner Pen­sio­nis­ten-Wohn­häu­ser) und Sabi­ne Mit­ra­ko­vits (Kin­der­gar­ten­lei­te­rin) aus der Pra­xis und dis­ku­tie­ren im Anschluss mit Mari­na Han­ke (Gemein­de­rä­tin und Lan­des­vor­sit­zen­de der SPÖ-Frauen).
URL:https://8maerz.at/veranstaltung/diskussion-brot-und-rosen/
LOCATION:SPÖ Donaufeld\, Kinzerplatz 10-11\, Wien\, Wien\, 1210\, Österreich
END:VEVENT
BEGIN:VEVENT
DTSTART;TZID=Europe/Vienna:20200311T190000
DTEND;TZID=Europe/Vienna:20200315T220000
DTSTAMP:20260425T213842
CREATED:20200208T205441Z
LAST-MODIFIED:20200313T145504Z
UID:10003642-1583953200-1584309600@8maerz.at
SUMMARY:UPDATE: Tricky Women/Tricky Realities 2020
DESCRIPTION:Auf­grund der neu­es­ten Ent­wick­lun­gen gibt es am 13.3. noch zwei Tri­cky Women/Tricky Rea­li­ties 2020 Vor­stel­lun­gen. Um 17 Uhr wird außer­plan­mä­ßig Wett­be­werb 3 und um 19 Uhr Wett­be­werb 4 im METRO Kino­kul­tur­haus gezeigt. Alle ande­ren Vor­stel­lun­gen müs­sen abge­sagt werden. \nZum 17. Mal bringt TRICKY WOMEN/TRICKY REALITIES inter­na­tio­na­les Trick­film­ki­no auf die gro­ße Lein­wand und fei­ert die Strahl­kraft\, den Witz und die Viel­falt des Ani­ma­ti­ons­films von Frau­en*. Einen Raum zu schaf­fen\, in dem die künst­le­ri­sche Arbeit von Frau­en jene Prä­senz ein­nimmt\, die ihr zusteht\, ist heu­te wich­ti­ger denn je. \nFünf Tage lang laden kur­ze und lan­ge Ani­ma­ti­ons­fil­me\, Work­shops\, Aus­stel­lun­gen\, Lec­tures und Dis­kus­sio­nen dazu ein\, in unbe­kann­te Ani­ma­ti­ons­film­wel­ten ein­zu­tau­chen und jen­seits von stan­dar­di­sier­ten Seh­ge­wohn­hei­ten einen fri­schen Blick auf sozia­le Wirk­lich­kei­ten zu werfen. \nTrès fran­çais! Der dies­jäh­ri­ge Schwer­punkt ist dem Film­land schlecht­hin gewid­met: Frankreich. \nDas Pro­gramm geht Mit­te Febru­ar online: www.trickywomen.at\nTickets ab 5. März. \n#twtr2020\n#tri­cky­wo­men­tri­cky­rea­li­ties \n 
URL:https://8maerz.at/veranstaltung/tricky-women-tricky-realities-2020/
LOCATION:METRO Kinokulturhaus\, Johannesgasse 4\, Wien\, 1010\, Österreich
GEO:48.2049653;16.3719055
X-APPLE-STRUCTURED-LOCATION;VALUE=URI;X-ADDRESS=METRO Kinokulturhaus Johannesgasse 4 Wien 1010 Österreich;X-APPLE-RADIUS=500;X-TITLE=Johannesgasse 4:geo:16.3719055,48.2049653
END:VEVENT
END:VCALENDAR