BEGIN:VCALENDAR
VERSION:2.0
PRODID:-//8. März - ECPv6.15.20//NONSGML v1.0//EN
CALSCALE:GREGORIAN
METHOD:PUBLISH
X-ORIGINAL-URL:https://8maerz.at
X-WR-CALDESC:Veranstaltungen für 8. März
REFRESH-INTERVAL;VALUE=DURATION:PT1H
X-Robots-Tag:noindex
X-PUBLISHED-TTL:PT1H
BEGIN:VTIMEZONE
TZID:Europe/Vienna
BEGIN:DAYLIGHT
TZOFFSETFROM:+0100
TZOFFSETTO:+0200
TZNAME:CEST
DTSTART:20190331T010000
END:DAYLIGHT
BEGIN:STANDARD
TZOFFSETFROM:+0200
TZOFFSETTO:+0100
TZNAME:CET
DTSTART:20191027T010000
END:STANDARD
BEGIN:DAYLIGHT
TZOFFSETFROM:+0100
TZOFFSETTO:+0200
TZNAME:CEST
DTSTART:20200329T010000
END:DAYLIGHT
BEGIN:STANDARD
TZOFFSETFROM:+0200
TZOFFSETTO:+0100
TZNAME:CET
DTSTART:20201025T010000
END:STANDARD
BEGIN:DAYLIGHT
TZOFFSETFROM:+0100
TZOFFSETTO:+0200
TZNAME:CEST
DTSTART:20210328T010000
END:DAYLIGHT
BEGIN:STANDARD
TZOFFSETFROM:+0200
TZOFFSETTO:+0100
TZNAME:CET
DTSTART:20211031T010000
END:STANDARD
END:VTIMEZONE
BEGIN:VEVENT
DTSTART;TZID=Europe/Vienna:20200303T183000
DTEND;TZID=Europe/Vienna:20200303T200000
DTSTAMP:20260426T001541
CREATED:20200208T203738Z
LAST-MODIFIED:20200208T203738Z
UID:10003639-1583260200-1583265600@8maerz.at
SUMMARY:Lesung: Wir haben etwas gegen Gewalt
DESCRIPTION:Sexua­li­sier­te Gewalt ist nahe­zu täg­lich in den Medi­en. Was hat die­se Form von Gewalt mit Frau­en­bild in unse­rer Gesell­schaft zu tun? War­um gibt es so weni­ge Anzei­gen und Ver­ur­tei­lun­gen bei Sexua­li­sier­ter Gewalt? Wel­chen Ein­fluß wird das neue Gewalt­schutz­ge­setz haben? War­um zei­gen Frau­en nicht an? Was kann (Lokal-)Politik und Ein­zel­per­son unternehmen? \nLesung und Vor­trag von Hel­ga Pre­ges­bau­er (http://www.wortflechte.com/web/publikationen/).
URL:https://8maerz.at/veranstaltung/lesung-wir-haben-etwas-gegen-gewalt/
LOCATION:SPÖ Donaufeld\, Kinzerplatz 10-11\, Wien\, Wien\, 1210\, Österreich
END:VEVENT
BEGIN:VEVENT
DTSTART;TZID=Europe/Vienna:20200304T183000
DTEND;TZID=Europe/Vienna:20200304T213000
DTSTAMP:20260426T001541
CREATED:20200229T195552Z
LAST-MODIFIED:20200229T195552Z
UID:10003758-1583346600-1583357400@8maerz.at
SUMMARY:Feministisches Literaturkonzert mit Nadine Kegele
DESCRIPTION:40 Jah­re nach Erschei­nen von Maxie Wan­ders Best­sel­ler „Guten Mor­gen\, du Schö­ne“ ist es Zeit für eine Neu­be­fra­gung: Wel­ches Selbst­ver­ständ­nis haben Frau­en* heu­te\, mit wel­chem Rol­len­bild wer­den sie erwach­sen und was wol­len sie ver­än­dern? Nadi­ne Kege­le por­trai­tiert 19 Frau­en* und Trans­gen­der zwi­schen Madrid und Liba­non\, zwi­schen Wien und Ber­lin im Alter von 16 bis 92.\nMit Humor\, Schär­fe und Nach­druck berich­ten sie von höchst hete­ro­ge­nen\, aber not­wen­di­gen Eman­zi­pa­ti­ons­be­stre­bun­gen. Sie alle machen deut­lich\, dass sexua­li­sier­te Über­grif­fe und Dis­kri­mi­nie­run­gen\, Krieg und Flucht\, Ras­sis­mus und sozia­le Ungleich­heit die gro­ßen Lebens­the­men – und poli­ti­schen Her­aus­for­de­run­gen – sind. \nNadi­ne Kege­le nimmt neben ihren Büchern „Und essen wer­den wir die Kat­ze“ und „Lie­ben muss man unfri­siert“ auch die Uku­le­le mit auf die Büh­ne. Sie liest und singt von Mäd­chen im Wider­stand und wun­der­vol­ler Wut\, vom Tan­zen auf Rädern und dem Umdrah’n der Wöt. Und das auf Deutsch\, Vor­arl­ber­ge­risch und so etwas wie Wienerisch. \nNadi­ne Kege­le\, gebo­ren 1980 in Blu­denz\, nach Leh­re und Sekre­ta­ri­ats­ar­bei­ten Stu­di­um der Ger­ma­nis­tik im zwei­ten Bil­dungs­weg. Lebt als Schrift­stel­le­rin und Kurs­lei­te­rin für Neo-Wie­ner_in­nen in Wien. \ndanach: Brot & Wein
URL:https://8maerz.at/veranstaltung/feministisches-literaturkonzert-mit-nadine-kegele/
LOCATION:Grüne Galerie Sieben\, Herrmanngasse 25\, Wien\, Wien\, 1070\, Österreich
GEO:48.2029673;16.3467449
X-APPLE-STRUCTURED-LOCATION;VALUE=URI;X-ADDRESS=Grüne Galerie Sieben Herrmanngasse 25 Wien Wien 1070 Österreich;X-APPLE-RADIUS=500;X-TITLE=Herrmanngasse 25:geo:16.3467449,48.2029673
END:VEVENT
BEGIN:VEVENT
DTSTART;TZID=Europe/Vienna:20200307T110000
DTEND;TZID=Europe/Vienna:20200307T140000
DTSTAMP:20260426T001541
CREATED:20200229T195942Z
LAST-MODIFIED:20200229T195942Z
UID:10003518-1583578800-1583589600@8maerz.at
SUMMARY:Performance Die Brutpfleger*innen
DESCRIPTION:Anläss­lich des inter­na­tio­na­len Frau­en­tags gestal­tet das Künst­le­rin­nen­duo „Die Brutpfleger*innen“ eine partizipative/interaktive Per­for­mance im öffent­li­chen Raum am Siebensternplatz. \nDas Mot­to lau­tet: Zer­stört das Patriachat und nicht den Pla­ne­ten. \nDie Brutpfleger*innen pfle­gen die kul­tu­rel­le För­de­rung des Indi­vi­du­ums und der Gesell­schaft mit künst­le­ri­schen Inter­ven­tio­nen im öffent­li­chen Raum. Dabei ist die inhalt­li­che Schwer­punkt­set­zung stets eine Aus­ein­an­der­set­zung im femi­nis­ti­schen Kontext. \nMehr zu den Brutpfleger*innen und ihren Arbei­ten unter: www.diebrutpflegerinnen.com
URL:https://8maerz.at/veranstaltung/performance-die-brutpflegerinnen/
LOCATION:Siebensternplatz\, Siebensternplatz\, Wien\, Wien\, 1070\, Österreich
END:VEVENT
END:VCALENDAR