BEGIN:VCALENDAR
VERSION:2.0
PRODID:-//8. März - ECPv6.15.17.1//NONSGML v1.0//EN
CALSCALE:GREGORIAN
METHOD:PUBLISH
X-ORIGINAL-URL:https://8maerz.at
X-WR-CALDESC:Veranstaltungen für 8. März
REFRESH-INTERVAL;VALUE=DURATION:PT1H
X-Robots-Tag:noindex
X-PUBLISHED-TTL:PT1H
BEGIN:VTIMEZONE
TZID:Europe/Vienna
BEGIN:DAYLIGHT
TZOFFSETFROM:+0100
TZOFFSETTO:+0200
TZNAME:CEST
DTSTART:20210328T010000
END:DAYLIGHT
BEGIN:STANDARD
TZOFFSETFROM:+0200
TZOFFSETTO:+0100
TZNAME:CET
DTSTART:20211031T010000
END:STANDARD
BEGIN:DAYLIGHT
TZOFFSETFROM:+0100
TZOFFSETTO:+0200
TZNAME:CEST
DTSTART:20220327T010000
END:DAYLIGHT
BEGIN:STANDARD
TZOFFSETFROM:+0200
TZOFFSETTO:+0100
TZNAME:CET
DTSTART:20221030T010000
END:STANDARD
BEGIN:DAYLIGHT
TZOFFSETFROM:+0100
TZOFFSETTO:+0200
TZNAME:CEST
DTSTART:20230326T010000
END:DAYLIGHT
BEGIN:STANDARD
TZOFFSETFROM:+0200
TZOFFSETTO:+0100
TZNAME:CET
DTSTART:20231029T010000
END:STANDARD
END:VTIMEZONE
BEGIN:VEVENT
DTSTART;TZID=Europe/Vienna:20220201T180000
DTEND;TZID=Europe/Vienna:20220201T193000
DTSTAMP:20260421T190415
CREATED:20220130T204123Z
LAST-MODIFIED:20220130T204123Z
UID:10003617-1643738400-1643743800@8maerz.at
SUMMARY:Körperwahrnehmung und Sexualität im Zeitalter von Pornographie
DESCRIPTION:Erwach­se­ne und ins­be­son­de­re Jugend­li­che erfah­ren im Bezug auf ihren eige­nen Kör­per und ihre „sexu­el­le Per­for­mance“ im Zeit­al­ter von Por­no­gra­phie einen ste­ti­gen Druck zur Opti­mie­rung. Dies wie­der­um kann die eige­ne Kör­per­wahr­neh­mung stark beein­flus­sen und in den jewei­li­gen Köp­fen zu ver­zerr­ten Bil­dern von Sexua­li­tät füh­ren. Der Vor­trag will infor­mie­ren und eine the­men­spe­zi­fi­sche Dis­kus­si­on anregen. \nVer­scho­be­ner Ter­min aus dem jähr­li­chen Herbst-The­men­schwer­punkt Sexua­li­tät der Volks­hoch­schu­le Landstraße. \nVer­an­stal­ter: VHS Landstraße\nDatum und Uhr­zeit: 01.02.2022\, 18:00–19:30 Uhr\nKurs­lei­tung: Mag.a Dia­na Riegler\nKurs­ort: VHS Land­stra­ße\, Hain­bur­ger Stra­ße 29\, 1030 Wien \nAnmel­de­link: https://www.vhs.at/de/k/273568737
URL:https://8maerz.at/veranstaltung/koerperwahrnehmung-und-sexualitaet-im-zeitalter-von-pornographie/
LOCATION:VHS Landstraße\, Hainburger Straße 29\, Wien\, 1030
GEO:48.2002048;16.3959791
X-APPLE-STRUCTURED-LOCATION;VALUE=URI;X-ADDRESS=VHS Landstraße Hainburger Straße 29 Wien 1030;X-APPLE-RADIUS=500;X-TITLE=Hainburger Straße 29:geo:16.3959791,48.2002048
END:VEVENT
BEGIN:VEVENT
DTSTART;TZID=Europe/Vienna:20220202T180000
DTEND;TZID=Europe/Vienna:20220202T190000
DTSTAMP:20260421T190415
CREATED:20220130T220056Z
LAST-MODIFIED:20220130T220203Z
UID:10003858-1643824800-1643828400@8maerz.at
SUMMARY:Buchpräsentation: "Die Erfindung der Hausfrau. Geschichte einer Entwertung"
DESCRIPTION:Kinder\, Küche und Karriere? Über Arbeitsteilung\, Rollenbilder und gekippte Machtverhältnisse\n»Das biss­chen Haus­halt« – die­se unsäg­lich anstren­gen­de\, undank­ba­re Auf­ga­be kos­tet vie­le Frau­en bis heu­te den letz­ten Nerv. Egal\, ob sie berufs­tä­tig oder »nur« Haus­frau (und Mut­ter) sind. Doch unter wel­chen öko­no­misch-gesell­schaft­li­chen Ver­hält­nis­sen konn­te sich über­haupt ein sol­ches Rol­len­mo­dell eta­blie­ren\, das Frau­en nicht nur in finan­zi­el­le Abhän­gig­keit dräng­te\, son­dern enor­men psy­chi­schen Belas­tun­gen aussetzte? \nEvke Rulffes erzählt die his­to­ri­sche Ent­wick­lung der Haus­frau nach und zeigt\, wo sich die­se alten Ver­hält­nis­se trotz all der poli­ti­schen Bemü­hun­gen um ein gleich­be­rech­tig­tes Mit­ein­an­der heu­te noch wie­der­fin­den\, wie sie uns prä­gen und beein­flus­sen: War­um haben vor allem Müt­ter das Gefühl\, sie müs­sen alles allei­ne schaf­fen? War­um ist es ihnen unan­ge­nehm\, sich Hil­fe zu orga­ni­sie­ren? Und war­um bleibt selbst das Orga­ni­sie­ren von Hil­fe in der Regel bei ihnen hängen? \nPoin­tiert\, fun­diert und erhel­lend zeigt uns die Autorin die his­to­ri­schen Grün­de für unse­ren Gen­der-Gap und was die Erfin­dung der Haus­frau mit dem schlech­ten Gewis­sen der Mut­ter zu tun hat. Denn »Das biss­chen Haus­halt« kommt nicht von ungefähr …\nEin Plä­doy­er für mehr Gerech­tig­keit und Wert­schät­zung von Care- und Hausarbeit. \nEvke Rulffes ist Kul­tur­wis­sen­schaft­le­rin. Sie pro­mo­vier­te 2018 an der Hum­boldt-Uni­ver­si­tät Ber­lin mit einer Arbeit über »Die ange­wie­se­ne Frau. Chris­ti­an Fried­rich Ger­mers­hau­sens ›Haus­mut­ter‹«\, in der sie mit alten Haus­halts­rat­ge­bern der Spät­auf­klä­rung beschäf­tig­te. Außer­dem ist sie Redak­ti­ons­mit­glied der Zeit­schrift ilinx – Ber­li­ner Bei­trä­ge zur Kul­tur­wis­sen­schaft. Sie lebt heu­te als Kura­to­rin und Autorin in Berlin.\nIhr Buch „Die Erfin­dung der Haus­frau. Geschich­te einer Ent­wer­tung“ ist im Okto­ber 2021 im Ver­lag Har­per­Coll­ins erschienen. \nAnmel­dung:\nMel­den Sie sich bit­te mit­tels E‑Mail an stmk@mehr-fuer-care.at an\, dann bekom­men Sie recht­zei­tig den Link für das Zoom-Mee­ting zugeschickt. \nMehr für Care ist ein Bünd­nis von Orga­ni­sa­tio­nen\, Netz­wer­ken und enga­gier­ten Ein­zel­per­so­nen\, das sich für mehr Raum und Geld\nfür CARE und eine geschlech­ter­ge­rech­te Bud­get- und Finanz­po­li­tik ein­setzt – sie­he www.mehr-fuer-care.at.
URL:https://8maerz.at/veranstaltung/buchpraesentation-die-erfindung-der-hausfrau-geschichte-einer-entwertung/
LOCATION:Online\, Wien\, Österreich
END:VEVENT
BEGIN:VEVENT
DTSTART;TZID=Europe/Vienna:20220204T170000
DTEND;TZID=Europe/Vienna:20220204T183000
DTSTAMP:20260421T190415
CREATED:20220129T151822Z
LAST-MODIFIED:20220129T151844Z
UID:10003613-1643994000-1643999400@8maerz.at
SUMMARY:Workshop: Mentale und verbale Selbstverteidigung gegen sexuelle Belästigung im öffentlichen Raum
DESCRIPTION:Work­shop zum The­ma Men­ta­le und ver­ba­le Selbst­ver­tei­di­gung gegen sexu­el­le Beläs­ti­gung im öffent­li­chen Raum\nver­an­stal­tet vom Que­er­Ref der ÖH Uni Wien \nIn die­sem Work­shop ler­nen Frau­en*\, Les­ben\, Inter‑\, Nicht Binär\, Trans- und Agen­der-Per­so­nen sich gegen sexis­ti­sche Dis­kri­mi­nie­rung zu weh­ren und bes­ser mit sexu­el­ler Beläs­ti­gung umzu­ge­hen. Teil­neh­men­de wer­den über die recht­li­che Lage zu sexu­el­ler Beläs­ti­gung in Öster­reich infor­miert und über Insti­tu­tio­nen\, an die mensch sich wen­den kann. Der Work­shop soll einen Safe Space bie­ten\, um Erfah­run­gen aus­zu­tau­schen und von- und mit­ein­an­der zu ler­nen. und es wird über Coping-Stra­te­gien\, Reak­ti­ons­mög­lich­kei­ten und men­ta­le After-Care gespro­chen. Auch die Roten Kar­ten\, ein Tool als Reak­ti­on auf sexu­el­le Beläs­ti­gung im öffent­li­chen Raum\, wer­den vor­ge­stellt und Teil­neh­mehn­de zur Ver­fü­gung gestellt (www.respect-existence.at). \nDer Work­shop wird von Emi­ly Hans­lik gelei­tet\, die der­zeit Stu­die­ren­de an der Uni­ver­si­tät Wien ist\, seit letz­tem Jahr auch diplo­mier­te Lebens- und Sozi­al­be­ra­te­rin. Sie arbei­tet außer­dem seit März 2021 als Bera­te­rin beim Help­Chat\, einer Online-Bera­tungs­ein­rich­tung der Auto­no­men Frau­en­häu­ser für gewalt­be­trof­fe­ne Frau­en* und Mäd­chen (www.haltdergewalt.at). \nWann? Am Frei­tag\, den 4. Febru­ar um 17.00 bis ca. 18.30 Uhr MeZ.\nWo? Online. Mel­det ihr euch für den Zoom­link über queerreferat@oeh.univie.ac.at an!
URL:https://8maerz.at/veranstaltung/workshop-mentale-und-verbale-selbstverteidigung-gegen-sexuelle-belaestigung-im-oeffentlichen-raum/
LOCATION:Online\, Wien\, Österreich
END:VEVENT
BEGIN:VEVENT
DTSTART;TZID=Europe/Vienna:20220223T150000
DTEND;TZID=Europe/Vienna:20220223T170000
DTSTAMP:20260421T190415
CREATED:20220126T204815Z
LAST-MODIFIED:20220126T213034Z
UID:10003856-1645628400-1645635600@8maerz.at
SUMMARY:Margarethe Ottillinger – Lassen Sie mich arbeiten!
DESCRIPTION:In dem Thea­ter­stück „Mar­ga­re­the Ottil­lin­ger – Las­sen Sie mich arbei­ten!“ geht es um den span­nen­den Lebens­weg der Wirt­schafts­exper­tin Mar­ga­re­the Ottil­lin­ger (1919 – 1992)\, von ihrer Pro­mo­ti­on an der Hoch­schu­le für Welt­han­del\, über ihre Ver­schlep­pung in rus­si­sche Straf­la­ger bis an die Spit­ze der OMV leben­dig wer­den. Mit die­sem Pro­jekt soll anläss­lich des inter­na­tio­na­len Frau­en­tags 2022 eine Frau in den Mit­tel­punkt rücken\, die unter damals nicht selbst­ver­ständ­li­chen Rah­men­be­din­gun­gen an der WU und in der OMV als ers­te Vor­stands­di­rek­to­rin ihren Weg gemacht hat und für bei­de Insti­tu­tio­nen prä­gend gewor­den ist. \nIn dem Stück und der anschlie­ßen­den Dis­kus­si­on mit Edel­traud Hanap­pi-Egger\, Rek­to­rin der WU und Pro­fes­so­rin für Gen­der & Diver­si­ty\, und Ani­ta Zie­her\, Schau­spie­le­rin und Thea­ter­ma­che­rin\, wer­den auch heu­te noch rele­van­te Fra­gen für Frau­en in Füh­rungs­po­si­tio­nen behan­delt: Was mach­te den Erfolg der Wirt­schafts­exper­tin Ottil­lin­ger aus und mit wel­chen Wider­stän­den hat­te sie zu kämp­fen? Was waren und sind heu­te Erfolgs­fak­to­ren\, aber auch Bar­rie­ren im Kar­rie­re­ver­lauf von Frau­en in Füh­rungs­po­si­tio­nen? Und was braucht es\, um in Top-Füh­rungs­po­si­tio­nen aus­ge­wo­ge­ne Geschlech­ter­ver­hält­nis­se zu erzielen? \nWann:   Mitt­woch\, 23. Febru­ar 2022\, 15:00 – ca. 16:45 Uhr\nDau­er des Thea­ter­stücks: ca. 40 Minuten\nDau­er der Podi­ums- und Publi­kums­dis­kus­si­on: ca. 45 Minuten\nEin­lass: ab 14:30 Uhr \nWo:  Fest­saal 2\, LC\, WU Wien\, Welt­han­dels­platz 1\, 1020 Wien \nDas Thea­ter­stück ist eine Auf­trags­pro­duk­ti­on der WU in der Regie von San­dra Schüd­de­kopf. Der Ein­tritt ist frei. Bit­te um Anmel­dung bis 17.2. unter diversity-policy@wu.ac.at. \nDas Pro­jekt wird vom Otto Mau­er Fonds gefördert. \nWei­te­re Infor­ma­tio­nen zur Ver­an­stal­tung und den Sicher­heits­maß­nah­men auf die­ser Web­site.
URL:https://8maerz.at/veranstaltung/margarethe-ottillinger-lassen-sie-mich-arbeiten/
LOCATION:Campus WU Wien\, Welthandelsplatz 1\, Wien\, Wien\, 1020\, Österreich
END:VEVENT
BEGIN:VEVENT
DTSTART;TZID=Europe/Vienna:20220223T190000
DTEND;TZID=Europe/Vienna:20220223T210000
DTSTAMP:20260421T190415
CREATED:20220130T212323Z
LAST-MODIFIED:20220130T212447Z
UID:10003622-1645642800-1645650000@8maerz.at
SUMMARY:Podiumsdiskussion: Architektur-Pionierinnen
DESCRIPTION:Wer waren die ers­ten Archi­tek­tin­nen? Allem Wider­stand zum Trotz gab es mehr als 160 Frau­en\, die vor 1938 an Wie­ner Archi­tek­tur­schu­len ein­ge­schrie­ben waren. \nIn der Archi­tek­tur­ge­schich­te feh­len die weib­li­chen Rol­len­vor­bil­der. Archi­tek­tur-Pio­nie­rin­nen in Wien sicht­bar zu machen und in den Kanon ein­zu­schrei­ben gehört zu lang­fris­ti­gen Anlie­gen des Az W. Woher kamen die Frau­en und ihre Moti­va­ti­on zur Aus­bil­dung? Wel­che Auf­ga­ben bear­bei­te­ten sie? \nÜber ein Jahr lang hat ein For­schungs­team in den drei Wie­ner Aus­bil­dungs­stät­ten Kunst­ge­wer­be­schu­le\, Tech­ni­sche Hoch­schu­le und Aka­de­mie der bil­den­den Küns­te sowie dar­über hin­aus recher­chiert. Jetzt lie­gen die ers­ten Ergeb­nis­se vor\, die über­ra­schen­de neue Ein­bli­cke geben.\nDer Abend bil­det den Auf­takt zu einer Ver­an­stal­tungs­rei­he inmit­ten der neu­en Schau­samm­lung\, die bren­nen­de Fra­gen „vor den Vor­hang“ holt. \nGäs­tin­nen:\nFor­schungs­team „Archi­tek­tur-Pio­nie­rin­nen in Wien“: Chris­ti­ne Zwingl\, Sabi­na Riss\, Car­men Trifina \nMode­ra­ti­on:\nMoni­ka Plat­zer\, Kura­to­rin & Samm­lungs­lei­te­rin Az W \nReser­vie­rung erfor­der­lich per Mail an: anmeldung@azw.at\nDie Ver­an­stal­tung fin­det ent­lang der aktu­el­len Covid-19 Maß­nah­men statt.
URL:https://8maerz.at/veranstaltung/podiumsdiskussion-architektur-pionierinnen/
LOCATION:Az W Architekturzentrum Wien\, Museumsplatz 1 im MQ\, Wien\, Wien\, 1070\, Österreich
END:VEVENT
BEGIN:VEVENT
DTSTART;TZID=Europe/Vienna:20220224T180000
DTEND;TZID=Europe/Vienna:20220224T193000
DTSTAMP:20260421T190415
CREATED:20220212T225227Z
LAST-MODIFIED:20220212T225312Z
UID:10003870-1645725600-1645731000@8maerz.at
SUMMARY:Filmreihe Frauenkörper und ihre Geschichten: MENSCHENSKIND!
DESCRIPTION:Don­ners­tag 24. Febru­ar um 18.00 – Scree­ning in Anwe­sen­heit der Fil­me­ma­che­rin Mari­na Belobrovaja. \nBraucht es zwin­gend eine Frau und einen Mann\, um ein Kind zu bekom­men? Und wird der Mann auto­ma­tisch zum Vater\, wenn es zur Zeu­gung mit sei­nem Samen kommt?\nDie Fil­me­ma­che­rin Mari­na Belo­bro­va­ja hat einen radi­ka­len Weg zur Eltern­schaft gewählt\, über den vie­le Allein­ste­hen­de nach­den­ken\, ihn aber doch nicht gehen. In MENSCHENSKIND! setzt sie sich\, aus­ge­hend von der Zeu­gungs­ge­schich­te ihrer Toch­ter mit Hil­fe eines Samen­spen­ders\, mit den bestehen­den gesell­schaft­li­chen Vor­stel­lun­gen\, Rol­len­mus­tern und Kon­ven­tio­nen rund um Eltern­schaft und Fami­lie auseinander. \nVer­an­stal­tung in Koope­ra­ti­on mit der Öster­rei­chi­schen Gesell­schaft für Psy­cho­so­ma­tik und Gynä­ko­lo­gie und Geburts­hil­fe (PSYGYN). \nMENSCHENSKIND!\nEin Film von Mari­na Belo­bro­va­ja\, CH 2021\, Doku­men­tar­film\, 82 Min.
URL:https://8maerz.at/veranstaltung/filmreihe-frauenkoerper-und-ihre-geschichten-menschenskind/
LOCATION:Stadtkino\, Akademiestraße 13\, Wien\, 1010
GEO:48.2007294;16.3716369
X-APPLE-STRUCTURED-LOCATION;VALUE=URI;X-ADDRESS=Stadtkino Akademiestraße 13 Wien 1010;X-APPLE-RADIUS=500;X-TITLE=Akademiestraße 13:geo:16.3716369,48.2007294
END:VEVENT
END:VCALENDAR