BEGIN:VCALENDAR
VERSION:2.0
PRODID:-//8. März - ECPv6.15.20//NONSGML v1.0//EN
CALSCALE:GREGORIAN
METHOD:PUBLISH
X-ORIGINAL-URL:https://8maerz.at
X-WR-CALDESC:Veranstaltungen für 8. März
REFRESH-INTERVAL;VALUE=DURATION:PT1H
X-Robots-Tag:noindex
X-PUBLISHED-TTL:PT1H
BEGIN:VTIMEZONE
TZID:Europe/Vienna
BEGIN:DAYLIGHT
TZOFFSETFROM:+0100
TZOFFSETTO:+0200
TZNAME:CEST
DTSTART:20200329T010000
END:DAYLIGHT
BEGIN:STANDARD
TZOFFSETFROM:+0200
TZOFFSETTO:+0100
TZNAME:CET
DTSTART:20201025T010000
END:STANDARD
BEGIN:DAYLIGHT
TZOFFSETFROM:+0100
TZOFFSETTO:+0200
TZNAME:CEST
DTSTART:20210328T010000
END:DAYLIGHT
BEGIN:STANDARD
TZOFFSETFROM:+0200
TZOFFSETTO:+0100
TZNAME:CET
DTSTART:20211031T010000
END:STANDARD
BEGIN:DAYLIGHT
TZOFFSETFROM:+0100
TZOFFSETTO:+0200
TZNAME:CEST
DTSTART:20220327T010000
END:DAYLIGHT
BEGIN:STANDARD
TZOFFSETFROM:+0200
TZOFFSETTO:+0100
TZNAME:CET
DTSTART:20221030T010000
END:STANDARD
END:VTIMEZONE
BEGIN:VEVENT
DTSTART;TZID=Europe/Vienna:20210206T160000
DTEND;TZID=Europe/Vienna:20210206T180000
DTSTAMP:20260424T160912
CREATED:20210131T220215Z
LAST-MODIFIED:20210131T220251Z
UID:10003804-1612627200-1612634400@8maerz.at
SUMMARY:Riot\, Don't Diet! - Mit fundierter Kritik an der Schönheitsindustrie zum besseren Körpergefühl
DESCRIPTION:Hast du schon mal dar­über nach­ge­dacht\, wie die Medi­en und die Schön­heits­in­dus­trie dein Kör­per­ge­fühl beein­flus­sen? Vie­le emp­fin­den Unzu­frie­den­heit oder Scham\, wenn sie über ihr Kör­per nach­den­ken und eine gan­ze Indus­trie lebt davon. Aber das muss nicht so sein! \nEli­sa­beth Lech­ner hat ihre Dok­to­rats­ar­beit über Body Posi­ti­vi­ty und Femi­nis­mus geschrie­ben. Wir wer­fen gemein­sam einen kri­ti­schen Blick auf auf die Schön­heits­in­dus­trie und reden über Kör­per­bil­der und Selbstermächtigung. \nAnmel­dung hier.
URL:https://8maerz.at/veranstaltung/riot-dont-diet-mit-fundierter-kritik-an-der-schoenheitsindustrie-zum-besseren-koerpergefuehl/
LOCATION:Online\, Wien\, Österreich
END:VEVENT
BEGIN:VEVENT
DTSTART;TZID=Europe/Vienna:20210210T100000
DTEND;TZID=Europe/Vienna:20210210T113000
DTSTAMP:20260424T160912
CREATED:20210203T193915Z
LAST-MODIFIED:20210204T190014Z
UID:10003554-1612951200-1612956600@8maerz.at
SUMMARY:Webinar: Unerhört! Zugewanderte Frauen ergreifen das Wort
DESCRIPTION:Ort und Zeit:\nMitt­woch\, 10.02.2021\, 10.00 bis 11.30 Uhr \nFrau­en spie­len eine gro­ße Rol­le bei der Inte­gra­ti­on von zuge­wan­der­ten Fami­li­en in Wien. Jedoch sind die Stim­men\, Wün­sche und For­de­run­gen die­ser Frau­en im öffent­li­chen Raum kaum bis gar nicht prä­sent. Dar­um wol­len wir mit dem Pro­jekt „Frau­en­stim­men“ und die­ser Ver­an­stal­tung Frau­en ermu­ti­gen\, ihre Stim­men zu erheben. \nIm Pro­jekt „Frau­en­stim­men“ haben sich in meh­re­ren Work­shops zuge­wan­der­te Frau­en mit sozi­al­po­li­ti­schen The­men wie Arbeit\, Woh­nen\, Bil­dung\, Gesund­heit und gesell­schaft­li­che und poli­ti­sche Par­ti­zi­pa­ti­on aus­ein­an­der­ge­setzt und Vide­os dazu produziert. \nIn die­ser Ver­an­stal­tung wer­den die Vide­os prä­sen­tiert. Die Frau­en berich­ten – in zum Teil höchst­per­sön­li­chen Gesprä­chen – von ihren täg­li­chen Her­aus­for­de­run­gen\, Schwie­rig­kei­ten und Diskriminierungen.\nDamit möch­ten wir jenen Frau­en eine Stim­me geben\, die sonst unge­hört blei­ben und damit einen etwas ande­ren Bei­trag in der Inte­gra­ti­ons­de­bat­te liefern. \nDie­se Ver­an­stal­tung wird mit­tels Live­stream übertragen.\nDen Link zum Live­stream erhal­ten Sie nach Ihrer Anmel­dung am Vor­tag der Ver­an­stal­tung per E‑Mail. \nPro­gramm: \n10.00 Uhr\nEin­lei­tung und Vor­stel­lung des Pro­jek­tes „Frau­en­stim­me“\nVer­tre­te­rIn­nen von Inte­gra­ti­ons­haus und Piramidops \n10.10 Uhr\nVor­stel­lung der 4 Podiumsdiskutantinnen \n10.15 Uhr\n3 kur­ze Vide­os aus dem Pro­jekt wer­den ein­zeln ein­ge­spielt und diskutiert \n11.25 Uhr\nZusam­men­fas­sung und Abschluss\nVer­tre­te­rIn der AK Wien \nMode­ra­ti­on: Fran­zis­ka Tschin­der­le\, Journalisitin \nDer Besuch die­ser Ver­an­stal­tung ist kostenlos! \nUm ver­bind­li­che Anmel­dung wird ersucht: Anmel­de­link
URL:https://8maerz.at/veranstaltung/webinar-unerhoert-zugewanderte-frauen-ergreifen-das-wort/
LOCATION:Online\, Wien\, Österreich
END:VEVENT
BEGIN:VEVENT
DTSTART;TZID=Europe/Vienna:20210211T160000
DTEND;TZID=Europe/Vienna:20210211T200000
DTSTAMP:20260424T160912
CREATED:20210128T203336Z
LAST-MODIFIED:20210128T203825Z
UID:10003799-1613059200-1613073600@8maerz.at
SUMMARY:Online-Konferenz: Mehr für Care! Strategien zur Stärkung einer Wirtschaft\, die für alle sorgt
DESCRIPTION:Ent­wi­ckeln wir gemein­sam Stra­te­gien zur Stär­kung einer Wirt­schaft\, die für alle sorgt \nInter­ak­ti­ve Online-Konferenz\n11. und 17. Febru­ar 2021\, jeweils 16:00 bis 20:00 \nEs ist höchs­te Zeit für Ver­än­de­rung: Die Regie­rung nimmt der­zeit viel Geld in die Hand\, aber jene\, die es am drin­gends­ten brau­chen – unter ande­rem Alleinerzieher*innen\, Pfle­ge­kräf­te\, „Systemerhalter*innen“ – erhal­ten davon kaum etwas. Wie kann es sein\, dass vor allem Frau­en*\, die noch mehr Las­ten als bis­her schul­tern\, jetzt im Stich gelas­sen wer­den und schau­en müs­sen\, wie sie über die Run­den kom­men? Wir neh­men das nicht wei­ter hin! \nDetails zu Inhalt und Pro­gramm –> hier als pdf zum Anschau­en und Downloaden \nAnmel­dung zur Kon­fe­renz hier.
URL:https://8maerz.at/veranstaltung/online-konferenz-mehr-fur-care-strategien-zur-starkung-einer-wirtschaft-die-fur-alle-sorgt/2021-02-11/
LOCATION:Online\, Wien\, Österreich
END:VEVENT
BEGIN:VEVENT
DTSTART;TZID=Europe/Vienna:20210217T160000
DTEND;TZID=Europe/Vienna:20210217T200000
DTSTAMP:20260424T160912
CREATED:20210128T203336Z
LAST-MODIFIED:20210128T203825Z
UID:10003800-1613577600-1613592000@8maerz.at
SUMMARY:Online-Konferenz: Mehr für Care! Strategien zur Stärkung einer Wirtschaft\, die für alle sorgt
DESCRIPTION:Ent­wi­ckeln wir gemein­sam Stra­te­gien zur Stär­kung einer Wirt­schaft\, die für alle sorgt \nInter­ak­ti­ve Online-Konferenz\n11. und 17. Febru­ar 2021\, jeweils 16:00 bis 20:00 \nEs ist höchs­te Zeit für Ver­än­de­rung: Die Regie­rung nimmt der­zeit viel Geld in die Hand\, aber jene\, die es am drin­gends­ten brau­chen – unter ande­rem Alleinerzieher*innen\, Pfle­ge­kräf­te\, „Systemerhalter*innen“ – erhal­ten davon kaum etwas. Wie kann es sein\, dass vor allem Frau­en*\, die noch mehr Las­ten als bis­her schul­tern\, jetzt im Stich gelas­sen wer­den und schau­en müs­sen\, wie sie über die Run­den kom­men? Wir neh­men das nicht wei­ter hin! \nDetails zu Inhalt und Pro­gramm –> hier als pdf zum Anschau­en und Downloaden \nAnmel­dung zur Kon­fe­renz hier.
URL:https://8maerz.at/veranstaltung/online-konferenz-mehr-fur-care-strategien-zur-starkung-einer-wirtschaft-die-fur-alle-sorgt/2021-02-17/
LOCATION:Online\, Wien\, Österreich
END:VEVENT
END:VCALENDAR