BEGIN:VCALENDAR
VERSION:2.0
PRODID:-//8. März - ECPv6.15.20//NONSGML v1.0//EN
CALSCALE:GREGORIAN
METHOD:PUBLISH
X-WR-CALNAME:8. März
X-ORIGINAL-URL:https://8maerz.at
X-WR-CALDESC:Veranstaltungen für 8. März
REFRESH-INTERVAL;VALUE=DURATION:PT1H
X-Robots-Tag:noindex
X-PUBLISHED-TTL:PT1H
BEGIN:VTIMEZONE
TZID:UTC
BEGIN:STANDARD
TZOFFSETFROM:+0000
TZOFFSETTO:+0000
TZNAME:UTC
DTSTART:20170101T000000
END:STANDARD
END:VTIMEZONE
BEGIN:VEVENT
DTSTART;TZID=UTC:20180308T210000
DTEND;TZID=UTC:20180308T235900
DTSTAMP:20260423T214142
CREATED:20180203T174248Z
LAST-MODIFIED:20180203T174547Z
UID:10003340-1520542800-1520553540@8maerz.at
SUMMARY:Queer Women's Day
DESCRIPTION:Queer Women’s Day mit Finkbass & Querfunk\nQue­er Women’s Day (all gen­der wel­co­me) am 08.03.2018 im Kram­la­den Wien – mit Live­mu­sik von Fink­bass und QUERFUNK \nDetails sie­he Face­book-Event.
URL:https://8maerz.at/veranstaltung/queer-womens-day/
LOCATION:Kramladen\, U-Bahnbogen 39-40\, Lerchenfeldergürtel\, Wien\, 1080
GEO:48.210904;16.339097
X-APPLE-STRUCTURED-LOCATION;VALUE=URI;X-ADDRESS=Kramladen U-Bahnbogen 39-40 Lerchenfeldergürtel Wien 1080;X-APPLE-RADIUS=500;X-TITLE=U-Bahnbogen 39-40\, Lerchenfeldergürtel:geo:16.339097,48.210904
END:VEVENT
BEGIN:VEVENT
DTSTART;TZID=UTC:20180319T193000
DTEND;TZID=UTC:20180319T233000
DTSTAMP:20260423T214142
CREATED:20180303T171057Z
LAST-MODIFIED:20180303T173843Z
UID:10003394-1521487800-1521502200@8maerz.at
SUMMARY:PCCC* # 5: My first time
DESCRIPTION:No mat­ter what you do in life\, the­re is always a first time you do it. Whe­ther it is work\, sex\, par­ty­ing too hard or voting: You’ll look into the mir­ror and feel slight­ly dif­fe­rent. You’ll ask yours­elf if the out­co­me is worth it: the crus­hed dream\, the spots on your futon\, the mold of said futon’s sur­face on your cheek or the fee­ling of power­less­ness against the majority. \nIf you’re any­thing like us\, you’ll also adjust your hair (for seve­ral minu­tes) and think: This will make for a gre­at sto­ry one day. PCCC*\, Vienna’s First Poli­ti­cal­ly Cor­rect Come­dy Club\, will revi­sit their her*stories of new worlds\, fal­si­fied hypo­the­ses and lost socks. It’s the good stuff\, so you’ll defi­ni­te­ly want to inhale! \nFirst PCCC* under the umbrel­la of WUK per­forming arts \nTickets:\nDu ent­schei­dest sel­ber\, wie viel du für ein Ticket bezah­len kannst. Es gibt Tickets zu € 8\, € 11 und € 14. \nTicket­ver­kauf:\nIm WUK Info­bü­ro\, täg­lich von 15:00 bis 20:00 Uhr und online.
URL:https://8maerz.at/veranstaltung/pccc-5-my-first-time/
LOCATION:WUK\, Währingerstraße 59\, Wien\, 1090\, Österreich
GEO:48.2232818;16.3514158
X-APPLE-STRUCTURED-LOCATION;VALUE=URI;X-ADDRESS=WUK Währingerstraße 59 Wien 1090 Österreich;X-APPLE-RADIUS=500;X-TITLE=Währingerstraße 59:geo:16.3514158,48.2232818
END:VEVENT
BEGIN:VEVENT
DTSTART;TZID=UTC:20180323T180000
DTEND;TZID=UTC:20180323T200000
DTSTAMP:20260423T214142
CREATED:20180304T202459Z
LAST-MODIFIED:20180304T202459Z
UID:10003411-1521828000-1521835200@8maerz.at
SUMMARY:Seminarraumgespräch: Queer Theory und Psychoanalyse
DESCRIPTION:Seminarraumgespräch – Denken in Präsenz:\nQue­er Theo­ry und Psy­cho­ana­ly­se – ein pro­duk­ti­ves Überschneidungsfeld\nmit Esther Hut­fless\, Psychoanalytiker*in in Aus­bil­dung unter Super­vi­si­on\, Philosoph*in. \nIn unse­ren Semi­nar­raum­ge­sprä­chen kann lei­den­schaft­lich und mit Muße in Prä­senz über Gegen­wär­ti­ges nach­ge­dacht werden.\nKura­tiert und mode­riert von Bir­ge Krondorfer \nOrt: Frau­en­bil­dungs­stät­te Frau­en­hetz\, Unte­re Weiß­ger­ber­stra­ße 41\, 1030 Wien\nSnacks und Geträn­ke wer­den gereicht\nEin­tritt frei\, Spen­den willkommen\nVer­an­stal­tung für Frauen
URL:https://8maerz.at/veranstaltung/seminarraumgespraech-queer-theory-und-psychoanalyse/
LOCATION:Frauenhetz\, Untere Weißgerberstraße 41\, Wien\, 1030
ORGANIZER;CN="Frauenhetz - feministische Bildung%2C Kultur und Politik":MAILTO:office@frauenhetz.at
GEO:48.2084854;16.3946163
X-APPLE-STRUCTURED-LOCATION;VALUE=URI;X-ADDRESS=Frauenhetz Untere Weißgerberstraße 41 Wien 1030;X-APPLE-RADIUS=500;X-TITLE=Untere Weißgerberstraße 41:geo:16.3946163,48.2084854
END:VEVENT
END:VCALENDAR