BEGIN:VCALENDAR
VERSION:2.0
PRODID:-//8. März - ECPv6.15.20//NONSGML v1.0//EN
CALSCALE:GREGORIAN
METHOD:PUBLISH
X-WR-CALNAME:8. März
X-ORIGINAL-URL:https://8maerz.at
X-WR-CALDESC:Veranstaltungen für 8. März
REFRESH-INTERVAL;VALUE=DURATION:PT1H
X-Robots-Tag:noindex
X-PUBLISHED-TTL:PT1H
BEGIN:VTIMEZONE
TZID:Europe/Vienna
BEGIN:DAYLIGHT
TZOFFSETFROM:+0100
TZOFFSETTO:+0200
TZNAME:CEST
DTSTART:20190331T010000
END:DAYLIGHT
BEGIN:STANDARD
TZOFFSETFROM:+0200
TZOFFSETTO:+0100
TZNAME:CET
DTSTART:20191027T010000
END:STANDARD
BEGIN:DAYLIGHT
TZOFFSETFROM:+0100
TZOFFSETTO:+0200
TZNAME:CEST
DTSTART:20200329T010000
END:DAYLIGHT
BEGIN:STANDARD
TZOFFSETFROM:+0200
TZOFFSETTO:+0100
TZNAME:CET
DTSTART:20201025T010000
END:STANDARD
BEGIN:DAYLIGHT
TZOFFSETFROM:+0100
TZOFFSETTO:+0200
TZNAME:CEST
DTSTART:20210328T010000
END:DAYLIGHT
BEGIN:STANDARD
TZOFFSETFROM:+0200
TZOFFSETTO:+0100
TZNAME:CET
DTSTART:20211031T010000
END:STANDARD
END:VTIMEZONE
BEGIN:VEVENT
DTSTART;TZID=Europe/Vienna:20200113T190000
DTEND;TZID=Europe/Vienna:20200113T210000
DTSTAMP:20260425T021824
CREATED:20200108T191221Z
LAST-MODIFIED:20200108T191343Z
UID:10003578-1578942000-1578949200@8maerz.at
SUMMARY:Stell dir vor\, wir streiken heute!
DESCRIPTION:Stell dir vor\, wir streiken heute!\nAnläss­lich des Frau­en­streik­ta­ges am 8. März 2020 und des Akti­ons­ta­ges am 21. Juni 2020 (nähe­re Infor­ma­tio­nen dazu bei der Ver­an­stal­tung) wer­den anhand einer Prä­sen­ta­ti­on fol­gen­de Schwer­punk­te beleuchtet: \n* Geschich­te der pro­le­ta­ri­schen Frau­en­kämp­fe und Frau­en­be­we­gungs­ge­schich­te in Europa\n* Frau­en kämp­fen gegen Sexis­mus\, Krieg und öko­no­mi­sche Aus­beu­tung weltweit\n* Frau­en­streik international\n* Femi­nis­ti­sche Öko­no­mie. Frau­en­kampf ist Klassenkampf \nEin­füh­rung und anschlie­ßen­de Mode­ra­ti­on: Andrea Strutzmann\nOrt: Frau­en­bil­dungs­stät­te Frau­en­hetz\, Unte­re Weiß­ger­ber­str. 41\, 1030 Wien\nSnacks und Geträn­ke wer­den gereicht. Ein­tritt frei\, Spen­den willkommen. \nVer­an­stal­tung für Frau­en in Koope­ra­ti­on mit dem Frau­en­streik­ko­mi­tee des FZ-Wien.
URL:https://8maerz.at/veranstaltung/stell-dir-vor-wir-streiken-heute/
LOCATION:Frauenhetz\, Untere Weißgerberstraße 41\, Wien\, 1030
ORGANIZER;CN="Frauenhetz - feministische Bildung%2C Kultur und Politik":MAILTO:office@frauenhetz.at
GEO:48.2084854;16.3946163
X-APPLE-STRUCTURED-LOCATION;VALUE=URI;X-ADDRESS=Frauenhetz Untere Weißgerberstraße 41 Wien 1030;X-APPLE-RADIUS=500;X-TITLE=Untere Weißgerberstraße 41:geo:16.3946163,48.2084854
END:VEVENT
BEGIN:VEVENT
DTSTART;TZID=Europe/Vienna:20200124T190000
DTEND;TZID=Europe/Vienna:20200124T220000
DTSTAMP:20260425T021824
CREATED:20200108T202523Z
LAST-MODIFIED:20200108T202523Z
UID:10003583-1579892400-1579903200@8maerz.at
SUMMARY:Buchvorstellung: Identitätspolitiken
DESCRIPTION:Identitätspolitiken. Buchvorstellung\nIden­ti­täts­po­li­tik bedeu­tet\, sich über die eige­ne Iden­ti­tät als bei­spiels­wei­se Afro­ame­ri­ka­ne­rin\, Jude/Jüdin\, Frau\, Les­be oder Arbei­ter zu defi­nie­ren – und bes­ten­falls auch zu orga­ni­sie­ren. Doch obwohl die­se Form der Iden­ti­täts­po­li­tik die Basis zahl­lo­ser sozia­ler Bewe­gun­gen wie bspw. des Femi­nis­mus bil­de­te\, wur­de sie spä­tes­tens durch die Que­er und Post­co­lo­ni­al Theo­ry radi­kal infra­ge gestellt. Doch nicht nur theo­re­tisch wird Iden­ti­täts­po­li­tik hef­tig her­aus­ge­for­dert\, son­dern inzwi­schen auch inner­halb der Lin­ken als gera­de­zu kon­ter­re­vo­lu­tio­när scharf kri­ti­siert. Sie scha­de dem Klas­sen­kampf\, so die Argu­men­ta­ti­on. Denn der Kampf gegen Dis­kri­mi­nie­rung wür­de von jenem gegen sozia­le Ungleich­heit nur ablen­ken. Doch ohne die vie­len Fall­stri­cke von Iden­ti­täts­po­li­tik – ihre Aus­schlüs­se und Ver­ein­heit­li­chun­gen – zu leug­nen\, macht unser Buch deut­lich: Die Kri­tik von Min­der­hei­ten ist eine demo­kra­tie­po­li­ti­sche Stär­ke und eben nicht die Schwä­che lin­ker Bewe­gun­gen. Nicht Spal­tung ist das Ziel lin­ker Iden­ti­täts­po­li­tik\, son­dern letzt­end­lich das\, was ver­meint­lich ver­hin­dert wird: Solidarität. \nMode­ra­ti­on: Hei­de Hammer \nhttps://www.unrast-verlag.de/neuerscheinungen/identitaetspolitiken-detail \nJens Kast­ner\, Lea Susemichel\nIdentitätspolitiken\nKon­zep­te und Kri­ti­ken in Geschich­te und Gegen­wart der Linken\nISBN 978−3−89771−320−8
URL:https://8maerz.at/veranstaltung/buchvorstellung-identitatspolitiken/
LOCATION:Depot – Kunst und Diskussion\, Breite Gasse 3\, Wien\, 1070
GEO:48.2031754;16.3568226
X-APPLE-STRUCTURED-LOCATION;VALUE=URI;X-ADDRESS=Depot – Kunst und Diskussion Breite Gasse 3 Wien 1070;X-APPLE-RADIUS=500;X-TITLE=Breite Gasse 3:geo:16.3568226,48.2031754
END:VEVENT
BEGIN:VEVENT
DTSTART;TZID=Europe/Vienna:20200125T103000
DTEND;TZID=Europe/Vienna:20200125T130000
DTSTAMP:20260425T021824
CREATED:20200108T205041Z
LAST-MODIFIED:20200108T205057Z
UID:10003440-1579948200-1579957200@8maerz.at
SUMMARY:Frauen*frühstück mit "Lebensstraßen"
DESCRIPTION:Lebensstraßen – Erinnern für die Zukunft\nFrauen*frühstück des Bun­des demo­kra­ti­scher Frauen \nIn Wien sind bis­her nur 9\,5 % Stra­ßen und öffent­li­che Plät­ze nach Frau­en benannt\, ein Ungleich­ge­wicht\, dem mit den Benen­nun­gen von Stra­ßen z.B. in der See­stadt bei­na­he aus­schließ­lich nach Frau­en ent­ge­gen­ge­wirkt wird. Das Lebens­stra­ßen-Sta­tio­nen­thea­ter hat nun zwei Jah­re in Fol­ge die Ver­diens­te jener Frau­en\, die den Stra­ßen und Plät­zen der See­stadt ihre Namen gege­ben haben\, einem brei­te­ren Publi­kum bekannt­ge­macht. Dar­un­ter befin­den sich Frau­en\, die vor dem Natio­nal­so­zia­lis­mus ins Exil flie­hen muss­ten\, Wider­stands­kämp­fe­rin­nen und Gerech­te unter den Völ­kern – Frau­en\, die jüdi­schen Men­schen das Leben geret­tet haben. \nDie Schau­spie­le­rin und Regis­seu­rin Vanes­sa Pay­er\, Initia­to­rin die­ses äußerst gelun­ge­nen Bei­spiels frau­en­po­li­ti­scher Kul­tur­ar­beit an der Wie­ner Peri­phe­rie\, berich­tet über ihr Pro­jekt\, zeigt und kom­men­tiert Aus­schnit­te aus Fil­men\, die wäh­rend der Vor­stel­lung ent­stan­den sind. \nSams­tag\, 25.1.2020\, 10:30 Uhr\nFrau­en­hetz\, Unte­re Weiß­ger­ber­stra­ße 41\, 1030 Wien
URL:https://8maerz.at/veranstaltung/frauenfruehstueck-mit-lebensstrassen/
LOCATION:Frauenhetz\, Untere Weißgerberstraße 41\, Wien\, 1030
GEO:48.2084854;16.3946163
X-APPLE-STRUCTURED-LOCATION;VALUE=URI;X-ADDRESS=Frauenhetz Untere Weißgerberstraße 41 Wien 1030;X-APPLE-RADIUS=500;X-TITLE=Untere Weißgerberstraße 41:geo:16.3946163,48.2084854
END:VEVENT
BEGIN:VEVENT
DTSTART;TZID=Europe/Vienna:20200129T190000
DTEND;TZID=Europe/Vienna:20200129T203000
DTSTAMP:20260425T021824
CREATED:20200108T210517Z
LAST-MODIFIED:20200108T210533Z
UID:10003442-1580324400-1580329800@8maerz.at
SUMMARY:Reihenweise kluge Frauen: Biografien neu erzählt
DESCRIPTION:Reihenweise kluge Frauen: Biografien neu erzählt\nBuch­prä­sen­ta­ti­on und Diskussion \nSie waren aus­dau­ernd\, unbe­irr­bar und stark. Sie lehn­ten sich gegen Lebens­be­din­gun­gen auf\, die sie klein hiel­ten. Sie setz­ten sich über Tabus hin­weg und gin­gen einen Weg\, der zu ihrer Zeit so nicht für sie vor­ge­se­hen war. \nDie ers­ten bei­den Aus­ga­ben der Bio­gra­fien-Rei­he „Rei­hen­wei­se klu­ge Frau­en“ rich­ten den Schein­wer­fer auf zwei außer­ge­wöhn­li­che Heldinnen:\nHedy Lamarr und Mar­ga­re­te Schütte-Lihotzky \nMit fri­schem Blick wer­den ihre Lebens­ge­schich­ten neu erzählt – jen­seits von Kli­schees und falsch tra­dier­tem Halbwissen. \nDie Autorin­nen Michae­la Lin­din­ger und Mona Horn­cast­le im Gespräch mit Mag­da­le­na Meer­graf vom Frauen*netzwerk Sorority. \nEin­tritt frei! \nEine Koope­ra­ti­on von Soro­ri­ty & Sty­ria Buch­ver­la­ge.
URL:https://8maerz.at/veranstaltung/reihenweise-kluge-frauen-biografien-neu-erzaehlt/
LOCATION:Thalia Mariahilferstraße\, Mariahilferstraße 99\, Wien\, Wien\, 1060\, Österreich
ORGANIZER;CN="Sorority":MAILTO:solidarity@sorority.at
GEO:48.1967916;16.3461328
X-APPLE-STRUCTURED-LOCATION;VALUE=URI;X-ADDRESS=Thalia Mariahilferstraße Mariahilferstraße 99 Wien Wien 1060 Österreich;X-APPLE-RADIUS=500;X-TITLE=Mariahilferstraße 99:geo:16.3461328,48.1967916
END:VEVENT
END:VCALENDAR