BEGIN:VCALENDAR
VERSION:2.0
PRODID:-//8. März - ECPv6.15.20//NONSGML v1.0//EN
CALSCALE:GREGORIAN
METHOD:PUBLISH
X-WR-CALNAME:8. März
X-ORIGINAL-URL:https://8maerz.at
X-WR-CALDESC:Veranstaltungen für 8. März
REFRESH-INTERVAL;VALUE=DURATION:PT1H
X-Robots-Tag:noindex
X-PUBLISHED-TTL:PT1H
BEGIN:VTIMEZONE
TZID:Europe/Vienna
BEGIN:DAYLIGHT
TZOFFSETFROM:+0100
TZOFFSETTO:+0200
TZNAME:CEST
DTSTART:20180325T010000
END:DAYLIGHT
BEGIN:STANDARD
TZOFFSETFROM:+0200
TZOFFSETTO:+0100
TZNAME:CET
DTSTART:20181028T010000
END:STANDARD
BEGIN:DAYLIGHT
TZOFFSETFROM:+0100
TZOFFSETTO:+0200
TZNAME:CEST
DTSTART:20190331T010000
END:DAYLIGHT
BEGIN:STANDARD
TZOFFSETFROM:+0200
TZOFFSETTO:+0100
TZNAME:CET
DTSTART:20191027T010000
END:STANDARD
BEGIN:DAYLIGHT
TZOFFSETFROM:+0100
TZOFFSETTO:+0200
TZNAME:CEST
DTSTART:20200329T010000
END:DAYLIGHT
BEGIN:STANDARD
TZOFFSETFROM:+0200
TZOFFSETTO:+0100
TZNAME:CET
DTSTART:20201025T010000
END:STANDARD
END:VTIMEZONE
BEGIN:VEVENT
DTSTART;TZID=Europe/Vienna:20190424T193000
DTEND;TZID=Europe/Vienna:20190424T210000
DTSTAMP:20260426T000906
CREATED:20190331T211757Z
LAST-MODIFIED:20190331T212016Z
UID:10003571-1556134200-1556139600@8maerz.at
SUMMARY:Votes For Women – Wanted Everywhere!
DESCRIPTION:Frauenwahlrecht und politische Partizipation von Frauen im Globalen Süden\nAnläss­lich der Fei­ern zum 100jährigen Jubi­lä­um des Frau­en­wahl­rechts in Öster­reich und Deutsch­land wer­fen wir einen Blick über die (euro­päi­schen) Gren­zen. Wir fra­gen\, wie sich das Frau­en­wahl­recht in ver­schie­de­nen Regio­nen und Län­dern des Glo­ba­len Südens ent­wi­ckel­te; wel­che Fak­to­ren des­sen Ein­füh­rung begüns­tig­ten; wie sich in der Fol­ge die Teil­ha­be von Frau­en an for­ma­ler poli­ti­scher Macht gestal­te­te und wel­che Regio­nen mit ihrem Frau­en­an­teil in poli­ti­schen Ämtern und Gre­mi­en welt­weit füh­rend sind. Mit­tels Quiz\, Film­aus­schnitt\, Vor­trag\, Dis­kus­si­on sowie Prä­sen­ta­ti­on der Zeit­schrift Frauen*solidarität zum Schwer­punkt „Wah­len und poli­ti­sche Par­ti­zi­pa­ti­on“ behan­deln wir die­se The­men und ver­lo­sen zum Schluss unter den Teilnehmer*innen des Quiz‘ ein Jah­res­abo der Zeit­schrift Frauen*solidarität. \nMit Petra Pint und Rosa Zechner \nUm Anmel­dung wird gebe­ten: office@frauensolidaritaet.org \nEine Ver­an­stal­tung der Frauen*solidarität in Koope­ra­ti­on mit der Frau­en­hetz: frauenhetz.jetzt \nDie Ver­an­stal­tun­gen in der Frau­en­hetz sind für Frau­en. Die Räum­lich­kei­ten der Frau­en­hetz sind bar­rie­re­frei zugänglich. \nBesu­chen Sie auch: www.frauensolidaritaet.org/frauenwahlrecht
URL:https://8maerz.at/veranstaltung/votes-for-women-wanted-everywhere/
LOCATION:Frauenhetz\, Untere Weißgerberstraße 41\, Wien\, 1030
GEO:48.2084854;16.3946163
X-APPLE-STRUCTURED-LOCATION;VALUE=URI;X-ADDRESS=Frauenhetz Untere Weißgerberstraße 41 Wien 1030;X-APPLE-RADIUS=500;X-TITLE=Untere Weißgerberstraße 41:geo:16.3946163,48.2084854
END:VEVENT
END:VCALENDAR