BEGIN:VCALENDAR
VERSION:2.0
PRODID:-//8. März - ECPv6.15.20//NONSGML v1.0//EN
CALSCALE:GREGORIAN
METHOD:PUBLISH
X-WR-CALNAME:8. März
X-ORIGINAL-URL:https://8maerz.at
X-WR-CALDESC:Veranstaltungen für 8. März
REFRESH-INTERVAL;VALUE=DURATION:PT1H
X-Robots-Tag:noindex
X-PUBLISHED-TTL:PT1H
BEGIN:VTIMEZONE
TZID:UTC
BEGIN:STANDARD
TZOFFSETFROM:+0000
TZOFFSETTO:+0000
TZNAME:UTC
DTSTART:20180101T000000
END:STANDARD
END:VTIMEZONE
BEGIN:VTIMEZONE
TZID:Europe/Vienna
BEGIN:DAYLIGHT
TZOFFSETFROM:+0100
TZOFFSETTO:+0200
TZNAME:CEST
DTSTART:20180325T010000
END:DAYLIGHT
BEGIN:STANDARD
TZOFFSETFROM:+0200
TZOFFSETTO:+0100
TZNAME:CET
DTSTART:20181028T010000
END:STANDARD
BEGIN:DAYLIGHT
TZOFFSETFROM:+0100
TZOFFSETTO:+0200
TZNAME:CEST
DTSTART:20190331T010000
END:DAYLIGHT
BEGIN:STANDARD
TZOFFSETFROM:+0200
TZOFFSETTO:+0100
TZNAME:CET
DTSTART:20191027T010000
END:STANDARD
BEGIN:DAYLIGHT
TZOFFSETFROM:+0100
TZOFFSETTO:+0200
TZNAME:CEST
DTSTART:20200329T010000
END:DAYLIGHT
BEGIN:STANDARD
TZOFFSETFROM:+0200
TZOFFSETTO:+0100
TZNAME:CET
DTSTART:20201025T010000
END:STANDARD
END:VTIMEZONE
BEGIN:VEVENT
DTSTART;TZID=UTC:20190308T150000
DTEND;TZID=UTC:20190308T193000
DTSTAMP:20260426T012316
CREATED:20190222T173454Z
LAST-MODIFIED:20190222T193138Z
UID:10003460-1552057200-1552073400@8maerz.at
SUMMARY:Wiener Frauentag im Rathaus
DESCRIPTION:100 Jahre Frauenwahlrecht – Unsere Stimme zählt – Wiener Frauentag 2019\nAm 8. März 2019 wird im Wie­ner Rat­haus der Inter­na­tio­na­le Frau­en­tag unter dem Mot­to „100 Jah­re Frau­en­wahl­recht – Unse­re Stim­me zählt“ gefeiert.\nNeben einem Bera­tungs­an­ge­bot sowie Füh­run­gen und Work­shops gibt es einen Auf­tritt von Eva Maria Marold. \nEröff­nung: 15 Uhr\, Begrü­ßung durch Wohn­bau­stadt­rä­tin Kath­rin Gaál  um 15:15 Uhr. \nGesam­tes Pro­gramm auf wien.gv.at.
URL:https://8maerz.at/veranstaltung/wiener-frauentag-2019-im-rathaus/
LOCATION:Rathaus\, Friedrich-Schmidt-Platz 1\, Wien\, 1010
GEO:48.2109437;16.3565084
X-APPLE-STRUCTURED-LOCATION;VALUE=URI;X-ADDRESS=Rathaus Friedrich-Schmidt-Platz 1 Wien 1010;X-APPLE-RADIUS=500;X-TITLE=Friedrich-Schmidt-Platz 1:geo:16.3565084,48.2109437
END:VEVENT
BEGIN:VEVENT
DTSTART;TZID=Europe/Vienna:20190313T170000
DTEND;TZID=Europe/Vienna:20190313T190000
DTSTAMP:20260426T012316
CREATED:20190312T182811Z
LAST-MODIFIED:20190312T182849Z
UID:10003543-1552496400-1552503600@8maerz.at
SUMMARY:Johanna-Dohnal-Preise 2019
DESCRIPTION:Die SPÖ Frau­en und das Johan­na-Dohnal-Archiv laden ein zur Ver­lei­hung der \nJohan­na-Dohnal-Prei­se 2019 \nMitt­woch\, 13. März 2019\, 17:30 – 19 Uhr\, Ein­lass 17:00\, Bru­no-Krei­sky-Forum\, Arm­brust­er­gas­se 15\, 1190 Wien \nJohan­na-Dohnal-För­der­prei­se und Sti­pen­di­um für Dis­ser­tan­tin­nen und Diplo­man­din­nen\, deren Arbei­ten die Ver­wirk­li­chung von Geschlech­ter­de­mo­kra­tie för­dern oder eine Vor­bild­wir­kung auf Mäd­chen und Frau­en in Aus­bil­dung und Stu­di­um haben. \nDie Aus­bil­dung und Chan­cen­gleich­heit von jun­gen Frau­en und Mäd­chen waren gro­ße Anlie­gen von Bun­des­mi­nis­te­rin Johan­na Dohnal. Dar­um wer­den auch heu­er wie­der die bereits tra­di­tio­nel­len För­der­prei­se sowie ein Johan­na-Dohnal-Sti­pen­di­um vergeben. \nDie Preis­trä­ge­rin­nen wer­den wie jedes Jahr von einer Jury aus­ge­wählt. Patin­nen und Paten\, die durch ihren finan­zi­el­len Bei­trag das Preis­geld finan­zie­ren\, machen die­sen Preis mög­lich. Im Anschluss an die Preis­ver­lei­hung wird zu einem Emp­fang geladen. \nPro­gramm: \nEröff­nung: Gabrie­le Hei­nisch-Hosek\, SPÖ- Bundesfrauenvorsitzende\nBegrü­ßung für die Jury: Univ.-Prof.in Dr.in Gabri­el­la Hauch \nSti­pen­di­um: \nMar­ti­na Gaigg: Inte­gra­ti­on und Par­ti­zi­pa­ti­on durch Weiterbildung?Erfahrungen von Frau­en mit Migra­ti­ons­ge­schich­te am Bei­spiel von Bil­dungs­maß­nah­men im Pfle­ge­be­reich. (Dis­ser­ta­ti­on)\nLau­da­tio: Univ.-Doz.in Dr.in Maria Mesner \nFör­der­prei­se: \nVero­ni­ka Muchitsch: Neo­li­be­ral Sounds? The Poli­tics of Beyoncé’s Voice\nLau­da­tio: Univ.-Prof.in Dr.in Eli­sa­beth Holzleithner \nMar­ti­na Spieß­ber­ger: Lehr­per­so­nen im Fokus – Vor­aus­set­zun­gen für geschlech­ter­sen­si­ble Inter­ak­ti­on im Mathematikunterricht\nLau­da­tio: Dipl.-Ing.in Dr.in Bri­git­te Ratzer \nVero­ni­ka Duma: Rosa Joch­mann. Eine bio­gra­fi­sche Ver­or­tung im Span­nungs­feld von Wider­stand und Ver­fol­gung im (Austro-)Faschismus und Natio­nal­so­zia­lis­mus aus geschlechts­spe­zi­fi­scher Perspektive\nLau­da­tio: Univ.-Prof.in Dr.in Gabri­el­la Hauch \nSchluss­wor­te:\nUniv.-Doz.in Dr.in Maria Mesner \nMusi­ka­li­sche Umrah­mung: Lis­ten To Lee­na (Solo) \nAnmel­dung per Mail: frauen@spoe.at
URL:https://8maerz.at/veranstaltung/johanna-dohnal-preise-2019/
LOCATION:Bruno-Kreisky-Forum\, Armbrustergasse 15\, Wien\, Wien\, 1190\, Österreich
GEO:48.2548226;16.354786
X-APPLE-STRUCTURED-LOCATION;VALUE=URI;X-ADDRESS=Bruno-Kreisky-Forum Armbrustergasse 15 Wien Wien 1190 Österreich;X-APPLE-RADIUS=500;X-TITLE=Armbrustergasse 15:geo:16.354786,48.2548226
END:VEVENT
BEGIN:VEVENT
DTSTART;TZID=Europe/Vienna:20190329T180000
DTEND;TZID=Europe/Vienna:20190329T210000
DTSTAMP:20260426T012316
CREATED:20190312T171118Z
LAST-MODIFIED:20190312T171144Z
UID:10003537-1553882400-1553893200@8maerz.at
SUMMARY:Abschlussfest und Präsentation "My Identity"
DESCRIPTION:Abschlussfest und Präsentation Methodenhandbuch „My Identity“\n29.03.2019\, 18 Uhr\, Die Requi­si­te\, Krumm­gas­se 1a\, 1030 Wien \nPro­gramm:\n18 Uhr: Begrü­ßung und Rück­blick auf\n§ Thea­ter­pro­jekt „Die Odyssee“\n§ Koope­ra­tio­nen (u.a. Grrrls Kul­tur­ver­ein\, flash Mäd­chen­ca­fé\, spacelab)\n§ Fotos‑\, Video- und Filmprojekte\n§ *Prä­sen­ta­ti­on unse­res Methodenhandbuchs* \nab ~19:30 Uhr: Aus­klang und Netz­wer­ken bei Geträn­ken und klei­nem Buffet \nUm Anmel­dung wird gebe­ten an theresa@poika.at
URL:https://8maerz.at/veranstaltung/abschlussfest-und-prasentation-my-identity/
LOCATION:Die Requisite\, Krummgasse 1a\, Wien\, Wien\, 1030\, Österreich
GEO:48.2002045;16.386701
X-APPLE-STRUCTURED-LOCATION;VALUE=URI;X-ADDRESS=Die Requisite Krummgasse 1a Wien Wien 1030 Österreich;X-APPLE-RADIUS=500;X-TITLE=Krummgasse 1a:geo:16.386701,48.2002045
END:VEVENT
END:VCALENDAR