BEGIN:VCALENDAR
VERSION:2.0
PRODID:-//8. März - ECPv6.15.20//NONSGML v1.0//EN
CALSCALE:GREGORIAN
METHOD:PUBLISH
X-WR-CALNAME:8. März
X-ORIGINAL-URL:https://8maerz.at
X-WR-CALDESC:Veranstaltungen für 8. März
REFRESH-INTERVAL;VALUE=DURATION:PT1H
X-Robots-Tag:noindex
X-PUBLISHED-TTL:PT1H
BEGIN:VTIMEZONE
TZID:UTC
BEGIN:STANDARD
TZOFFSETFROM:+0000
TZOFFSETTO:+0000
TZNAME:UTC
DTSTART:20170101T000000
END:STANDARD
END:VTIMEZONE
BEGIN:VEVENT
DTSTART;TZID=UTC:20180302T170000
DTEND;TZID=UTC:20180303T220000
DTSTAMP:20260425T221910
CREATED:20180126T202941Z
LAST-MODIFIED:20180225T123821Z
UID:10003335-1520010000-1520114400@8maerz.at
SUMMARY:Rosa Luxemburg Konferenz
DESCRIPTION:Es wird immer deut­li­cher\, dass die bis­her herr­schen­de Ord­nung\, so mäch­tig sie uns heu­te noch erschei­nen mag\, auf Sand gebaut ist. Die Not­wen­dig­keit der Über­win­dung des Kapi­ta­lis­mus stellt sich daher ein­mal mehr ganz kon­kret. Die Lin­ke steht dabei vor der Fra­ge\, mit wel­chen Theo­rien\, Pro­gram­men\, Stra­te­gien und Metho­den sie den Kampf für eine bes­se­re\, gerech­te­re Welt wei­ter­füh­ren möch­te. Die Rosa Luxem­burg Kon­fe­renz – AT (2./3. März 2018) ist ein Forum\, wo genau die­se lin­ken Stra­te­gie­de­bat­ten von einer anti­ka­pi­ta­lis­ti­schen Per­spek­ti­ve aus soli­da­risch und breit geführt wer­den sollen. \nDetails und Pro­gramm auf https://www.rosaluxemburgkonferenz.at/
URL:https://8maerz.at/veranstaltung/rosa-luxemburg-konferenz/
LOCATION:VHS Hietzing\, Hofwiesengasse 48\, Wien\, 1130
GEO:48.1704596;16.286833
X-APPLE-STRUCTURED-LOCATION;VALUE=URI;X-ADDRESS=VHS Hietzing Hofwiesengasse 48 Wien 1130;X-APPLE-RADIUS=500;X-TITLE=Hofwiesengasse 48:geo:16.286833,48.1704596
END:VEVENT
END:VCALENDAR