BEGIN:VCALENDAR
VERSION:2.0
PRODID:-//8. März - ECPv6.15.17.1//NONSGML v1.0//EN
CALSCALE:GREGORIAN
METHOD:PUBLISH
X-WR-CALNAME:8. März
X-ORIGINAL-URL:https://8maerz.at
X-WR-CALDESC:Veranstaltungen für 8. März
REFRESH-INTERVAL;VALUE=DURATION:PT1H
X-Robots-Tag:noindex
X-PUBLISHED-TTL:PT1H
BEGIN:VTIMEZONE
TZID:Europe/Vienna
BEGIN:DAYLIGHT
TZOFFSETFROM:+0100
TZOFFSETTO:+0200
TZNAME:CEST
DTSTART:20210328T010000
END:DAYLIGHT
BEGIN:STANDARD
TZOFFSETFROM:+0200
TZOFFSETTO:+0100
TZNAME:CET
DTSTART:20211031T010000
END:STANDARD
BEGIN:DAYLIGHT
TZOFFSETFROM:+0100
TZOFFSETTO:+0200
TZNAME:CEST
DTSTART:20220327T010000
END:DAYLIGHT
BEGIN:STANDARD
TZOFFSETFROM:+0200
TZOFFSETTO:+0100
TZNAME:CET
DTSTART:20221030T010000
END:STANDARD
BEGIN:DAYLIGHT
TZOFFSETFROM:+0100
TZOFFSETTO:+0200
TZNAME:CEST
DTSTART:20230326T010000
END:DAYLIGHT
BEGIN:STANDARD
TZOFFSETFROM:+0200
TZOFFSETTO:+0100
TZNAME:CET
DTSTART:20231029T010000
END:STANDARD
END:VTIMEZONE
BEGIN:VEVENT
DTSTART;TZID=Europe/Vienna:20220301T180000
DTEND;TZID=Europe/Vienna:20220301T200000
DTSTAMP:20260422T042312
CREATED:20220213T204632Z
LAST-MODIFIED:20220213T204736Z
UID:10003876-1646157600-1646164800@8maerz.at
SUMMARY:Empowering Migrant Women
DESCRIPTION:Empowering Migrant Women: Die Diaspora als Sprachrohr für Frauen- und Migrantinnenrechte.\nEine Ver­an­stal­tung mit der Platt­form für eine mensch­li­che Asylpolitik. \nFrau­en über­neh­men in vie­len glo­ba­len Kon­flik­ten eine wich­ti­ge Rol­le: Sie kämp­fen um ihre Rech­te inmit­ten oft gewalt­vol­ler poli­ti­scher Aus­ein­an­der­set­zun­gen\, von denen sie selbst mas­siv betrof­fen sind. Sie for­dern ihre kör­per­li­che Unver­sehrt­heit\, ihre Selbst­be­stim­mung\, ihre öko­no­mi­sche Unab­hän­gig­keit und eine fried­li­che Zukunft. Sie sind unbeug­sa­me Rebel­lin­nen gegen auto­ri­tä­re Regimes und faschis­ti­sche und ter­ro­ris­ti­sche Strö­mun­gen. Und sie sind auch die Pio­nie­rin­nen des demo­kra­ti­schen Wie­der­auf­baus\, oft nach nach Jahr­zehn­ten der Unterdrückung. \nIn Öster­reich sind sie Teil der Dia­spo­ra und enga­gie­ren sich wei­ter poli­tisch für Frau­en­rech­te hier und dort. Als Migran­tin­nen und als Geflüch­te­te schaf­fen sie auch in Öster­reich Räu­me des Wider­stands und des Enga­ge­ments für Frau­en­rech­te\, Demo­kra­tie und Dialog. \nAnläss­lich des trans­na­tio­na­len Migran­tin­nen­streik­tags am 1. März und im Vor­feld des inter­na­tio­na­len Tags gegen Ras­sis­mus (21. März) dis­ku­tie­ren wir mit muti­gen poli­tisch enga­gier­ten Frau­en\, die über die Dia­spo­ra hin­aus ihre Stim­me für die Rech­te von Frau­en\, Migran­tin­nen und Geflüch­te­ten erheben. \nBegrü­ßung durch NR-Abg. Fai­ka El-Naga­shi\, Integrationssprecherin:\nInte­gra­ti­ons­po­li­tik zur Stär­kung von Migrantinnenrechten\nBegrü­ßung durch NR-Abg. Ewa Ernst-Dzied­zic\, Außen­po­li­ti­sche Sprecherin:\nFrau­en­rech­te welt­weit: Außen­po­li­tik als Friedenspolitik \nDanach Dis­kus­si­on mit:\nIshra­ga Mus­ta­fa Hamid (Akti­vis­tin und Schrif­stel­le­rin): Sudan\nZahra Hash­i­mi (Akti­vis­tin): Afghanistan\nSel­ma Jahić (Zeit­zeu­gin): Bos­ni­en und Herzegowina/Balkan\nIry­na Piar­voi­ki­na (Poli­tik­wis­sen­schaft­le­rin): Belarus\nCelia Mara (Künst­le­rin und Akti­vis­tin): Brasilien/Lateinamerika \nMode­ra­ti­on:\nJudith Ranft­ler\, Platt­form für eine mensch­li­che Asylpolitik/Volkshilfe Österreich \nAnschlie­ßend Aus­klang mit vega­nen Bröt­chen & Getränken \nAch­tung: Für den Ein­tritt in das Gebäu­de ist ein Licht­bild­aus­weis erfor­der­lich! Wäh­rend der Ver­an­stal­tung gilt FFP2-Mas­ken­pflicht. Für den Zutritt gilt die 2Gplus-Regel (geimpft oder gene­sen UND PCR-getes­tet). PCR-Tests haben eine Gül­tig­keit von 48 Stunden. \nEin­lass ab 17:30 Uhr\nBeginn (pünkt­lich): 18:00 Uhr \nBegrenz­te Teilnehmer:innenzahl\, Anmel­dung bis 24.2. unter martha.weicher@gruene.at
URL:https://8maerz.at/veranstaltung/empowering-migrant-women/
LOCATION:Ausweichquartier Hofburg\, Josefsplatz 2\, Wien\, Wien\, 1010\, Österreich
END:VEVENT
BEGIN:VEVENT
DTSTART;TZID=Europe/Vienna:20220301T183000
DTEND;TZID=Europe/Vienna:20220301T203000
DTSTAMP:20260422T042312
CREATED:20220227T140043Z
LAST-MODIFIED:20220227T140120Z
UID:10003902-1646159400-1646166600@8maerz.at
SUMMARY:Round Table: „66th Commission on the Status of Women: Gleichstellung im Kontext von Klimawandel und Umweltkatastrophen“
DESCRIPTION:Anläss­lich der von 14. bis 25. März statt­fin­den­den 66. Tagung der Frau­en­sta­tus­kom­mis­si­on der Ver­ein­ten Natio­nen (Com­mis­si­on on the Sta­tus of Women – CSW) laden UN Women Aus­tria zu einem digi­ta­len Round Table zum The­ma “66th Com­mis­si­on on the Sta­tus of Women: Gleich­stel­lung im Kon­text von Kli­ma­wan­del und Umwelt­ka­ta­stro­phen” am Diens­tag\, 1. März 2022\, um 18:30 Uhr ein. \nVom 14. bis 25. März 2022 fin­det die 66. Tagung der Frau­en­sta­tus­kom­mis­si­on (Com­mis­si­on on the Sta­tus of Women\, CSW) der Ver­ein­ten Natio­nen statt. Die seit 1946 jähr­lich tagen­de Kom­mis­si­on hat die Auf­ga­be\, Geschlech­ter­gleich­stel­lung vor­an­zu­brin­gen und die Rech­te von Frau­en und Mäd­chen zu stär­ken. Das dies­jäh­ri­ge Schwer­punkt­the­ma ist die Geschlech­ter­gleich­stel­lung im Kon­text des Kli­ma­wan­dels\, sowie die Ent­wick­lung poli­ti­scher Pro­gram­me zur Reduk­ti­on von Umwelt- und Kata­stro­phen­ri­si­ken. Mag.a Laris­sa Lass­mann (Lei­te­rin des Refe­rats I.7.b – Inter­na­tio­na­le Frau­en­fra­gen und ande­re men­schen­recht­li­che Quer­schnitts­fra­gen\, BMEIA) und DIin Marie-Chris­ti­ne Hopf­gart­ner (Abtei­lung VI/1 – All­ge­mei­ne Kli­ma­po­li­tik\, BMK) beleuch­ten wich­ti­ge Pro­zes­se und Inhal­te der 66. CSW sowie die Rol­le Öster­reichs als Mit­glied der VN-Frau­en­sta­tus­kom­mis­si­on von 2021 bis 2025. \nDer vir­tu­el­le Round Table fin­det am Diens­tag\, 1. März 2022\, um 18:30 Uhr als Zoom-Video­kon­fe­renz statt. \nBit­te mel­den Sie sich unter fol­gen­dem Link zum vir­tu­el­len Round Table an: https://us06web.zoom.us/meeting/register/tZwucuCpqDIuHtyCJbQsv0hL78j1Xzi5LHBh \nNach der Regis­trie­rung erhal­ten Sie den Link zur Zoom-Video­kon­fe­renz per Mail zugeschickt.
URL:https://8maerz.at/veranstaltung/round-table-66th-commission-on-the-status-of-women-gleichstellung-im-kontext-von-klimawandel-und-umweltkatastrophen/
LOCATION:Online\, Wien\, Österreich
END:VEVENT
BEGIN:VEVENT
DTSTART;VALUE=DATE:20220308
DTEND;VALUE=DATE:20220320
DTSTAMP:20260422T042312
CREATED:20220212T183551Z
LAST-MODIFIED:20220227T213344Z
UID:10003869-1646697600-1647734399@8maerz.at
SUMMARY:unsichtbar - Symposium zum Thema Sexualisierte Gewalt
DESCRIPTION:unsichtbar – ein aktionskünstlerisches\, interdisziplinäres Symposium zum Thema sexualisierte Gewalt\nWas: Inter­me­dia­les\, inter­dis­zi­pli­nä­res Sym­po­si­um zu „Sexua­li­sier­ter Gewalt“\nWer: unsicht­bar Initia­ti­ve by Livia Klein & Hele­na Gabriel-Oiwoh\nWann: von 08.03. bis 19.03.2022\nWo: Never at Home\, Schel­ling­gas­se 13\, 1010 Wien\, 2. Stock\nBar­rie­re­frei­heit: Lift vor­han­den\, gro­ßes WC mit Hand­grif­fen im Restau­rant gegenüber \nPro­gramm:\n08.03.2022\, 19:00 – 22:00 Uhr: UNSICHTBAR Soft Opening\n11.03.2022\, 19:00 – 22:00 Uhr: Podi­ums­dis­kus­si­on „Sexua­li­sier­te Gewalt SICHTBAR machen“ mit Hele­na Gabri­el-Oiwoh (unsicht­bar)\, Cla­ra Boh­mann (clara.comments)\, Glo­ria Bozyi­git (UN Women Aus­tria)\, Livia Klein (unsicht­bar) & Eva Teja Tsch­i­de­rer (Embo­di­ment Coach)\n12.03.2022\, 09:30 ‑10:30 Uhr: Work­shop 1 „Sexua­li­sier­te Gewalt gegen Frau­en* & Femi­zi­de“ mit Fat­ma Uysal (UNSA Vienna)\n12.03.2022\, 11:00 – 12:00 Uhr: Work­shop 2 „Akti­vis­mus gegen sexua­li­sier­te Gewalt“ mit Cla­ra Boh­man (clara.comments) & Glo­ria Bozyi­git (UN Women Austria)\n12.3.2022\, 12:30 – 13:30 Uhr: Work­shop 3 „Trau­ma ganz­heit­lich betrach­ten und lösen“ mit Ali­na Leit­in­ger (CHANGE NOW)\n12.03.2022\, 14:30 – 16:00 Uhr: Work­shop 4 „Sexua­li­sier­te Gewalt online & was frau* dage­gen tun kann“ mit Alex­an­dra Won­ka (saferinternet.at)\n12.03.2022\, 19:00 – 20:00 Uhr: Work­shop 5 „Vul­va Visi­bi­li­ty – Vul­va Abdruck Ses­si­on“ mit Glo­ria Dim­mel (Künst­le­rin) & Pau­la Mar­scha­lek (Kul­tur­ma­na­ge­rin)\n12.03.2022\, 20:00 – 21:00 Uhr: Work­shop 5 „Vul­va Visi­bi­li­ty – Vul­va Abdruck Ses­si­on“ mit Glo­ria Dim­mel (Künst­le­rin) & Pau­la Mar­scha­lek (Kul­tur­ma­na­ge­rin)\n13.03.2022\, 09:00 – 10:30 Uhr: Work­shop 6 „Sexua­li­sier­te Gewalt – Far­ben­spiel des Hand­lungs­spek­trums“ mit Manue­la Müll­ner (Lan­des­kri­mi­nal­amt Wien)\n13.03.2022\, 11:00 – 12:30 Uhr: Work­shop 7 „Vul­va\, weib­li­che* Sexua­li­tät und sexua­li­sier­te Gewalt inkl. Vul­va-Bas­tel­tisch“ mit Viva la Vulva\n13.03.2022\, 13:00 – 14:00 Uhr: Work­shop 8 „Sexua­li­sier­te Gewalt gegen Frau­en* mit Behin­de­rung“ mit Lisa Udl (Nin­lil) \nBei allen Ver­an­stal­tun­gen gilt die 2G-Regel (geimpft oder gene­sen) und FFP2-Maskenpflicht. \nAnmel­dung hier.
URL:https://8maerz.at/veranstaltung/unsichtbar-symposium-zum-thema-sexualisierte-gewalt/
LOCATION:Never at Home\, Schellinggasse 13\, Wien\, Wien\, 1010\, Österreich
END:VEVENT
BEGIN:VEVENT
DTSTART;TZID=Europe/Vienna:20220308T193000
DTEND;TZID=Europe/Vienna:20220308T213000
DTSTAMP:20260422T042312
CREATED:20220227T200927Z
LAST-MODIFIED:20220227T200951Z
UID:10003663-1646767800-1646775000@8maerz.at
SUMMARY:Premiere im Gartenbaukino zum Weltfrauentag: EVA-MARIA
DESCRIPTION:Am 8. März ist Welt­frau­en­tag und wir freu­en uns an die­sem Tag die Pre­mie­re des Doku­men­tar­films EVA-MARIA von Lukas Lad­ner fei­ern zu können.\nIm Anschluss an den Film begrü­ßen wir Prot­ago­nis­tin Eva-Maria und Ber­na­dette Feu­er­stein\, Obfrau von SLIÖ „Selbst­be­stimmt Leben Öster­reich“ zu einem Gespräch im Kino. \nZum Film:\nEva-Maria lässt sich gern von ihrem Opti­mis­mus lei­ten\, auch in ihrem Wunsch nach einem Kind. Dass sie seit ihrer Kind­heit im Roll­stuhl sitzt\, war für sie noch nie Grund\, ihre Träu­me auf­zu­ge­ben. Nun\, mit Anfang 30\, fühlt sie sich bereit\, Leben zu schen­ken. Doku­men­tiert von ihrem per­sön­li­chem Assis­ten­ten erhal­ten wir unge­wohnt inti­men Ein­blick in ein Leben jen­seits kon­ven­tio­nel­ler Familienplanung. \n» Welt­pre­mie­re beim DOK.fest Mün­chen 2021\n» Dia­go­na­le-Preis der Jugend­ju­ry 2021 \nEVA MARIA\nR: Lukas Lad­ner\, Öster­reich\, 2021\nPro­duk­ti­on: Gol­den Girls Film\, Bun­ny Beach Filmproduktion\n» Ab 11. März öster­reich­weit im Kino. \nTrai­ler:\nhttps://youtu.be/7TxzvsgT9yM \nTickets hier verfügbar:\nhttps://www.gartenbaukino.at/
URL:https://8maerz.at/veranstaltung/premiere-im-gartenbaukino-zum-weltfrauentag-eva-maria/
LOCATION:Gartenbaukino\, Parkring 12\, Wien\, Wien\, 1010\, Österreich
END:VEVENT
BEGIN:VEVENT
DTSTART;TZID=Europe/Vienna:20220310T190000
DTEND;TZID=Europe/Vienna:20220310T210000
DTSTAMP:20260422T042312
CREATED:20220227T232517Z
LAST-MODIFIED:20220227T232731Z
UID:10003912-1646938800-1646946000@8maerz.at
SUMMARY:LINKS-Talk: Femizide und patriarchale Gewalt
DESCRIPTION:*Trig­ger­war­nung: Gewalt an Frau­en\, Les­ben\, Inter‑\, Non-bina­ry\, Trans- und Agen­der-Per­so­nen (FLINTA)* \nDer Blick am Bahn­steig. Das Schnal­zen vorm Café. Der Kom­men­tar vom Chef. Die Hand im Club. Das unge­woll­te Dick­pick auf Tin­der. Der Rape nach dem Date. Schreie\, Schlä­ge\, Trit­te. Über­wa­chung\, Erpres­sung\, Dro­hun­gen. Femi­zi­de sind die töd­lichs­te Form von Gewalt gegen Frau­en\, Les­ben\, Inter‑\, Non-bina­ry\, Trans- und Agender-Personen. \n2021 gab es min­des­tens 31 Femi­zi­de in Öster­reich. 2022 bereits zumin­dest 4. Das sind kei­ne Ein­zel­fäl­le. Kei­ne Bezie­hungs­dra­men. Die Gewalt hat Sys­tem. Das Sys­tem heißt Patri­ar­chat. Das Patri­ar­chat dis­kri­mi­niert und mar­gi­na­li­siert. Das Patri­ar­chat tötet. Wir müs­sen es zer­schla­gen! Jetzt! Aber was braucht es\, um Gewalt gegen Frau­en bzw. FLIN­TA-Per­so­nen zu stop­pen? Wel­che poli­ti­schen Maß­nah­men und Res­sour­cen braucht es kon­kret in Wien? Und was kön­nen wir tun\, um das zu errei­chen? Als Betrof­fe­ne\, als Allys\, als Aktivist*innen\, als Bezirksrät*innen\, als LINKS? \nDar­über dis­ku­tie­ren wir online am 10.3. um 19:00 mit:\n– Irma Lech­ner\, Frau­en­häu­ser Wien\n– Isa­bel Hai­der\, Exper­tin für Strafrecht\n– Tina\, Akti­vis­tin bei LINKS und Revolution\n– Cla­ra Bau­er von der Initia­ti­ve StoP – Stadt­tei­le ohne Partnergewalt \nMode­riert von Anna Fox\, LINKS-Bezirks­rä­tin in Wien Neubau \nKomm und bring dich ein! Wir freu­en uns auf dich!\nHier der Link: https://univienna.zoom.us/j/6416435
URL:https://8maerz.at/veranstaltung/links-talk-femizide-und-patriarchale-gewalt/
LOCATION:Online\, Wien\, Österreich
END:VEVENT
BEGIN:VEVENT
DTSTART;TZID=Europe/Vienna:20220323T130000
DTEND;TZID=Europe/Vienna:20220323T141500
DTSTAMP:20260422T042312
CREATED:20220321T215506Z
LAST-MODIFIED:20220321T215506Z
UID:10003701-1648040400-1648044900@8maerz.at
SUMMARY:Webinar: Achieving Climate Justice - The impact of the Climate Crisis on Women in rural areas
DESCRIPTION:„Frau­en leben an vor­ders­ter Front des Kli­ma­wan­dels und sind bereit\, akti­ve Part­ner im Umgang mit dem Kli­ma­wan­del zu sein. Wenn es der inter­na­tio­na­len Gemein­schaft ernst damit ist\, den Kli­ma­wan­del anzu­ge­hen\, muss sie Frau­en als grund­le­gen­den Teil der Kli­ma­lö­sung aner­ken­nen.“ – Wan­ga­ri Maat­hai\, Umwelt­ak­ti­vis­tin und Friedensnobelpreisträgerin \nÜber­schwem­mun­gen\, Stür­me und Dür­ren unter­schei­den nicht zwi­schen Män­nern und Frau­en. Aller­dings gibt es deut­li­che Unter­schie­de in der Art und Wei­se\, wie Frau­en und Män­ner die Aus­wir­kun­gen des Kli­ma­wan­dels erle­ben: zum Bei­spiel bei den Flucht­mög­lich­kei­ten\, bei der Betreu­ung von Ver­letz­ten und Kran­ken nach Kata­stro­phen\, bei der Gewalt­ge­fahr auf der Flucht\, in Kata­stro­phen­ge­bie­ten\, bei Bedro­hun­gen von Lebens­grund­la­gen und Gesundheit. \nDass die Fol­gen der Kli­ma­kri­se Frau­en stär­ker betref­fen als Män­ner\, zeigt sich fast über­all\, denn struk­tu­rel­le Unter­schie­de und Benach­tei­li­gun­gen zwi­schen Män­nern und Frau­en gibt es fast über­all – auch in Öster­reich. Ein inter­es­san­ter Punkt in die­sem Zusam­men­hang ist auch das Ver­hält­nis des Gra­des der Besorg­nis mit dem Grad des Feh­lers. Obwohl gezeigt wur­de\, dass der Kli­ma­wan­del haupt­säch­lich von Män­nern ver­ur­sacht wird\, sind Frau­en stär­ker von den Fol­gen betroffen. \nEin zen­tra­ler Grund dafür liegt in ihrem gesell­schaft­li­chen Rol­len­ver­ständ­nis und Rol­len­ver­hal­ten und der damit ver­bun­de­nen sozia­len und wirt­schaft­li­chen Ungleich­heit. Um struk­tu­rel­ler Dis­kri­mi­nie­rung ent­ge­gen­wir­ken und geziel­te Maß­nah­men ergrei­fen zu kön­nen\, ist es not­wen­dig\, die struk­tu­rel­len Unter­schie­de zu erken­nen\, zu benen­nen und so sicht­bar wie mög­lich zu machen. \nIm Rah­men des öster­rei­chi­schen Side Events zum CSW66 wer­den wir die oben genann­ten Fra­gen mit ver­schie­de­nen Exper­tin­nen und Exper­ten auf die­sem Gebiet dis­ku­tie­ren\, ein­schließ­lich der Aus­wir­kun­gen der Kli­ma­kri­se auf öster­rei­chi­sche Frau­en\, mit beson­de­rem Fokus auf länd­li­che Gebiete. \nDis­ku­tan­tin­nen:\nInge­borg Gey­er\, UN\nMarie-Chris­ti­ne Hopf­gart­ner\, BMK\nKla­ra Butz\, FFF\nSara Schaupp\, Soli­da­ri­ty Farmers\nKlau­dia Frie­ben\, ÖFR\nFides Raf­fel\, Frauendomäne \nTeil­neh­men hier.\nZoom-Link: https://us02web.zoom.us/j/82190115797\nMee­ting ID: 821 9011 5797\nPass­code: 298664 \nKli­ma­ge­rech­tig­keit errei­chen! Die Aus­wir­kun­gen der Kli­ma­kri­se auf Frau­en im länd­li­chen Raum.
URL:https://8maerz.at/veranstaltung/webinar-achieving-climate-justice-the-impact-of-the-climate-crisis-on-women-in-rural-areas/
LOCATION:Online\, Wien\, Österreich
END:VEVENT
BEGIN:VEVENT
DTSTART;TZID=Europe/Vienna:20220326T100000
DTEND;TZID=Europe/Vienna:20220326T220000
DTSTAMP:20260422T042312
CREATED:20220321T182800Z
LAST-MODIFIED:20220321T182800Z
UID:10003700-1648288800-1648332000@8maerz.at
SUMMARY:Konferenz: Claiming*Spaces #2. Feministische Perspektiven in Architektur und Raumplanung
DESCRIPTION:Ist unser Wis­sen über die Ver­gan­gen­heit dar­auf beschränkt\, wen und was wir sehen? Wel­che Bedin­gun­gen wur­den durch die Geschichts­schrei­bung und die Per­spek­ti­ven\, an denen sie sich ori­en­tiert\, hervorgebracht? \nPro­gramm: http://www.claimingspaces.org \nVer­an­stal­tung in eng­li­scher Sprache\nZusätz­lich Live-Stream \nReser­vie­rung erfor­der­lich: conf.claiming.spaces@kunst.tuwien.ac.at\nEs gel­ten die aktu­el­len Covid-Richtlinien.
URL:https://8maerz.at/veranstaltung/konferenz-claimingspaces-2-feministische-perspektiven-in-architektur-und-raumplanung/
LOCATION:Az W Architekturzentrum Wien\, Museumsplatz 1 im MQ\, Wien\, Wien\, 1070\, Österreich
END:VEVENT
BEGIN:VEVENT
DTSTART;TZID=Europe/Vienna:20220331T190000
DTEND;TZID=Europe/Vienna:20220331T210000
DTSTAMP:20260422T042312
CREATED:20220314T210724Z
LAST-MODIFIED:20220314T211025Z
UID:10003937-1648753200-1648760400@8maerz.at
SUMMARY:Podiumsdiskussion: „Wenn du hier sitzt\, stört das!“ – Raumaneignung als Weg in eine feministische und klimagerechte Zukunft
DESCRIPTION:Wer darf Raum nut­zen? Wer kann sich Raum neh­men? Wer kann über Raum ver­fü­gen und hat die Deu­tungs­ho­heit? Dies sind sowohl für die Kli­ma­ge­rech­tig­keits­be­we­gung als auch für femi­nis­ti­sche Kämp­fe zen­tra­le Fragen. \nDie Arbeits­grup­pe Feminismus&Klima von Sys­tem Chan­ge not Cli­ma­te Chan­ge\, sieht an ver­schie­de­nen Stel­len\, wie Raum­an­eig­nung für Kol­lek­ti­ve mit unter­schied­li­chen poli­ti­schen Zie­len zur Pra­xis wird: In der Lobau-Beset­zung\, wo Men­schen sich mit ihren Kör­pern dem Bau ent­ge­gen­stel­len und mit ihrer Anwe­sen­heit Räu­me umdeu­ten; in der Aneig­nung der Stra­ße – um gegen Femi(ni)zide laut zu wer­den und Wut und Trau­er über patri­ar­cha­le Gewalt auf die Stra­ße zu brin­gen; und mit der Beset­zung der Karls­stra­ße 20 und der Eröff­nung des „Open Space for Future“. Die Par­al­le­len und Ver­knüp­fun­gen die­ser ver­schie­de­nen Kol­lek­ti­ve sol­len an die­sem Abend genau­er betrach­tet\, aber der Blick eben­so auf die unter­schied­li­chen Erfah­run­gen gelenkt werden. \nSys­tem Chan­ge not Cli­ma­te Chan­ge lädt dazu ein\, vor­bei­zu­kom­men\, um einen Abend lang zu die­sem The­ma zu dis­ku­tie­ren\, von­ein­an­der zu ler­nen und gemein­sam Ansät­ze für Raum­an­eig­nung als Basis für eine femi­nis­ti­sche und kli­ma­ge­rech­te Zukunft zu verbinden. \nMit: Aktivist:innen von Lobau-bleibt Bewe­gung\, NoFu­ture for IAA und F*Streik Graz \nPodi­ums­dis­kus­si­on\nam 31. März um 19 Uhr\nOrt: kol­lek­tiv kaor­le\, Schmalz­hof­gas­se 5\, 1060 Wien \nEin­tritt frei!\nEs wird gebe­ten\, trotz 2G\, vor­her einen Coro­na-PCR-Test zu machen.
URL:https://8maerz.at/veranstaltung/podiumsdiskussion-wenn-du-hier-sitzt-stoert-das-raumaneignung-als-weg-in-eine-feministische-und-klimagerechte-zukunft/
LOCATION:kollektiv kaorle\, Schmalzhofgasse 5/2\, Wien\, Wien\, 1060\, Österreich
END:VEVENT
END:VCALENDAR