BEGIN:VCALENDAR
VERSION:2.0
PRODID:-//8. März - ECPv6.15.20//NONSGML v1.0//EN
CALSCALE:GREGORIAN
METHOD:PUBLISH
X-ORIGINAL-URL:https://8maerz.at
X-WR-CALDESC:Veranstaltungen für 8. März
REFRESH-INTERVAL;VALUE=DURATION:PT1H
X-Robots-Tag:noindex
X-PUBLISHED-TTL:PT1H
BEGIN:VTIMEZONE
TZID:Europe/Vienna
BEGIN:DAYLIGHT
TZOFFSETFROM:+0100
TZOFFSETTO:+0200
TZNAME:CEST
DTSTART:20190331T010000
END:DAYLIGHT
BEGIN:STANDARD
TZOFFSETFROM:+0200
TZOFFSETTO:+0100
TZNAME:CET
DTSTART:20191027T010000
END:STANDARD
BEGIN:DAYLIGHT
TZOFFSETFROM:+0100
TZOFFSETTO:+0200
TZNAME:CEST
DTSTART:20200329T010000
END:DAYLIGHT
BEGIN:STANDARD
TZOFFSETFROM:+0200
TZOFFSETTO:+0100
TZNAME:CET
DTSTART:20201025T010000
END:STANDARD
BEGIN:DAYLIGHT
TZOFFSETFROM:+0100
TZOFFSETTO:+0200
TZNAME:CEST
DTSTART:20210328T010000
END:DAYLIGHT
BEGIN:STANDARD
TZOFFSETFROM:+0200
TZOFFSETTO:+0100
TZNAME:CET
DTSTART:20211031T010000
END:STANDARD
END:VTIMEZONE
BEGIN:VEVENT
DTSTART;TZID=Europe/Vienna:20200113T180000
DTEND;TZID=Europe/Vienna:20200113T203000
DTSTAMP:20260426T012204
CREATED:20200111T225009Z
LAST-MODIFIED:20200111T225150Z
UID:10003608-1578938400-1578947400@8maerz.at
SUMMARY:Plenum der Plattform 20000frauen
DESCRIPTION:Plenum der Plattform 20000frauen\nBeim ers­ten Ple­nar­tref­fen der Platt­form 20000frauen im neu­en Jahr geht es um fol­gen­des The­ma: Was bedeu­tet #tür­kis­grün für femi­nis­ti­sche\, anti-ras­sis­ti­sche Initia­ti­ven? Alle inter­es­sier­ten Akti­vis­tin­nen* sind herz­lich eingeladen!\nMon­tag\, 13. Jän­ner\, 18 Uhr im Büro von LEFÖ\, Ket­ten­brü­cken­gas­se 15\, Tür 4\, 1050 Wien – sie­he auch http://20000frauen.at \nWei­te­re Termine:\nDiens­tag\, 18. Febru­ar 2020\, 18:00 Uhr\nGeorg-Sigl-Gas­se 2 / Stra­ßen­lo­kal 1090 Wien \nMitt­woch\, 11. März 2020\, 18:00 Uhr\ntrans­form-Büro\, Guss­haus­stras­se 14\, Tür 3\, 1040 Wien
URL:https://8maerz.at/veranstaltung/jaennerplenum-plattform-20000frauen/
LOCATION:LEFÖ\, Kettenbrückengasse 15/4\, Wien\, 1050
GEO:48.1956353;16.3600869
X-APPLE-STRUCTURED-LOCATION;VALUE=URI;X-ADDRESS=LEFÖ Kettenbrückengasse 15/4 Wien 1050;X-APPLE-RADIUS=500;X-TITLE=Kettenbrückengasse 15/4:geo:16.3600869,48.1956353
END:VEVENT
END:VCALENDAR