BEGIN:VCALENDAR
VERSION:2.0
PRODID:-//8. März - ECPv6.15.20//NONSGML v1.0//EN
CALSCALE:GREGORIAN
METHOD:PUBLISH
X-WR-CALNAME:8. März
X-ORIGINAL-URL:https://8maerz.at
X-WR-CALDESC:Veranstaltungen für 8. März
REFRESH-INTERVAL;VALUE=DURATION:PT1H
X-Robots-Tag:noindex
X-PUBLISHED-TTL:PT1H
BEGIN:VTIMEZONE
TZID:UTC
BEGIN:STANDARD
TZOFFSETFROM:+0000
TZOFFSETTO:+0000
TZNAME:UTC
DTSTART:20180101T000000
END:STANDARD
END:VTIMEZONE
BEGIN:VEVENT
DTSTART;TZID=UTC:20190219T170000
DTEND;TZID=UTC:20190219T230000
DTSTAMP:20260424T225152
CREATED:20190217T212914Z
LAST-MODIFIED:20190217T213045Z
UID:10003456-1550595600-1550617200@8maerz.at
SUMMARY:Flawless Slam - Feminist Poetry Slam
DESCRIPTION:Feminist Poetry Slam und Workshop\n\nKoope­ra­ti­on mit text­strom Poet­ry Slam \n17:00 Work­shop | 20:00 Poet­ry Slam\nLGBT\, Femi­nis­mus und Lie­be in einem Gedicht\, we can hand­le it cau­se we woke up like this!\nDei­ne Büh­ne\, dein Text\, dein Mikro. \nAnmel­dung zum Work­shop / für einen Platz on stage: textstrom@gmail.com\nVon und mit: Mie­ze Medu­sa & Yasmo \nPreis: € 10 / € 5\nKar­ten: karten@kosmostheater.at
URL:https://8maerz.at/veranstaltung/flawless-slam-feminist-poetry-slam/
LOCATION:KosmosTheater\, Siebensterngasse 42\, Wien\, 1070
GEO:48.2023843;16.3514542
X-APPLE-STRUCTURED-LOCATION;VALUE=URI;X-ADDRESS=KosmosTheater Siebensterngasse 42 Wien 1070;X-APPLE-RADIUS=500;X-TITLE=Siebensterngasse 42:geo:16.3514542,48.2023843
END:VEVENT
END:VCALENDAR