BEGIN:VCALENDAR
VERSION:2.0
PRODID:-//8. März - ECPv6.15.20//NONSGML v1.0//EN
CALSCALE:GREGORIAN
METHOD:PUBLISH
X-ORIGINAL-URL:https://8maerz.at
X-WR-CALDESC:Veranstaltungen für 8. März
REFRESH-INTERVAL;VALUE=DURATION:PT1H
X-Robots-Tag:noindex
X-PUBLISHED-TTL:PT1H
BEGIN:VTIMEZONE
TZID:UTC
BEGIN:STANDARD
TZOFFSETFROM:+0000
TZOFFSETTO:+0000
TZNAME:UTC
DTSTART:20170101T000000
END:STANDARD
END:VTIMEZONE
BEGIN:VTIMEZONE
TZID:Europe/Vienna
BEGIN:DAYLIGHT
TZOFFSETFROM:+0100
TZOFFSETTO:+0200
TZNAME:CEST
DTSTART:20170326T010000
END:DAYLIGHT
BEGIN:STANDARD
TZOFFSETFROM:+0200
TZOFFSETTO:+0100
TZNAME:CET
DTSTART:20171029T010000
END:STANDARD
BEGIN:DAYLIGHT
TZOFFSETFROM:+0100
TZOFFSETTO:+0200
TZNAME:CEST
DTSTART:20180325T010000
END:DAYLIGHT
BEGIN:STANDARD
TZOFFSETFROM:+0200
TZOFFSETTO:+0100
TZNAME:CET
DTSTART:20181028T010000
END:STANDARD
BEGIN:DAYLIGHT
TZOFFSETFROM:+0100
TZOFFSETTO:+0200
TZNAME:CEST
DTSTART:20190331T010000
END:DAYLIGHT
BEGIN:STANDARD
TZOFFSETFROM:+0200
TZOFFSETTO:+0100
TZNAME:CET
DTSTART:20191027T010000
END:STANDARD
END:VTIMEZONE
BEGIN:VEVENT
DTSTART;TZID=UTC:20180309T190000
DTEND;TZID=UTC:20180309T230000
DTSTAMP:20260425T134852
CREATED:20180205T161919Z
LAST-MODIFIED:20180205T162038Z
UID:10003344-1520622000-1520636400@8maerz.at
SUMMARY:PUSSY RIOT performs: RIOT DAYS
DESCRIPTION:Mit anar­chis­ti­scher Ener­gie erin­nert die rus­si­sche Polit-Punk-Grup­pe Pus­sy Riot bei einer Per­for­mance in New York an ihre Geschich­te des Widerstands. \nDetails auf Face­book. \nSup­port:  Шaпκa („Schap­ka“\, AUT) \n\nVorverkauf/Presale € 25\,- (+ € 2\,50\,- Fee)\nAbendkassa/Doors tba. \n\n\nVer­an­stal­tungs­ort:\nAre­na Wien – Gro­ße Halle\nBaum­gas­se 80\n1030 Wien
URL:https://8maerz.at/veranstaltung/pussy-riot-performs-riot-days/
LOCATION:Arena Wien\, Baumgasse 80\, Wien\, 1030
GEO:48.1878371;16.4128968
X-APPLE-STRUCTURED-LOCATION;VALUE=URI;X-ADDRESS=Arena Wien Baumgasse 80 Wien 1030;X-APPLE-RADIUS=500;X-TITLE=Baumgasse 80:geo:16.4128968,48.1878371
END:VEVENT
BEGIN:VEVENT
DTSTART;TZID=Europe/Vienna:20180314T200000
DTEND;TZID=Europe/Vienna:20180314T213000
DTSTAMP:20260425T134852
CREATED:20180303T173623Z
LAST-MODIFIED:20230107T180503Z
UID:10003396-1521057600-1521063000@8maerz.at
SUMMARY:Flüsterzweieck
DESCRIPTION:Thea­ter­ka­ba­rett­per­for­mance \nFlüsterzweieck : Stabile Eskalation\nvon und mit: Ulri­ke Hai­dach­er & Anto­nia Stabinger \n\nIst das Leben fad? Oder ist es geil?\nDazu haben Ulri­ke Hai­dach­er und Anto­nia Sta­bin­ger ali­as Flüs­ter­zwei­eck ganz unter­schied­li­che Mei­nun­gen. In einem Punkt sind sie sich aber einig: Im Leben muss etwas pas­sie­ren\, etwas mög­lichst Groß­ar­ti­ges\, Bahn­bre­chen­des\, Unerwartetes!\nIn ihrer Thea­ter­ka­ba­rett­per­for­mance Sta­bi­le Eska­la­ti­on pro­ben sie den Auf­stand und durch­su­chen unse­re Kom­fort­zo­ne nach Eska­la­ti­on. Kon­zep­te wer­den über Bord gewor­fen. Es wird um die Ecke gedacht. Nack­te Tat­sachen wer­den prä­sen­tiert. Ein Schla­ger wird ver­ge­wal­tigt – und ganz neben­bei ein brand­neu­es Gen­re erfun­den: der Lehrsketch mit Moral.\n\n\nMi\, 14.3. – Sa\, 17.3. | Mi\, 21.3. – Fr\, 23.3. | 20:00 Uhr\n\nKar­ten reser­vie­ren auf kosmostheater.at 
URL:https://8maerz.at/veranstaltung/fluesterzweieck/2018-03-14/
LOCATION:KosmosTheater\, Siebensterngasse 42\, Wien\, 1070
GEO:48.2023843;16.3514542
X-APPLE-STRUCTURED-LOCATION;VALUE=URI;X-ADDRESS=KosmosTheater Siebensterngasse 42 Wien 1070;X-APPLE-RADIUS=500;X-TITLE=Siebensterngasse 42:geo:16.3514542,48.2023843
END:VEVENT
BEGIN:VEVENT
DTSTART;TZID=Europe/Vienna:20180315T200000
DTEND;TZID=Europe/Vienna:20180315T213000
DTSTAMP:20260425T134852
CREATED:20180303T173623Z
LAST-MODIFIED:20230107T180503Z
UID:10003397-1521144000-1521149400@8maerz.at
SUMMARY:Flüsterzweieck
DESCRIPTION:Thea­ter­ka­ba­rett­per­for­mance \nFlüsterzweieck : Stabile Eskalation\nvon und mit: Ulri­ke Hai­dach­er & Anto­nia Stabinger \n\nIst das Leben fad? Oder ist es geil?\nDazu haben Ulri­ke Hai­dach­er und Anto­nia Sta­bin­ger ali­as Flüs­ter­zwei­eck ganz unter­schied­li­che Mei­nun­gen. In einem Punkt sind sie sich aber einig: Im Leben muss etwas pas­sie­ren\, etwas mög­lichst Groß­ar­ti­ges\, Bahn­bre­chen­des\, Unerwartetes!\nIn ihrer Thea­ter­ka­ba­rett­per­for­mance Sta­bi­le Eska­la­ti­on pro­ben sie den Auf­stand und durch­su­chen unse­re Kom­fort­zo­ne nach Eska­la­ti­on. Kon­zep­te wer­den über Bord gewor­fen. Es wird um die Ecke gedacht. Nack­te Tat­sachen wer­den prä­sen­tiert. Ein Schla­ger wird ver­ge­wal­tigt – und ganz neben­bei ein brand­neu­es Gen­re erfun­den: der Lehrsketch mit Moral.\n\n\nMi\, 14.3. – Sa\, 17.3. | Mi\, 21.3. – Fr\, 23.3. | 20:00 Uhr\n\nKar­ten reser­vie­ren auf kosmostheater.at 
URL:https://8maerz.at/veranstaltung/fluesterzweieck/2018-03-15/
LOCATION:KosmosTheater\, Siebensterngasse 42\, Wien\, 1070
GEO:48.2023843;16.3514542
X-APPLE-STRUCTURED-LOCATION;VALUE=URI;X-ADDRESS=KosmosTheater Siebensterngasse 42 Wien 1070;X-APPLE-RADIUS=500;X-TITLE=Siebensterngasse 42:geo:16.3514542,48.2023843
END:VEVENT
BEGIN:VEVENT
DTSTART;TZID=Europe/Vienna:20180316T200000
DTEND;TZID=Europe/Vienna:20180316T213000
DTSTAMP:20260425T134852
CREATED:20180303T173623Z
LAST-MODIFIED:20230107T180503Z
UID:10003398-1521230400-1521235800@8maerz.at
SUMMARY:Flüsterzweieck
DESCRIPTION:Thea­ter­ka­ba­rett­per­for­mance \nFlüsterzweieck : Stabile Eskalation\nvon und mit: Ulri­ke Hai­dach­er & Anto­nia Stabinger \n\nIst das Leben fad? Oder ist es geil?\nDazu haben Ulri­ke Hai­dach­er und Anto­nia Sta­bin­ger ali­as Flüs­ter­zwei­eck ganz unter­schied­li­che Mei­nun­gen. In einem Punkt sind sie sich aber einig: Im Leben muss etwas pas­sie­ren\, etwas mög­lichst Groß­ar­ti­ges\, Bahn­bre­chen­des\, Unerwartetes!\nIn ihrer Thea­ter­ka­ba­rett­per­for­mance Sta­bi­le Eska­la­ti­on pro­ben sie den Auf­stand und durch­su­chen unse­re Kom­fort­zo­ne nach Eska­la­ti­on. Kon­zep­te wer­den über Bord gewor­fen. Es wird um die Ecke gedacht. Nack­te Tat­sachen wer­den prä­sen­tiert. Ein Schla­ger wird ver­ge­wal­tigt – und ganz neben­bei ein brand­neu­es Gen­re erfun­den: der Lehrsketch mit Moral.\n\n\nMi\, 14.3. – Sa\, 17.3. | Mi\, 21.3. – Fr\, 23.3. | 20:00 Uhr\n\nKar­ten reser­vie­ren auf kosmostheater.at 
URL:https://8maerz.at/veranstaltung/fluesterzweieck/2018-03-16/
LOCATION:KosmosTheater\, Siebensterngasse 42\, Wien\, 1070
GEO:48.2023843;16.3514542
X-APPLE-STRUCTURED-LOCATION;VALUE=URI;X-ADDRESS=KosmosTheater Siebensterngasse 42 Wien 1070;X-APPLE-RADIUS=500;X-TITLE=Siebensterngasse 42:geo:16.3514542,48.2023843
END:VEVENT
BEGIN:VEVENT
DTSTART;TZID=Europe/Vienna:20180317T200000
DTEND;TZID=Europe/Vienna:20180317T213000
DTSTAMP:20260425T134852
CREATED:20180303T173623Z
LAST-MODIFIED:20230107T180503Z
UID:10003399-1521316800-1521322200@8maerz.at
SUMMARY:Flüsterzweieck
DESCRIPTION:Thea­ter­ka­ba­rett­per­for­mance \nFlüsterzweieck : Stabile Eskalation\nvon und mit: Ulri­ke Hai­dach­er & Anto­nia Stabinger \n\nIst das Leben fad? Oder ist es geil?\nDazu haben Ulri­ke Hai­dach­er und Anto­nia Sta­bin­ger ali­as Flüs­ter­zwei­eck ganz unter­schied­li­che Mei­nun­gen. In einem Punkt sind sie sich aber einig: Im Leben muss etwas pas­sie­ren\, etwas mög­lichst Groß­ar­ti­ges\, Bahn­bre­chen­des\, Unerwartetes!\nIn ihrer Thea­ter­ka­ba­rett­per­for­mance Sta­bi­le Eska­la­ti­on pro­ben sie den Auf­stand und durch­su­chen unse­re Kom­fort­zo­ne nach Eska­la­ti­on. Kon­zep­te wer­den über Bord gewor­fen. Es wird um die Ecke gedacht. Nack­te Tat­sachen wer­den prä­sen­tiert. Ein Schla­ger wird ver­ge­wal­tigt – und ganz neben­bei ein brand­neu­es Gen­re erfun­den: der Lehrsketch mit Moral.\n\n\nMi\, 14.3. – Sa\, 17.3. | Mi\, 21.3. – Fr\, 23.3. | 20:00 Uhr\n\nKar­ten reser­vie­ren auf kosmostheater.at 
URL:https://8maerz.at/veranstaltung/fluesterzweieck/2018-03-17/
LOCATION:KosmosTheater\, Siebensterngasse 42\, Wien\, 1070
GEO:48.2023843;16.3514542
X-APPLE-STRUCTURED-LOCATION;VALUE=URI;X-ADDRESS=KosmosTheater Siebensterngasse 42 Wien 1070;X-APPLE-RADIUS=500;X-TITLE=Siebensterngasse 42:geo:16.3514542,48.2023843
END:VEVENT
BEGIN:VEVENT
DTSTART;TZID=UTC:20180317T200000
DTEND;TZID=UTC:20180317T235900
DTSTAMP:20260425T134852
CREATED:20180128T113601Z
LAST-MODIFIED:20180301T202520Z
UID:10003336-1521316800-1521331140@8maerz.at
SUMMARY:an.schläge Geburtstagsfest
DESCRIPTION:Das femi­nis­ti­sche Maga­zin an.schläge wird 35! Jippieh!\nAm 17. März fei­ern wir im WUK per­forming arts die­se drei­ein­halb Jahr­zehn­te vol­ler femi­nis­ti­schen Qua­li­täts­jour­na­lis­mus: The­men rund um Poli­tik\, Gesell­schaft und (Pop-)Kultur wer­den bei uns aus einer femi­nis­ti­schen Per­spek­ti­ve beleuch­tet. Gegen den media­len Male- und Main­stream anzu­schrei­ben braucht Mut und Enga­ge­ment\, aber auch Geld. Das Geburts­tags­fest steht daher auch inmit­ten der Crowd­fun­ding-Kam­pa­gne: Teuf­li­sche 666 neue Abos braucht das Maga­zin\, um sein Über­le­ben zu sichern und in die­sen poli­ti­schen Zei­ten unab­hän­gi­ger von För­de­run­gen zu sein. \nKommt zum Fest\, fei­ert mit und unter­stützt die an.schläge! \nAm Pro­gramm ste­hen musi­ka­li­sche Live Acts und Per­for­mance­kunst mit Deni­se Kott­lett\, Aivery\, Katia Ledoux (Fools of Poten­ti­al)\, Que­er Come­dy mit Tole­rant Ali­ce und ver­schie­de­ne Auflegereien.\nMode­ra­ti­on: The fabu­lous Ste­fa­nie Sou­ri­al und Nora Jacobs
URL:https://8maerz.at/veranstaltung/anschlaege-geburtstagsfest/
LOCATION:WUK\, Währingerstraße 59\, Wien\, 1090\, Österreich
ORGANIZER;CN="an.schl%C3%A4ge %E2%80%93 das feministische Magazin":MAILTO:redaktion@anschlaege.at
GEO:48.2232818;16.3514158
X-APPLE-STRUCTURED-LOCATION;VALUE=URI;X-ADDRESS=WUK Währingerstraße 59 Wien 1090 Österreich;X-APPLE-RADIUS=500;X-TITLE=Währingerstraße 59:geo:16.3514158,48.2232818
END:VEVENT
BEGIN:VEVENT
DTSTART;TZID=UTC:20180319T193000
DTEND;TZID=UTC:20180319T233000
DTSTAMP:20260425T134852
CREATED:20180303T171057Z
LAST-MODIFIED:20180303T173843Z
UID:10003394-1521487800-1521502200@8maerz.at
SUMMARY:PCCC* # 5: My first time
DESCRIPTION:No mat­ter what you do in life\, the­re is always a first time you do it. Whe­ther it is work\, sex\, par­ty­ing too hard or voting: You’ll look into the mir­ror and feel slight­ly dif­fe­rent. You’ll ask yours­elf if the out­co­me is worth it: the crus­hed dream\, the spots on your futon\, the mold of said futon’s sur­face on your cheek or the fee­ling of power­less­ness against the majority. \nIf you’re any­thing like us\, you’ll also adjust your hair (for seve­ral minu­tes) and think: This will make for a gre­at sto­ry one day. PCCC*\, Vienna’s First Poli­ti­cal­ly Cor­rect Come­dy Club\, will revi­sit their her*stories of new worlds\, fal­si­fied hypo­the­ses and lost socks. It’s the good stuff\, so you’ll defi­ni­te­ly want to inhale! \nFirst PCCC* under the umbrel­la of WUK per­forming arts \nTickets:\nDu ent­schei­dest sel­ber\, wie viel du für ein Ticket bezah­len kannst. Es gibt Tickets zu € 8\, € 11 und € 14. \nTicket­ver­kauf:\nIm WUK Info­bü­ro\, täg­lich von 15:00 bis 20:00 Uhr und online.
URL:https://8maerz.at/veranstaltung/pccc-5-my-first-time/
LOCATION:WUK\, Währingerstraße 59\, Wien\, 1090\, Österreich
GEO:48.2232818;16.3514158
X-APPLE-STRUCTURED-LOCATION;VALUE=URI;X-ADDRESS=WUK Währingerstraße 59 Wien 1090 Österreich;X-APPLE-RADIUS=500;X-TITLE=Währingerstraße 59:geo:16.3514158,48.2232818
END:VEVENT
BEGIN:VEVENT
DTSTART;TZID=Europe/Vienna:20180321T200000
DTEND;TZID=Europe/Vienna:20180321T213000
DTSTAMP:20260425T134852
CREATED:20180303T173623Z
LAST-MODIFIED:20230107T180503Z
UID:10003400-1521662400-1521667800@8maerz.at
SUMMARY:Flüsterzweieck
DESCRIPTION:Thea­ter­ka­ba­rett­per­for­mance \nFlüsterzweieck : Stabile Eskalation\nvon und mit: Ulri­ke Hai­dach­er & Anto­nia Stabinger \n\nIst das Leben fad? Oder ist es geil?\nDazu haben Ulri­ke Hai­dach­er und Anto­nia Sta­bin­ger ali­as Flüs­ter­zwei­eck ganz unter­schied­li­che Mei­nun­gen. In einem Punkt sind sie sich aber einig: Im Leben muss etwas pas­sie­ren\, etwas mög­lichst Groß­ar­ti­ges\, Bahn­bre­chen­des\, Unerwartetes!\nIn ihrer Thea­ter­ka­ba­rett­per­for­mance Sta­bi­le Eska­la­ti­on pro­ben sie den Auf­stand und durch­su­chen unse­re Kom­fort­zo­ne nach Eska­la­ti­on. Kon­zep­te wer­den über Bord gewor­fen. Es wird um die Ecke gedacht. Nack­te Tat­sachen wer­den prä­sen­tiert. Ein Schla­ger wird ver­ge­wal­tigt – und ganz neben­bei ein brand­neu­es Gen­re erfun­den: der Lehrsketch mit Moral.\n\n\nMi\, 14.3. – Sa\, 17.3. | Mi\, 21.3. – Fr\, 23.3. | 20:00 Uhr\n\nKar­ten reser­vie­ren auf kosmostheater.at 
URL:https://8maerz.at/veranstaltung/fluesterzweieck/2018-03-21/
LOCATION:KosmosTheater\, Siebensterngasse 42\, Wien\, 1070
GEO:48.2023843;16.3514542
X-APPLE-STRUCTURED-LOCATION;VALUE=URI;X-ADDRESS=KosmosTheater Siebensterngasse 42 Wien 1070;X-APPLE-RADIUS=500;X-TITLE=Siebensterngasse 42:geo:16.3514542,48.2023843
END:VEVENT
BEGIN:VEVENT
DTSTART;TZID=Europe/Vienna:20180322T200000
DTEND;TZID=Europe/Vienna:20180322T213000
DTSTAMP:20260425T134852
CREATED:20180303T173623Z
LAST-MODIFIED:20230107T180503Z
UID:10003401-1521748800-1521754200@8maerz.at
SUMMARY:Flüsterzweieck
DESCRIPTION:Thea­ter­ka­ba­rett­per­for­mance \nFlüsterzweieck : Stabile Eskalation\nvon und mit: Ulri­ke Hai­dach­er & Anto­nia Stabinger \n\nIst das Leben fad? Oder ist es geil?\nDazu haben Ulri­ke Hai­dach­er und Anto­nia Sta­bin­ger ali­as Flüs­ter­zwei­eck ganz unter­schied­li­che Mei­nun­gen. In einem Punkt sind sie sich aber einig: Im Leben muss etwas pas­sie­ren\, etwas mög­lichst Groß­ar­ti­ges\, Bahn­bre­chen­des\, Unerwartetes!\nIn ihrer Thea­ter­ka­ba­rett­per­for­mance Sta­bi­le Eska­la­ti­on pro­ben sie den Auf­stand und durch­su­chen unse­re Kom­fort­zo­ne nach Eska­la­ti­on. Kon­zep­te wer­den über Bord gewor­fen. Es wird um die Ecke gedacht. Nack­te Tat­sachen wer­den prä­sen­tiert. Ein Schla­ger wird ver­ge­wal­tigt – und ganz neben­bei ein brand­neu­es Gen­re erfun­den: der Lehrsketch mit Moral.\n\n\nMi\, 14.3. – Sa\, 17.3. | Mi\, 21.3. – Fr\, 23.3. | 20:00 Uhr\n\nKar­ten reser­vie­ren auf kosmostheater.at 
URL:https://8maerz.at/veranstaltung/fluesterzweieck/2018-03-22/
LOCATION:KosmosTheater\, Siebensterngasse 42\, Wien\, 1070
GEO:48.2023843;16.3514542
X-APPLE-STRUCTURED-LOCATION;VALUE=URI;X-ADDRESS=KosmosTheater Siebensterngasse 42 Wien 1070;X-APPLE-RADIUS=500;X-TITLE=Siebensterngasse 42:geo:16.3514542,48.2023843
END:VEVENT
BEGIN:VEVENT
DTSTART;TZID=Europe/Vienna:20180323T200000
DTEND;TZID=Europe/Vienna:20180323T213000
DTSTAMP:20260425T134852
CREATED:20180303T173623Z
LAST-MODIFIED:20230107T180503Z
UID:10003402-1521835200-1521840600@8maerz.at
SUMMARY:Flüsterzweieck
DESCRIPTION:Thea­ter­ka­ba­rett­per­for­mance \nFlüsterzweieck : Stabile Eskalation\nvon und mit: Ulri­ke Hai­dach­er & Anto­nia Stabinger \n\nIst das Leben fad? Oder ist es geil?\nDazu haben Ulri­ke Hai­dach­er und Anto­nia Sta­bin­ger ali­as Flüs­ter­zwei­eck ganz unter­schied­li­che Mei­nun­gen. In einem Punkt sind sie sich aber einig: Im Leben muss etwas pas­sie­ren\, etwas mög­lichst Groß­ar­ti­ges\, Bahn­bre­chen­des\, Unerwartetes!\nIn ihrer Thea­ter­ka­ba­rett­per­for­mance Sta­bi­le Eska­la­ti­on pro­ben sie den Auf­stand und durch­su­chen unse­re Kom­fort­zo­ne nach Eska­la­ti­on. Kon­zep­te wer­den über Bord gewor­fen. Es wird um die Ecke gedacht. Nack­te Tat­sachen wer­den prä­sen­tiert. Ein Schla­ger wird ver­ge­wal­tigt – und ganz neben­bei ein brand­neu­es Gen­re erfun­den: der Lehrsketch mit Moral.\n\n\nMi\, 14.3. – Sa\, 17.3. | Mi\, 21.3. – Fr\, 23.3. | 20:00 Uhr\n\nKar­ten reser­vie­ren auf kosmostheater.at 
URL:https://8maerz.at/veranstaltung/fluesterzweieck/2018-03-23/
LOCATION:KosmosTheater\, Siebensterngasse 42\, Wien\, 1070
GEO:48.2023843;16.3514542
X-APPLE-STRUCTURED-LOCATION;VALUE=URI;X-ADDRESS=KosmosTheater Siebensterngasse 42 Wien 1070;X-APPLE-RADIUS=500;X-TITLE=Siebensterngasse 42:geo:16.3514542,48.2023843
END:VEVENT
END:VCALENDAR