BEGIN:VCALENDAR
VERSION:2.0
PRODID:-//8. März - ECPv6.15.17.1//NONSGML v1.0//EN
CALSCALE:GREGORIAN
METHOD:PUBLISH
X-ORIGINAL-URL:https://8maerz.at
X-WR-CALDESC:Veranstaltungen für 8. März
REFRESH-INTERVAL;VALUE=DURATION:PT1H
X-Robots-Tag:noindex
X-PUBLISHED-TTL:PT1H
BEGIN:VTIMEZONE
TZID:Europe/Vienna
BEGIN:DAYLIGHT
TZOFFSETFROM:+0100
TZOFFSETTO:+0200
TZNAME:CEST
DTSTART:20210328T010000
END:DAYLIGHT
BEGIN:STANDARD
TZOFFSETFROM:+0200
TZOFFSETTO:+0100
TZNAME:CET
DTSTART:20211031T010000
END:STANDARD
BEGIN:DAYLIGHT
TZOFFSETFROM:+0100
TZOFFSETTO:+0200
TZNAME:CEST
DTSTART:20220327T010000
END:DAYLIGHT
BEGIN:STANDARD
TZOFFSETFROM:+0200
TZOFFSETTO:+0100
TZNAME:CET
DTSTART:20221030T010000
END:STANDARD
BEGIN:DAYLIGHT
TZOFFSETFROM:+0100
TZOFFSETTO:+0200
TZNAME:CEST
DTSTART:20230326T010000
END:DAYLIGHT
BEGIN:STANDARD
TZOFFSETFROM:+0200
TZOFFSETTO:+0100
TZNAME:CET
DTSTART:20231029T010000
END:STANDARD
END:VTIMEZONE
BEGIN:VEVENT
DTSTART;TZID=Europe/Vienna:20220331T190000
DTEND;TZID=Europe/Vienna:20220331T210000
DTSTAMP:20260422T162610
CREATED:20220314T210724Z
LAST-MODIFIED:20220314T211025Z
UID:10003937-1648753200-1648760400@8maerz.at
SUMMARY:Podiumsdiskussion: „Wenn du hier sitzt\, stört das!“ – Raumaneignung als Weg in eine feministische und klimagerechte Zukunft
DESCRIPTION:Wer darf Raum nut­zen? Wer kann sich Raum neh­men? Wer kann über Raum ver­fü­gen und hat die Deu­tungs­ho­heit? Dies sind sowohl für die Kli­ma­ge­rech­tig­keits­be­we­gung als auch für femi­nis­ti­sche Kämp­fe zen­tra­le Fragen. \nDie Arbeits­grup­pe Feminismus&Klima von Sys­tem Chan­ge not Cli­ma­te Chan­ge\, sieht an ver­schie­de­nen Stel­len\, wie Raum­an­eig­nung für Kol­lek­ti­ve mit unter­schied­li­chen poli­ti­schen Zie­len zur Pra­xis wird: In der Lobau-Beset­zung\, wo Men­schen sich mit ihren Kör­pern dem Bau ent­ge­gen­stel­len und mit ihrer Anwe­sen­heit Räu­me umdeu­ten; in der Aneig­nung der Stra­ße – um gegen Femi(ni)zide laut zu wer­den und Wut und Trau­er über patri­ar­cha­le Gewalt auf die Stra­ße zu brin­gen; und mit der Beset­zung der Karls­stra­ße 20 und der Eröff­nung des „Open Space for Future“. Die Par­al­le­len und Ver­knüp­fun­gen die­ser ver­schie­de­nen Kol­lek­ti­ve sol­len an die­sem Abend genau­er betrach­tet\, aber der Blick eben­so auf die unter­schied­li­chen Erfah­run­gen gelenkt werden. \nSys­tem Chan­ge not Cli­ma­te Chan­ge lädt dazu ein\, vor­bei­zu­kom­men\, um einen Abend lang zu die­sem The­ma zu dis­ku­tie­ren\, von­ein­an­der zu ler­nen und gemein­sam Ansät­ze für Raum­an­eig­nung als Basis für eine femi­nis­ti­sche und kli­ma­ge­rech­te Zukunft zu verbinden. \nMit: Aktivist:innen von Lobau-bleibt Bewe­gung\, NoFu­ture for IAA und F*Streik Graz \nPodi­ums­dis­kus­si­on\nam 31. März um 19 Uhr\nOrt: kol­lek­tiv kaor­le\, Schmalz­hof­gas­se 5\, 1060 Wien \nEin­tritt frei!\nEs wird gebe­ten\, trotz 2G\, vor­her einen Coro­na-PCR-Test zu machen.
URL:https://8maerz.at/veranstaltung/podiumsdiskussion-wenn-du-hier-sitzt-stoert-das-raumaneignung-als-weg-in-eine-feministische-und-klimagerechte-zukunft/
LOCATION:kollektiv kaorle\, Schmalzhofgasse 5/2\, Wien\, Wien\, 1060\, Österreich
END:VEVENT
END:VCALENDAR