BEGIN:VCALENDAR
VERSION:2.0
PRODID:-//8. März - ECPv6.15.20//NONSGML v1.0//EN
CALSCALE:GREGORIAN
METHOD:PUBLISH
X-WR-CALNAME:8. März
X-ORIGINAL-URL:https://8maerz.at
X-WR-CALDESC:Veranstaltungen für 8. März
REFRESH-INTERVAL;VALUE=DURATION:PT1H
X-Robots-Tag:noindex
X-PUBLISHED-TTL:PT1H
BEGIN:VTIMEZONE
TZID:Europe/Vienna
BEGIN:DAYLIGHT
TZOFFSETFROM:+0100
TZOFFSETTO:+0200
TZNAME:CEST
DTSTART:20230326T010000
END:DAYLIGHT
BEGIN:STANDARD
TZOFFSETFROM:+0200
TZOFFSETTO:+0100
TZNAME:CET
DTSTART:20231029T010000
END:STANDARD
BEGIN:DAYLIGHT
TZOFFSETFROM:+0100
TZOFFSETTO:+0200
TZNAME:CEST
DTSTART:20240331T010000
END:DAYLIGHT
BEGIN:STANDARD
TZOFFSETFROM:+0200
TZOFFSETTO:+0100
TZNAME:CET
DTSTART:20241027T010000
END:STANDARD
BEGIN:DAYLIGHT
TZOFFSETFROM:+0100
TZOFFSETTO:+0200
TZNAME:CEST
DTSTART:20250330T010000
END:DAYLIGHT
BEGIN:STANDARD
TZOFFSETFROM:+0200
TZOFFSETTO:+0100
TZNAME:CET
DTSTART:20251026T010000
END:STANDARD
END:VTIMEZONE
BEGIN:VEVENT
DTSTART;TZID=Europe/Vienna:20240305T180000
DTEND;TZID=Europe/Vienna:20240305T203000
DTSTAMP:20260424T154511
CREATED:20240117T172152Z
LAST-MODIFIED:20240117T172152Z
UID:10004053-1709661600-1709670600@8maerz.at
SUMMARY:Trennung / Scheidung selbstbestimmt gestalten
DESCRIPTION:Online-Ver­an­stal­tung \nInfor­ma­ti­on und Aus­tausch für Frau­en\, die stra­te­gisch ihre Zukunft nach der Tren­nung pla­nen wol­len und sich fragen: \nWie kann ich mich gut trennen?\nWie funk­tio­niert eine Scheidung?\nAuf wel­che Punk­te muss ich ach­ten\, wel­che Fra­gen sind zu klären?\nWas sind mei­ne Rech­te und Pflichten?\nWie geht das mit den Kin­dern\, der Woh­nung und dem Geld?\nWie kann ich schäd­li­che Rol­len­mus­ter able­gen und mir neue aneignen?\nUnd wie gehe ich mit all die­sen wider­sprüch­li­chen Gefüh­len um? \nInhal­te des Vortrags: \nRecht­li­che Infor­ma­tio­nen zur Auf­lö­sung von Ehe\, Lebens­ge­mein­schaft und ein­ge­tra­ge­ner Part­ner­schaft\, Unter­halt und Ali­men­te\, Ver­mö­gens- und Schuldenaufteilung\nIst das schon Gewalt? Psy­chi­sche und öko­no­mi­sche Gewalt\nTipps zum erfolg­rei­chen Ver­han­deln mit dem (Ex-)Partner\nAus­tausch über unter­schied­li­che hilf­rei­che Stra­te­gien\, wie eine Tren­nung gut geschafft wer­den kann \nVor­tra­gen­de: Dr.in Bar­ba­ra Stekl\, Juris­tin\, Dr.in Bet­ti­na Zehet­ner\, psy­cho­so­zia­le Bera­te­rin\, Frau­en* bera­ten Frauen* \nTer­min: Diens­tag 5. März\, 18 bis 20.30 Uhr\, online \nAnmel­dung: zehetner@frauenberatenfrauen.at\nDer Link zur Ver­an­stal­tung wird zeit­nah per Mail zugesendet.
URL:https://8maerz.at/veranstaltung/trennung-scheidung-selbstbestimmt-gestalten/
LOCATION:Online\, Wien\, Österreich
END:VEVENT
BEGIN:VEVENT
DTSTART;VALUE=DATE:20240306
DTEND;VALUE=DATE:20240311
DTSTAMP:20260424T154511
CREATED:20240210T201659Z
LAST-MODIFIED:20240219T174226Z
UID:10004101-1709683200-1710115199@8maerz.at
SUMMARY:Tricky Women / Tricky Realities 2024
DESCRIPTION:From March 6 to 10 we cele­bra­te the aes­the­tic\, poli­ti­cal and sub­ver­si­ve radi­ance of ani­ma­ted films made by women and/or gen­der­que­er artists! \nAnd: We cele­bra­te hybrid again! With film pro­grams\, lec­tures and artist talks at our fes­ti­val cine­ma the METRO Kino­kul­tur­haus / Film­ar­chiv Aus­tria\, the ope­ning cerem­o­ny at Gar­ten­bau­ki­no as well as lec­tures and pro­grams at the Aus­tri­an Film­mu­se­um\, Brun­nen­pas­sa­ge\, Stand_129\, an exhi­bi­ti­on at bildrecht_bildraum 07\, a big fes­ti­val par­ty at the Rote Bar at Volks­thea­ter. And for ever­y­bo­dy who can’t join us in Vien­na: A lar­ge part of the film pro­grams will also be shown online at our fes­ti­val platform. \nThe fes­ti­val pro­gram is now online: online.trickywomen.at \nStay tun­ed! We are so loo­king for­ward to see you again! \nTri­cky Women/Tricky Rea­li­ties 2024\n6.–10.3.2024 in Vienna\n7.–13.3.2024 online\nLink: online.trickywomen.at \nSujet © Tri­cky Women / Tri­cky Realities
URL:https://8maerz.at/veranstaltung/tricky-women-tricky-realities-2024/
LOCATION:METRO Kinokulturhaus\, Johannesgasse 4\, Wien\, 1010\, Österreich
ATTACH;FMTTYPE=image/jpeg:https://8maerz.at/wp-content/uploads/sites/20/2024/02/TrickyWomen-2024.jpg
GEO:48.2049653;16.3719055
X-APPLE-STRUCTURED-LOCATION;VALUE=URI;X-ADDRESS=METRO Kinokulturhaus Johannesgasse 4 Wien 1010 Österreich;X-APPLE-RADIUS=500;X-TITLE=Johannesgasse 4:geo:16.3719055,48.2049653
END:VEVENT
BEGIN:VEVENT
DTSTART;TZID=Europe/Vienna:20240306T090000
DTEND;TZID=Europe/Vienna:20240306T110000
DTSTAMP:20260424T154511
CREATED:20240127T214331Z
LAST-MODIFIED:20240127T214400Z
UID:10004089-1709715600-1709722800@8maerz.at
SUMMARY:Online-Vortrag: Gefühlsarbeit
DESCRIPTION:Online-Vor­trag mit Dis­kus­si­ons­mög­lich­keit und Austausch \nGefühl­s­ar­beit (Emo­tio­nal Load) bedeu­tet\, sich dafür ver­ant­wort­lich zu füh­len\, dass es allen Per­so­nen im Umfeld gut geht\, ihre Bedürf­nis­se wahr­zu­neh­men und auch zu erfüllen. \nGefühl­s­ar­beit ist die Grund­la­ge\, damit eine Gesell­schaft funk­tio­nie­ren kann. Meist wird sie von Frau­en* über­nom­men\, sowohl im pri­va­ten als auch im beruf­li­chen Kontext. \nEs gibt Jobs\, in denen beson­ders viel Gefühl­s­ar­beit geleis­tet wer­den muss\, wie z.B.: in sozia­len Beru­fen\, aber auch im Dienst­leis­tungs­sek­tor. Hier wird von den aus­füh­ren­den Per­so­nen ver­langt\, ihre eige­nen Bedürf­nis­se und Gefüh­le zurück­zu­ste­cken\, zuguns­ten der Bedürf­nis­se ande­rer. Es bedarf eine andau­ern­de Mani­pu­la­ti­on der eige­nen Gefüh­le\, um den beruf­li­chen Rol­len­an­for­de­run­gen zu entsprechen. \nIm Vor­trag geht es unter ande­rem darum: \nWas ist Gefühl­s­ar­beit? Was ist Emo­tio­nal Load?\nWar­um ist sie nach wie vor in ers­ter Linie Frauen*sache?\nWel­che Aus­wir­kun­gen hat dies phy­sisch und psychisch?\nGefühl­s­ar­beit im Job und im Privatleben\nWie kön­nen wir einen guten\, gesun­den Umgang mit Gefühl­s­ar­beit und Emo­tio­nal Load finden?\nWo ist Gefühl­s­ar­beit ange­bracht\, wo hin­der­lich? Und was kön­nen wir zu einer gerech­te­ren Ver­tei­lung zwi­schen den Geschlech­tern beitragen? \nWann: Mi. 6. März 2024\, 09:00 – 11:00 Uhr\nWo: via Teams\nAnmel­dung unter: schrammel@frauenberatenfrauen.at (Teil­nah­me kostenlos) \nVor­tra­gen­de:\nDSPin Bar­ba­ra Schram­mel MSc\, Sozi­al­päd­ago­gin\, Psy­cho­the­ra­peu­tin (Psy­cho­dra­ma) und Beraterin\nJulia Schaff­ner MA\, stu­dier­te Sozio­lo­gin und Poli­to­lo­gin\, Geschäfts­füh­re­rin bei Frau­en* bera­ten Frauen*
URL:https://8maerz.at/veranstaltung/online-vortrag-gefuehlsarbeit/
LOCATION:Online\, Wien\, Österreich
END:VEVENT
BEGIN:VEVENT
DTSTART;TZID=Europe/Vienna:20240306T180000
DTEND;TZID=Europe/Vienna:20240306T200000
DTSTAMP:20260424T154511
CREATED:20240219T172904Z
LAST-MODIFIED:20240219T173229Z
UID:10004147-1709748000-1709755200@8maerz.at
SUMMARY:Vortrag: Zwei Frauen zwischen Brünn und Wien
DESCRIPTION:Vor­trag am Mitt­woch 06. März 2024\, um 18:00 \nDie­se bio­gra­phi­sche Recher­che han­delt von zwei Frau­en am Rand der Wie­ner Frau­en­be­we­gung\, deren Auf­ent­halts­ort Brünn war. Mar­ga­re­te Rol­ler war 1881 in Brünn gebo­ren\, Mar­ga­re­te Rös­ler 1871 in Wien. Bei­de waren in einem Zeit­raum berufs­tä­tig\, in dem Mit­tel­eu­ro­pa auf den Zwei­ten Welt­krieg zusteu­er­te. Sie waren (zunächst) Leh­re­rin­nen an deutsch­spra­chi­gen Mäd­chen­schu­len in Brünn. Die pro­mo­vier­te Anglis­tin und Roma­nis­tin M. Rös­ler kehr­te im Alter Ende 1938 wie­der nach Wien zurück. M. Rol­ler wand­te sich bald deutsch­na­tio­na­len Kin­der­schutz­ak­ti­vi­tä­ten zu. Sie und ihrer Schwes­ter begin­gen 1945 Selbstmord. \nVor­trag von Eli­sa­beth Mal­lei­er (His­to­ri­ke­rin\, Wien)\nMode­ra­ti­on: Andrea Strutzmann \nOrt: Frau­en­bil­dungs­stät­te Frau­en­hetz\, Unte­re Weiß­ge­ber­str. 41\, 1030 Wien\nDie Ver­an­stal­tung ist für Frauen. \nVor­trag auch per Zoom bei Anmel­dung per E‑Mail an pr@frauenhetz.at.
URL:https://8maerz.at/veranstaltung/vortrag-zwei-frauen-zwischen-bruenn-und-wien/
LOCATION:Frauenhetz\, Untere Weißgerberstraße 41\, Wien\, 1030
ORGANIZER;CN="Frauenhetz - feministische Bildung%2C Kultur und Politik":MAILTO:office@frauenhetz.at
GEO:48.2084854;16.3946163
X-APPLE-STRUCTURED-LOCATION;VALUE=URI;X-ADDRESS=Frauenhetz Untere Weißgerberstraße 41 Wien 1030;X-APPLE-RADIUS=500;X-TITLE=Untere Weißgerberstraße 41:geo:16.3946163,48.2084854
END:VEVENT
END:VCALENDAR