BEGIN:VCALENDAR
VERSION:2.0
PRODID:-//8. März - ECPv6.15.20//NONSGML v1.0//EN
CALSCALE:GREGORIAN
METHOD:PUBLISH
X-ORIGINAL-URL:https://8maerz.at
X-WR-CALDESC:Veranstaltungen für 8. März
REFRESH-INTERVAL;VALUE=DURATION:PT1H
X-Robots-Tag:noindex
X-PUBLISHED-TTL:PT1H
BEGIN:VTIMEZONE
TZID:Europe/Vienna
BEGIN:DAYLIGHT
TZOFFSETFROM:+0100
TZOFFSETTO:+0200
TZNAME:CEST
DTSTART:20220327T010000
END:DAYLIGHT
BEGIN:STANDARD
TZOFFSETFROM:+0200
TZOFFSETTO:+0100
TZNAME:CET
DTSTART:20221030T010000
END:STANDARD
BEGIN:DAYLIGHT
TZOFFSETFROM:+0100
TZOFFSETTO:+0200
TZNAME:CEST
DTSTART:20230326T010000
END:DAYLIGHT
BEGIN:STANDARD
TZOFFSETFROM:+0200
TZOFFSETTO:+0100
TZNAME:CET
DTSTART:20231029T010000
END:STANDARD
BEGIN:DAYLIGHT
TZOFFSETFROM:+0100
TZOFFSETTO:+0200
TZNAME:CEST
DTSTART:20240331T010000
END:DAYLIGHT
BEGIN:STANDARD
TZOFFSETFROM:+0200
TZOFFSETTO:+0100
TZNAME:CET
DTSTART:20241027T010000
END:STANDARD
END:VTIMEZONE
BEGIN:VEVENT
DTSTART;TZID=Europe/Vienna:20230308T090000
DTEND;TZID=Europe/Vienna:20230308T100000
DTSTAMP:20260425T121801
CREATED:20230228T213549Z
LAST-MODIFIED:20230228T213711Z
UID:10004003-1678266000-1678269600@8maerz.at
SUMMARY:Gegenwartsgespräch mit Ana Rodriguez-Guerrero und Stefanie Kopka
DESCRIPTION:Gegen­warts­ge­sprä­che: Wenn nicht jetzt\, wann dann? Nach­hal­tig leben\, arbei­ten und wirt­schaf­ten – was ist zu tun? \nDatum und Uhr­zeit: 08.03.2023\, 9.00−10.00 Uhr\nOrt: Online via Zoom \nGeteil­te Füh­rung. Dop­pel­te Kompetenz.\nNach­dem Ana Rodri­guez-Guer­re­ro und Ste­fa­nie Kop­ka vor knapp einem Jahr den Pilot­ver­such des Tops­ha­rings in der Ent­wick­lung in Wien gewagt hat­ten\, bli­cken sie zurück auf einen Schatz an Erfah­rung und Per­spek­ti­ven wie das Modell Füh­rung in Teil­zeit anrei­chert. Ihre Best Prac­ti­ces und Ein­bli­cke in ihren All­tag als Füh­rungs­kräf­te geben sie ger­ne wei­ter an alle inter­es­sier­ten Per­so­nen. Denn sie sind über­zeugt\, das Arbeits­mo­dell wird einen immer wich­ti­ge­ren Stel­len­wert in Unter­neh­men ein­neh­men\, um Füh­rungs­qua­li­tä­ten und Lebens­si­tua­tio­nen zu vereinbaren. \nDer Talk fin­det online via Zoom statt.\nAllen ange­mel­de­ten Teil­neh­men­den wer­den die Zugangs­da­ten per E‑Mail übermittelt. \nBit­te um Anmel­dung an: Frau Bar­ba­ra Kur­ta\, frontoffice@abz-austria.at
URL:https://8maerz.at/veranstaltung/abzaustria-gegenwartsgespraech-online/
LOCATION:Online\, Wien\, Österreich
END:VEVENT
BEGIN:VEVENT
DTSTART;TZID=Europe/Vienna:20230308T090000
DTEND;TZID=Europe/Vienna:20230308T113000
DTSTAMP:20260425T121801
CREATED:20230212T200939Z
LAST-MODIFIED:20230212T201257Z
UID:10003971-1678266000-1678275000@8maerz.at
SUMMARY:Online-Vortrag: Mental Load
DESCRIPTION:Wenn die ungleiche Verteilung der Haus- und Care-Arbeit Frauen* in die völlige Erschöpfung zwingt\nVor­trag mit Dis­kus­si­ons­mög­lich­keit und Austausch \nMen­tal Load meint die unsicht­ba­ren Auf­ga­ben im Unter­neh­men „Fami­lie“\, wel­che meist auf den Schul­tern der Frau* allein las­ten. Es bezeich­net das dar­an den­ken\, pla­nen\, orga­ni­sie­ren und umset­zen der vie­len klei­nen und gro­ßen Din­ge\, die zur Haus­halts- und Care-Arbeit gehö­ren und für die sich Frau­en* oft auto­ma­tisch ver­ant­wort­lich füh­len. Ver­stärkt wird die­ses Ungleich­ge­wicht mit der Geburt eines Kin­des\, aber auch Frau­en* ohne Kin­der erle­ben die­se men­ta­le Über­las­tung des sich stän­dig ver­ant­wort­lich Füh­lens und der 1000 To-Dos im Kopf. \nEs ist kein per­sön­li­ches Ver­sa­gen von Frau­en*\, das alles nicht zu schaf­fen. Es ist ein struk­tu­rel­les Pro­blem\, wel­ches Frau­en* benach­tei­ligt und zur abso­lu­ten Erschöp­fung füh­ren kann. \nDer Vor­trag ist offen für alle Per­so­nen\, auch für Paa­re oder Männer*. \nMetho­de: Vor­trag mit Diskussionsmöglichkeit\nLei­tung: Bar­ba­ra Schram­mel\, DSP MSc; Lena Neu­ber BA\nTer­min: 8. März 2023\, 9–11:30 Uhr\, online via Zoom \nKos­ten: kostenlos\nAnmel­dung: erfor­der­lich\, per E‑Mail an schrammel@frauenberatenfrauen.at oder unter 01 5876750\nNach erfolg­ter Anmel­dung erhal­ten Sie eini­ge Tage vor der Ver­an­stal­tung den Zoom-Link.
URL:https://8maerz.at/veranstaltung/online-vortrag-mental-load-2/
LOCATION:Online\, Wien\, Österreich
END:VEVENT
BEGIN:VEVENT
DTSTART;TZID=Europe/Vienna:20230308T190000
DTEND;TZID=Europe/Vienna:20230308T210000
DTSTAMP:20260425T121801
CREATED:20230123T182618Z
LAST-MODIFIED:20230227T211731Z
UID:10003711-1678302000-1678309200@8maerz.at
SUMMARY:Lesung zum Frauentag 2023: Friedensfrauen
DESCRIPTION:Auch 2023 gibt es wie­der eine Lesung zum Frauentag: \nFRIEDENSFRAUEN\nLesung zum Frau­en­tag mit Petra Gangl­bau­er\, Mar­got Hru­by\, Dine Petrik\, Moni­ka Vasik. \nMode­ra­ti­on: Hel­ga C. Pregesbauer\n19 Uhr\, Lite­ra­tur­haus Wien\, Ein­tritt frei.\nOnline­über­tra­gung via literaturhaus.at \nLesun­gen von Petra Gangl­bau­er (Foto: © Mar­ko Lipus)\, Dine Petrik (Foto: © pri­vat)\, Moni­ka Vas­ik (Foto: © pri­vat)\, Hel­ga Chris­ti­na Pre­ges­bau­er (Foto: © Andrea Soj­ka)\, Mar­got Hru­by (Foto: © Ulli Fuchs) \n****\nDen Kriegs­be­trei­bern fehlt etwas\, ohne das die Kunst nicht aus­kommt\, sie sind »nicht im Dia­log mit sich selbst« (Vas­ik). Die Inter­na­tio­na­le Frau­en­li­ga für Frie­den und Frei­heit dage­gen ist eine Bewe­gung von reflek­tier­ten Frau­en. Frau­en wie Yel­la Hertzka\, die sol­che Bewe­gun­gen grün­de­ten\, wer­den in erstaun­li­chem Tem­po ins Ver­ges­sen abge­scho­ben (Hru­by). Die Autorin­nen stel­len sich die Fra­ge\, wie Krieg ver­schie­de­ne Berei­che des Lebens durch­dringt\, in allen Facet­ten\, und auf wel­che Arten er in den Tod mün­det. Sie fra­gen nach der Rebel­li­on der Frau\, die­sem Geschlecht der »Pech­ge­bo­re­nen« (Vas­ik) und unter­su­chen Krieg als eine »Ver­suchs­an­ord­nung der Angst« (Gangl­bau­er). \n****
URL:https://8maerz.at/veranstaltung/lesung-zum-frauentag-2023-friedensfrauen/
LOCATION:Literaturhaus Wien\, Zieglergasse 26a\, Wien\, 1070\, Österreich
ATTACH;FMTTYPE=image/jpeg:https://8maerz.at/wp-content/uploads/sites/20/2023/01/Lesung-Frauentag-2023-e1677532642367.jpeg
END:VEVENT
END:VCALENDAR