BEGIN:VCALENDAR
VERSION:2.0
PRODID:-//8. März - ECPv6.15.20//NONSGML v1.0//EN
CALSCALE:GREGORIAN
METHOD:PUBLISH
X-WR-CALNAME:8. März
X-ORIGINAL-URL:https://8maerz.at
X-WR-CALDESC:Veranstaltungen für 8. März
REFRESH-INTERVAL;VALUE=DURATION:PT1H
X-Robots-Tag:noindex
X-PUBLISHED-TTL:PT1H
BEGIN:VTIMEZONE
TZID:Europe/Vienna
BEGIN:DAYLIGHT
TZOFFSETFROM:+0100
TZOFFSETTO:+0200
TZNAME:CEST
DTSTART:20210328T010000
END:DAYLIGHT
BEGIN:STANDARD
TZOFFSETFROM:+0200
TZOFFSETTO:+0100
TZNAME:CET
DTSTART:20211031T010000
END:STANDARD
BEGIN:DAYLIGHT
TZOFFSETFROM:+0100
TZOFFSETTO:+0200
TZNAME:CEST
DTSTART:20220327T010000
END:DAYLIGHT
BEGIN:STANDARD
TZOFFSETFROM:+0200
TZOFFSETTO:+0100
TZNAME:CET
DTSTART:20221030T010000
END:STANDARD
BEGIN:DAYLIGHT
TZOFFSETFROM:+0100
TZOFFSETTO:+0200
TZNAME:CEST
DTSTART:20230326T010000
END:DAYLIGHT
BEGIN:STANDARD
TZOFFSETFROM:+0200
TZOFFSETTO:+0100
TZNAME:CET
DTSTART:20231029T010000
END:STANDARD
END:VTIMEZONE
BEGIN:VEVENT
DTSTART;TZID=Europe/Vienna:20220307T180000
DTEND;TZID=Europe/Vienna:20220307T193000
DTSTAMP:20260426T014129
CREATED:20220227T225633Z
LAST-MODIFIED:20220227T232908Z
UID:10003911-1646676000-1646681400@8maerz.at
SUMMARY:Webinar: Frauenmorde sind keine "Beziehungstat"
DESCRIPTION:aus der Kurs­rei­he sicher IN DIE NEUEN ZEITEN \nVer­an­stal­ter: VHS Wie­ner Urania\nDatum: 07.03.2022\, 18:00 – 19:30 Uhr\nKurs­lei­tung: Tere­sa Uller­am\, BA MA\nKurs­ort: Webinar\nTeil­neh­me­rIn­nen: 8 – 100\nKurs-Nr. 24811010 \nFemi­zi­de\, sprich Frau­en­tö­tun­gen als Fol­ge geschlechts­spe­zi­fi­scher Benach­tei­li­gung\, sind die ulti­ma­tivs­te Gewalt­form und sind Aus­druck eines aus Ste­reo­ty­pi­sie­run­gen und ent­spre­chen­der Sozia­li­sie­rung resul­tie­ren­den struk­tu­rel­len Phä­no­mens. Was braucht es\, um töd­li­che Gewalt gegen Frau­en zu verhindern? \nTere­sa Uller­am stu­dier­te Afri­ka­wis­sen­schaf­ten und Kul­tur- und Sozi­al­an­thro­po­lo­gie an der Uni­ver­si­tät Wien. Ihre Mas­ter­ar­beit ver­fass­te sie zum The­ma „Frau­en­mor­de in Öster­reich“. Seit Juni 2020 ist sie in der Wie­ner Inter­ven­ti­ons­stel­le gegen Gewalt in der Fami­lie tätig. \nAnmel­dung hier.\nDer Zoom-Link zu die­sem Web­i­nar wird Ihnen 1–2 Stun­den vor dem Vor­trag per E‑Mail übermittelt.
URL:https://8maerz.at/veranstaltung/webinar-frauenmorde-sind-keine-beziehungstat/
LOCATION:Online\, Wien\, Österreich
END:VEVENT
BEGIN:VEVENT
DTSTART;TZID=Europe/Vienna:20220307T183000
DTEND;TZID=Europe/Vienna:20220307T203000
DTSTAMP:20260426T014129
CREATED:20220221T142554Z
LAST-MODIFIED:20220221T142554Z
UID:10003889-1646677800-1646685000@8maerz.at
SUMMARY:Online-Workshop: Human Rights reporting
DESCRIPTION:In this work­shop we will dis­cuss the poten­ti­al of jour­na­lism in\ncon­tri­bu­ting to human rights pro­tec­tion\, awa­re­ness and deba­te\, in\nigno­ring\, silen­cing or mis­re­pre­sen­ting human rights issues around the\nworld or\, in extre­me situa­tions\, in inci­ting hat­red\, geno­ci­de and crimes\nagainst huma­ni­ty. We will pro­vi­de insight into how jour­na­lists translate\nhuman rights issues\, reve­al­ing dif­fe­rent report­ing pat­terns and levels\nof detail in report­ing\, and sug­gest­ing dif­fe­rent levels of engagement\nwith human rights issues. \nGOALS: \n* An inter­ac­ti­ve exch­an­ge of expe­ri­en­ces on human rights reporting.\n* Dis­cus­sing the most important fac­tors that encou­ra­ge or limit the\ncovera­ge of human rights news. \n* Groun­ded in a clo­se exami­na­ti­on of the news pro­duc­tion pro­ces­ses and\nkey moments whe­re pos­si­ble human rights sto­ries are contemplated\,\ndeci­ded or even­tual­ly igno­red\, we open up new insights into the\ncom­ple­xi­ties and cons­traints of human rights report­ing today. \nSPEAKER: Sara Cre­ta\, Sara Cre­ta is an award-win­ning pho­to­jour­na­list and\ndocu­men­ta­ry film­ma­ker\, with exten­si­ve expe­ri­ence inves­ti­ga­ting human\nrights abu­ses. Over the past years\, she docu­men­ted on-the-ground\ncon­di­ti­ons in forced migra­ti­on situa­ti­on\, human rights vio­la­ti­on\, crisis\nmanage­ment and cul­tures in transition. \nSara’s recent bodies of work in Libya include „Libya\, No Escape from\nHell“ a 60 minu­tes-long docu­men­ta­ry for ARTE film­ed in Libya on the\nenti­re detenti­on sys­tem and the role of the militi­as; a\njoint-inves­ti­ga­ti­on by Light­house Reports\, Der Spie­gel\, ARD\, Liberation\nand Il Doma­ni on the role play­ed by Fron­tex air sur­veil­lan­ce assets in\nthe inter­cep­ting and retur­ning asyl­um-see­kers to Libya and „The Ship\nThat Stop­ped 7\,000 Migrants\, and Smug­g­led 700\,000 Ciga­ret­tes“ for The\nNew York Times\, an inves­ti­ga­ti­on on an Ita­li­an war­ship that was deployed\nto Tri­po­li to help com­bat people-smugglers. \nIn 2019\, she was in Sudan to cover the upri­sing for the ARTE\, a\nFran­co-Ger­man free-to-air tele­vi­si­on net­work and she co-aut­ho­red a 22\nminu­tes docu­men­ta­ry on Women’s sto­ries from the front­li­ne of Sudan’s\nrevolution. \nIn the past\, she has work­ed with the Ger­man Tele­vi­si­on ZDF on a\ndocu­men­ta­ry about Libya and EU poli­ci­es; on a docu­men­ta­ry series on\nmigra­ti­on in the Medi­ter­ra­ne­an for NRK\, tele­vi­si­on in Nor­way; film­ed at\nthe bor­der bet­ween Moroc­co and Spain with RAI\, Ita­li­an television. \nWHEN/WHERE: 7th of March 2022 6:30–8:30 pm\, on Zoom (LINK is sent to\nyou\, after you have registered). \nREGISTRATION: The web­i­nar-par­ti­ci­pa­ti­on is free char­ge and open to all\ngen­ders. Plea­se send a mail until the 3rd of March to Tania Napravnik =>\nwomenonair@o94.at
URL:https://8maerz.at/veranstaltung/online-workshop-human-rights-reporting/
LOCATION:Online\, Wien\, Österreich
END:VEVENT
BEGIN:VEVENT
DTSTART;TZID=Europe/Vienna:20220308T090000
DTEND;TZID=Europe/Vienna:20220308T113000
DTSTAMP:20260426T014129
CREATED:20220301T233858Z
LAST-MODIFIED:20220301T234300Z
UID:10003916-1646730000-1646739000@8maerz.at
SUMMARY:Online-Vortrag: Mental Load
DESCRIPTION:Mental Load: Wenn die ungleiche Verteilung des Familienmanagements Frauen* in die völlige Erschöpfung zwingt\nVor­trag mit Dis­kus­si­ons­mög­lich­keit und Austausch \nMen­tal Load meint die unsicht­ba­ren Auf­ga­ben im Unter­neh­men „Fami­lie“\, wel­che meist auf den Schul­tern der Frau* allein las­ten. Ver­stärkt wird die­ses Ungleich­ge­wicht mit der Geburt eines Kin­des\, aber auch Frau­en* ohne Kin­der erle­ben die­se men­ta­le Über­las­tung des sich stän­dig ver­ant­wort­lich Füh­lens und der 1000 To-Dos im Kopf. Alleinerzieher*innen sind zwangs­wei­se noch stär­ker belas­tet. Selbst nach einer Tren­nung mit aus­ge­dehn­tem Kon­takt­recht durch den Vater* über­neh­men über­wie­gend Frau­en* die­se Auf­ga­ben. Es ist kein per­sön­li­ches Ver­sa­gen von Frau­en*\, dies alles nicht zu schaf­fen. Es ist ein struk­tu­rel­les Pro­blem\, wel­ches Frau­en* benach­tei­ligt und zur abso­lu­ten Erschöp­fung füh­ren kann. \nMetho­de: Vor­trag mit anschlie­ßen­der Diskussionsmöglichkeit\nLei­tung: Bar­ba­ra Schram­mel\, DSPin MSc und Lena Neuber \nDatum: 8.3. 2022\, 9.00 – 11.30 Uhr\nOrt: Online via Zoom\nKos­ten: kostenlos \nAnmel­dung: popovic@frauenberatenfrauen.at oder unter 01 587 67 50\nNach erfolg­ter Anmel­dung erhal­ten sie eini­ge Tage vor Ver­an­stal­tungs­be­ginn den Teilnahmelink.
URL:https://8maerz.at/veranstaltung/online-vortrag-mental-load/
LOCATION:Online\, Wien\, Österreich
END:VEVENT
BEGIN:VEVENT
DTSTART;TZID=Europe/Vienna:20220308T120000
DTEND;TZID=Europe/Vienna:20220308T133000
DTSTAMP:20260426T014129
CREATED:20220304T222915Z
LAST-MODIFIED:20220304T223327Z
UID:10003676-1646740800-1646746200@8maerz.at
SUMMARY:Lectures for Future: unruhig bleiben*
DESCRIPTION:unruhig bleiben*\nDon­na Hara­way und ihr radi­ka­les Den­ken der Ver­wand­lung. Ein Bei­trag von Kat­rin Mac­kow­ski\, Ö1 \n8.3.2022 | 12.00−13.30\nonline & mdwCampus \nAm Inter­na­tio­na­len Frauen*tag 2022 star­ten die Lec­tures for Future an der mdw – Uni­ver­si­tät für Musik und dar­stel­len­de Kunst Wien mit dem Ö1-Bei­trag „Don­na Hara­way und ihr radi­ka­les Den­ken der Ver­wand­lung“ von Kat­rin Mac­kow­ski und the­ma­ti­sie­ren die viel­fa­chen Ver­flech­tun­gen von Kunst\, Wis­sen­schaft\, femi­nis­ti­schen Theo­rien und den aktu­el­len öko­lo­gi­schen Her­aus­for­de­run­gen unse­rer Zeit. \nKoope­ra­ti­ons­ver­an­stal­tung der Stab­stel­le Gleich­stel­lung\, Gen­der Stu­dies und Diver­si­tät (GGD) mit der grünen-mdw. \nEine Anmel­dung per Mail an huebener@mdw.ac.at ist sowohl für die Teil­nah­me in Prä­senz (begrenz­te Plät­ze) als auch per Zoom-Mee­ting erforderlich. \n* Der Titel der Ver­an­stal­tung nimmt Bezug auf das Buch von Don­na J. Haraway\nUnru­hig blei­ben. Die Ver­wandt­schaft der Arten im Chtu­lu­zän\, Cam­pus Ver­lag: Frank­furt a. M. 2018\nDie eng­lisch­spra­chi­ge Ori­gi­nal­aus­ga­be erschien 2016 unter dem Titel Stay­ing with the Trou­ble. Making Kin in the Chtu­li­ce­ne\, Duke Uni­ver­si­ty Press
URL:https://8maerz.at/veranstaltung/lectures-for-future-unruhig-bleiben/
LOCATION:mdw – Universität für Musik und darstellende Kunst\, Anton-von-Webern-Platz 1\, Wien\, Wien\, 1030\, Österreich
ORGANIZER;CN="mdw %E2%80%93 Universit%C3%A4t f%C3%BCr Musik und darstellende Kunst":MAILTO:https://www.mdw.ac.at
GEO:48.201799;16.3847658
X-APPLE-STRUCTURED-LOCATION;VALUE=URI;X-ADDRESS=mdw – Universität für Musik und darstellende Kunst Anton-von-Webern-Platz 1 Wien Wien 1030 Österreich;X-APPLE-RADIUS=500;X-TITLE=Anton-von-Webern-Platz 1:geo:16.3847658,48.201799
END:VEVENT
BEGIN:VEVENT
DTSTART;TZID=Europe/Vienna:20220308T170000
DTEND;TZID=Europe/Vienna:20220308T180000
DTSTAMP:20260426T014129
CREATED:20220306T220513Z
LAST-MODIFIED:20220306T220728Z
UID:10003924-1646758800-1646762400@8maerz.at
SUMMARY:Live-Talk: Feminismus 2022: Es ist Zeit für Geschlechtergleichstellung
DESCRIPTION:Anläss­lich des Inter­na­tio­na­len Frau­en­tags gibt es einen Live-Talk auf Insta­gram mit der Vize­prä­si­den­tin des Euro­päi­schen Par­la­ments Eve­lyn Reg­ner und der Satri­ke­rin Toxi­sche Pom­mes über die Her­aus­for­de­run­gen von Frau­en im Jahr 2022: Was ist zu tun? Wel­chen Femi­nis­mus brau­chen wir? \nSei dabei am Diens­tag\, 8. März um 17 Uhr.\nLink: https://www.instagram.com/euparlament_at/ \n#IWD2022EP #Inter­na­tio­nal­erFrau­en­tag
URL:https://8maerz.at/veranstaltung/live-talk-feminismus-2022-es-ist-zeit-fuer-geschlechtergleichstellung/
LOCATION:Online\, Wien\, Österreich
END:VEVENT
BEGIN:VEVENT
DTSTART;TZID=Europe/Vienna:20220308T170000
DTEND;TZID=Europe/Vienna:20220308T190000
DTSTAMP:20260426T014129
CREATED:20220221T140128Z
LAST-MODIFIED:20220221T140307Z
UID:10003886-1646758800-1646766000@8maerz.at
SUMMARY:Gespräch: Katharina Fröhlich und ihre Schwestern
DESCRIPTION:Über ewi­ge Zuschrei­bun­gen\, Sis­ter­hood und weib­li­che Krea­ti­vi­tät im 19. Jahrhundert \nAus der For­schungs­werk­statt zum Frau­en­tag 2022 \nOrt und Zeit:\nDiens­tag\, 8. März 2022\, 17.00 Uhr\n***Live-Stream aus den Loos-Räu­men der Wienbibliothek*** \nZur Ver­an­stal­tung:\nWenn das Schein­wer­fer­licht auf den öster­rei­chi­schen „Klas­si­ker“ Franz Grill­par­zer fällt\, dann ver­sinkt der Rest der Büh­ne – wie bei vie­len ande­ren „gro­ßen Män­nern“ auch – im Dun­kel. In die­sem Dun­kel ver­schwan­den bis­her unter ande­ren die vier Schwes­tern Fröh­lich\, die im Leben des Dra­ma­ti­kers zen­tra­le und span­nungs­vol­le Rol­len gespielt haben dürf­ten\, deren Bedeu­tung und eige­ne Leben aber kaum jemals genau­er betrach­tet wur­den. So wird etwa Katha­ri­na Fröh­lich\, die sich mit Grill­par­zer ver­lob­te\, bis heu­te als sei­ne „ewi­ge Braut“ abge­stem­pelt – wobei sel­ten hin­ter­fragt wur­de\, was hin­ter die­ser Zuschrei­bung alles ver­drängt und ver­bor­gen blieb. \nBereits ers­te Bli­cke hin­ter die Scha­blo­ne offen­ba­ren ein weit­aus kom­ple­xe­res Bild von Katha­ri­na Fröh­lich und ihren drei krea­ti­ven und künst­le­risch akti­ven Schwes­tern. Es geht dar­um wei­ter zu fra­gen und nach­zu­voll­zie­hen\, wie sich die Fröh­lich-Schwes­tern als bür­ger­li­che Frau­en der Bie­der­mei­er­zeit beruf­lich und pri­vat ver­wirk­li­chen konn­ten\, was Schwes­tern­schaft\, Ehe\, Zusam­men­le­ben\, Haus­halt und nicht zuletzt Franz Grill­par­zer für sie bedeu­te­te – und ob nicht eigent­lich die­se vier Frau­en als Begrün­de­rin­nen unse­rer Hand­schrif­ten­samm­lung gefei­ert wer­den müssten. \nPro­gramm:\nIm Gespräch\nEve­ly­ne Luef und Katha­ri­na Pra­ger\, bei­de Wien­bi­blio­thek im Rathaus \nAll­ge­mei­ne Informationen:\nMit der Teil­nah­me an die­ser Ver­an­stal­tung stim­men Sie der Ver­öf­fent­li­chung von Fotos\, Video- und Audio­auf­zeich­nun­gen\, die im Rah­men der Ver­an­stal­tun­gen ent­ste­hen\, zu.
URL:https://8maerz.at/veranstaltung/gespraech-katharina-froehlich-und-ihre-schwestern/
LOCATION:Online\, Wien\, Österreich
END:VEVENT
BEGIN:VEVENT
DTSTART;TZID=Europe/Vienna:20220308T180000
DTEND;TZID=Europe/Vienna:20220308T190000
DTSTAMP:20260426T014129
CREATED:20220304T220206Z
LAST-MODIFIED:20220304T220317Z
UID:10003920-1646762400-1646766000@8maerz.at
SUMMARY:Online-Führung: Internationaler Frauentag. Feministisch Betrachtet
DESCRIPTION:Internationaler Frauentag. Feministisch Betrachtet\nOnline-Füh­rung\n8. März 2022\, 18–19 Uhr \nZum Inter­na­tio­na­len Frau­en­tag am 8. März geht Femi­nis­tisch Betrach­tet in die­sem Jahr online. Im Zen­trum des Rund­gangs ste­hen Künstler*innen von den 1960er-Jah­ren bis heu­te\, die mit ihren Arbei­ten zu que­er-/fe­mi­nis­ti­schen For­de­run­gen und Vor­stel­lun­gen wich­ti­ge und wirk­sa­me Impul­se setz­ten und setzen. \nWir dis­ku­tie­ren Arbei­ten u.a. von Anna Arta­ker\, Caro­la Dert­nig\, VALIE EXPORT\, Maria Hah­nen­kamp\, Joan Jonas\, Zoe Leon­hard oder Gina Pane – und damit auch Fra­gen des künst­le­ri­schen Kanons\, der Macht der Insti­tu­tio­nen und der Dis­kri­mi­nie­rung. Bei die­ser digi­ta­len Füh­rung in der Aus­stel­lung Enjoy – die mumok Samm­lung im Wan­del ver­bin­den Mik­ki Muhr und Hele­ne Heiss aktu­el­le Medi­en­er­fah­run­gen und femi­nis­ti­sche Medienkritik.
URL:https://8maerz.at/veranstaltung/online-fuehrung-internationaler-frauentag-feministisch-betrachtet/
LOCATION:Online\, Wien\, Österreich
END:VEVENT
BEGIN:VEVENT
DTSTART;TZID=Europe/Vienna:20220308T180000
DTEND;TZID=Europe/Vienna:20220308T200000
DTSTAMP:20260426T014129
CREATED:20220223T215725Z
LAST-MODIFIED:20220223T215816Z
UID:10003900-1646762400-1646769600@8maerz.at
SUMMARY:Preisverleihung: Frauen des Jahres 2022
DESCRIPTION:Am 8.3. ver­lei­hen die Grü­nen Leo­pold­stadt wie­der den Preis der Frau­en 2022. \nJede fünf­te Frau ist ab ihrem 15. Lebens­jahr kör­per­li­cher und/oder sexu­el­ler Gewalt aus­ge­setzt. Weil jede die­ser Frau­en eine zu viel ist\, wol­len wir mit dem Preis für die „Frau des Jah­res“ ein Zei­chen für den Kampf gegen Gewalt an Frau­en setzen. \nGewalt gegen Frau­en hat vie­le Facet­ten: von struk­tu­rel­ler Gewalt als Fol­ge gesell­schaft­li­cher Macht- und Ungleich­ver­hält­nis­se über kör­per­li­che\, psy­chi­sche und sexua­li­sier­te bis zu wirt­schaft­li­cher Gewalt.\nBetrof­fe­ne Frau­en\, die den Mut auf­brin­gen\, sich aus die­ser Gewalt­spi­ra­le zu befrei­en und ein selbst­be­stimm­tes Leben füh­ren\, set­zen damit ein star­kes Zei­chen gegen Gewalt – sie alle wol­len wir zu unse­ren „Frau­en des Jah­res 2022“ ehren. \nStell­ver­tre­tend ver­lei­hen wir den Preis an den Ver­ein Ori­ent Express\, der mit sei­ner viel­fäl­ti­gen Arbeit einen wich­ti­gen Bei­trag gegen Gewalt gegen Frau­en leistet. \nDiens­tag\, 8.März 2022\, 18 Uhr\, im Kul­tur­raum Sprit­zer\, Tabor­stra­ße 10. \nBit­te um Anmel­dung an: leopoldstadt@gruene.at\nDie Ver­an­stal­tung wird auch live über face­book übertragen:
URL:https://8maerz.at/veranstaltung/preisverleihung-frauen-des-jahres-2022/
LOCATION:Kulturraum Spitzer\, Taborstraße 10\, Wien\, Wien\, 1020\, Österreich
END:VEVENT
BEGIN:VEVENT
DTSTART;TZID=Europe/Vienna:20220310T190000
DTEND;TZID=Europe/Vienna:20220310T210000
DTSTAMP:20260426T014129
CREATED:20220227T232517Z
LAST-MODIFIED:20220227T232731Z
UID:10003912-1646938800-1646946000@8maerz.at
SUMMARY:LINKS-Talk: Femizide und patriarchale Gewalt
DESCRIPTION:*Trig­ger­war­nung: Gewalt an Frau­en\, Les­ben\, Inter‑\, Non-bina­ry\, Trans- und Agen­der-Per­so­nen (FLINTA)* \nDer Blick am Bahn­steig. Das Schnal­zen vorm Café. Der Kom­men­tar vom Chef. Die Hand im Club. Das unge­woll­te Dick­pick auf Tin­der. Der Rape nach dem Date. Schreie\, Schlä­ge\, Trit­te. Über­wa­chung\, Erpres­sung\, Dro­hun­gen. Femi­zi­de sind die töd­lichs­te Form von Gewalt gegen Frau­en\, Les­ben\, Inter‑\, Non-bina­ry\, Trans- und Agender-Personen. \n2021 gab es min­des­tens 31 Femi­zi­de in Öster­reich. 2022 bereits zumin­dest 4. Das sind kei­ne Ein­zel­fäl­le. Kei­ne Bezie­hungs­dra­men. Die Gewalt hat Sys­tem. Das Sys­tem heißt Patri­ar­chat. Das Patri­ar­chat dis­kri­mi­niert und mar­gi­na­li­siert. Das Patri­ar­chat tötet. Wir müs­sen es zer­schla­gen! Jetzt! Aber was braucht es\, um Gewalt gegen Frau­en bzw. FLIN­TA-Per­so­nen zu stop­pen? Wel­che poli­ti­schen Maß­nah­men und Res­sour­cen braucht es kon­kret in Wien? Und was kön­nen wir tun\, um das zu errei­chen? Als Betrof­fe­ne\, als Allys\, als Aktivist*innen\, als Bezirksrät*innen\, als LINKS? \nDar­über dis­ku­tie­ren wir online am 10.3. um 19:00 mit:\n– Irma Lech­ner\, Frau­en­häu­ser Wien\n– Isa­bel Hai­der\, Exper­tin für Strafrecht\n– Tina\, Akti­vis­tin bei LINKS und Revolution\n– Cla­ra Bau­er von der Initia­ti­ve StoP – Stadt­tei­le ohne Partnergewalt \nMode­riert von Anna Fox\, LINKS-Bezirks­rä­tin in Wien Neubau \nKomm und bring dich ein! Wir freu­en uns auf dich!\nHier der Link: https://univienna.zoom.us/j/6416435
URL:https://8maerz.at/veranstaltung/links-talk-femizide-und-patriarchale-gewalt/
LOCATION:Online\, Wien\, Österreich
END:VEVENT
BEGIN:VEVENT
DTSTART;TZID=Europe/Vienna:20220311T190000
DTEND;TZID=Europe/Vienna:20220311T210000
DTSTAMP:20260426T014129
CREATED:20220308T170755Z
LAST-MODIFIED:20220308T170755Z
UID:10003934-1647025200-1647032400@8maerz.at
SUMMARY:New Moms for Rebel Girls I Autorinnengespräch
DESCRIPTION:New Moms for Rebel Girls I Unsere Töchter für ein gleichberechtigtes Leben stärken\nSarah Themel im Gespräch mit Susanne Mierau\naus der Rei­he „Wir fei­ern Femi­nis­mus“ – Ver­an­stal­tun­gen rund um den 8. März der Büche­rei­en Wien \nDie Päd­ago­gin und Femi­nis­tin Susan­ne Mier­au ist eine von vie­len New Moms\, die ihre Töch­ter auf­klä­ren und stär­ken möch­ten gegen das Patri­ar­chat und sei­ne Fol­gen: Abwer­tung von Weib­lich­keit\, Dis­kri­mi­nie­rung\, geschlech­ter­ste­reo­ty­pes Rol­len­ver­hal­ten bis hin zu sexu­el­ler Gewalt. Gestützt auf päd­ago­gi­sche und psy­cho­lo­gi­sche Erkennt­nis­se sowie vie­le Bei­spie­le von Mut­ter-Toch­ter-Bezie­hun­gen beschreibt Mier­au\, wie Mäd­chen kon­kret unter­stützt und bestärkt wer­den kön­nen. Nicht zuletzt geht es der Autorin dar­um\, dass Müt­ter eige­ne ste­reo­ty­pe Denk- und Ver­hal­tens­wei­sen erken­nen\, um sie nicht an ihre Rebel Girls weiterzugeben. \nSusan­ne Mier­au ist Klein­kind­päd­ago­gin und Fami­li­en­be­glei­te­rin. Sie bloggt auf geborgen-wachsen.de\, gibt Work­shops für Eltern und Fach­per­so­nal und spricht auf Kon­fe­ren­zen und Tagun­gen über Eltern­be­ra­tung und kind­li­che Entwicklung. \nSarah The­mel ist Biblio­the­ka­rin in der Haupt­bü­che­rei am Gürtel. \nEin­stei­gen unter https://stadtwien.webex.com/meet/veranstaltung.buechereien
URL:https://8maerz.at/veranstaltung/new-moms-for-rebel-girls-autorinnengespraech/
LOCATION:Online\, Wien\, Österreich
END:VEVENT
END:VCALENDAR