BEGIN:VCALENDAR
VERSION:2.0
PRODID:-//8. März - ECPv6.15.20//NONSGML v1.0//EN
CALSCALE:GREGORIAN
METHOD:PUBLISH
X-ORIGINAL-URL:https://8maerz.at
X-WR-CALDESC:Veranstaltungen für 8. März
REFRESH-INTERVAL;VALUE=DURATION:PT1H
X-Robots-Tag:noindex
X-PUBLISHED-TTL:PT1H
BEGIN:VTIMEZONE
TZID:Europe/Vienna
BEGIN:DAYLIGHT
TZOFFSETFROM:+0100
TZOFFSETTO:+0200
TZNAME:CEST
DTSTART:20190331T010000
END:DAYLIGHT
BEGIN:STANDARD
TZOFFSETFROM:+0200
TZOFFSETTO:+0100
TZNAME:CET
DTSTART:20191027T010000
END:STANDARD
BEGIN:DAYLIGHT
TZOFFSETFROM:+0100
TZOFFSETTO:+0200
TZNAME:CEST
DTSTART:20200329T010000
END:DAYLIGHT
BEGIN:STANDARD
TZOFFSETFROM:+0200
TZOFFSETTO:+0100
TZNAME:CET
DTSTART:20201025T010000
END:STANDARD
BEGIN:DAYLIGHT
TZOFFSETFROM:+0100
TZOFFSETTO:+0200
TZNAME:CEST
DTSTART:20210328T010000
END:DAYLIGHT
BEGIN:STANDARD
TZOFFSETFROM:+0200
TZOFFSETTO:+0100
TZNAME:CET
DTSTART:20211031T010000
END:STANDARD
END:VTIMEZONE
BEGIN:VEVENT
DTSTART;TZID=Europe/Vienna:20200308T170000
DTEND;TZID=Europe/Vienna:20200308T180000
DTSTAMP:20260426T014127
CREATED:20200224T213617Z
LAST-MODIFIED:20200228T194851Z
UID:10003697-1583686800-1583690400@8maerz.at
SUMMARY:Each for Equal / Each for Earth
DESCRIPTION:Each for Equal / Each for Earth – Damenwahl für die Erde\n„The­re will be no Cli­ma­te Jus­ti­ce wit­hout Gen­der Jus­ti­ce!“ – „The­re will be no Gen­der Jus­ti­ce wit­hout Cli­ma­te Justice!“ \nBrin­gen wir die Kli­ma­be­we­gung und die Frau­en­be­we­gung näher zusam­men! Nut­zen wir dafür den Inter­na­tio­na­len Frau­en­tag am 8. März! \nIm Jahr 1911 wur­de in Öster­reich – neben Däne­mark\, Deutsch­land und der Schweiz – zum ers­ten Mal zum Inter­na­tio­na­len Frau­en­tag demons­triert: Rund 20.000 Men­schen fan­den sich auf der Wie­ner Ring­stra­ße ein und for­der­ten mehr Rech­te für die Frau­en. Damals domi­nier­te ein The­ma: die For­de­rung nach einem frei­en und glei­chen Wahl­recht für Frauen. \nMehr als 100 Jah­re spä­ter ist die Gleich­be­rech­ti­gung von Mann und Frau noch längst nicht umge­setzt – schon gar nicht glo­bal gese­hen. Im Gegen­teil: Frau­en sind von Kon­flik­ten\, Natur­ka­ta­stro­phen und der Kli­ma­kri­se beson­ders betrof­fen\, müh­sam erkämpf­te Rech­te sind wie­der in Gefahr. \nSet­zen wir daher ein Zeichen!\nIn Wien laden wir am 8. März 2020 von 17:00 bis 18:00 zum Tanz am Ste­phans­platz mit OBRA – One Bil­li­on Rising Aus­tria unter dem Mot­to “Damen­wahl für die Erde”. Machen wir unse­re Anlie­gen auf der gan­zen Welt und für die gan­ze Welt sichtbar! \nLink zum Fly­er hier. \nPar­ents­for­Fu­ture ist ein glo­ba­les Netz­werk von Eltern und ande­ren Erwach­se­nen\, die sich an der Sei­te der jugend­li­chen Kli­ma­strei­ken­den für Kli­ma­ge­rech­tig­keit für die kom­men­den Gene­ra­tio­nen ein­set­zen und sie bei ihren und mit eige­nen Aktio­nen unter­stüt­zen. In Öster­reich gibt es Par­ents­For­Fu­ture (PFF) seit nun­mehr einem Jahr. \n 
URL:https://8maerz.at/veranstaltung/each-for-equal-each-for-earth/
LOCATION:Stephansplatz\, Stephansplatz\, Wien\, Wien\, 1010\, Österreich
END:VEVENT
BEGIN:VEVENT
DTSTART;TZID=Europe/Vienna:20200310T190000
DTEND;TZID=Europe/Vienna:20200310T220000
DTSTAMP:20260426T014127
CREATED:20200228T201254Z
LAST-MODIFIED:20200228T201813Z
UID:10003749-1583866800-1583877600@8maerz.at
SUMMARY:Vernissage eigenART III
DESCRIPTION:Grün ART und OBRA – One Bil­li­on Rising Aus­tria präsentieren \neigenART III\nCURATED BY PETRA M. SPRINGER \nFoto­gra­fie\, Mul­ti­me­dia Art\, Col­la­ge\, Instal­la­ti­on\, Film\, Per­for­mance\, Skulp­tur\, Objekt \nKünst­le­rin­nen:\nOphi­ra Avi­sar • Anne­lie­se Erdem­gil-Brand­stät­ter • Ewa Ernst-Dzied­zic • Sarah Fell­ner• Bian­ca Ion •Sophie Krü­ger • Aiko Kazu­ko Kur­o­sa­ki • Doris Neidl • Petra Paul • Petra Röbl • Sabi­ne Schwaig­ho­fer • Valery Vil­lena • Judith Wagner \nVer­nis­sa­ge Diens­tag\, 10.03.2020\, 19:00\nEröff­nung: Niko­la Fur­ten­bach\, Stell­ver­tre­ten­de Bezirksvorsteherin\nAiko Kazu­ko Kur­o­sa­ki\, Künst­le­ri­sche Lei­tung und Obfrau OBRA\nMag.ª Petra M. Springer\nAiko Kazu­ko Kur­o­sa­ki | Petra Paul: STAND-IN for OBRA – The Per­for­mance 10 \nFinis­sa­ge: Diens­tag\, 24.03.2020\, 19:00\nFilm­scree­ning und Info­ver­an­stal­tung: StoP – Stadt­tei­le ohne Part­ner­ge­walt Margareten\nDie Grü­nen Mar­ga­re­ten\, Zen­ta­g­as­se 39\, 1050 Wien
URL:https://8maerz.at/veranstaltung/vernissage-eigenart-iii/
LOCATION:Die Grünen Margareten\, Zentagasse 39\, Wien\, Wien\, 1050\, Österreich
END:VEVENT
BEGIN:VEVENT
DTSTART;TZID=Europe/Vienna:20200324T190000
DTEND;TZID=Europe/Vienna:20200324T220000
DTSTAMP:20260426T014127
CREATED:20200228T201726Z
LAST-MODIFIED:20200228T201843Z
UID:10003750-1585076400-1585087200@8maerz.at
SUMMARY:Finissage eigenART III
DESCRIPTION:Grün ART und OBRA – One Bil­li­on Rising Aus­tria präsentieren \neigenART III\nCURATED BY PETRA M. SPRINGER \nFoto­gra­fie\, Mul­ti­me­dia Art\, Col­la­ge\, Instal­la­ti­on\, Film\, Per­for­mance\, Skulp­tur\, Objekt \nKünst­le­rin­nen:\nOphi­ra Avi­sar • Anne­lie­se Erdem­gil-Brand­stät­ter • Ewa Ernst-Dzied­zic • Sarah Fell­ner• Bian­ca Ion •Sophie Krü­ger • Aiko Kazu­ko Kur­o­sa­ki • Doris Neidl • Petra Paul • Petra Röbl • Sabi­ne Schwaig­ho­fer • Valery Vil­lena • Judith Wagner \nVer­nis­sa­ge Diens­tag\, 10.03.2020\, 19:00\nEröff­nung: Niko­la Fur­ten­bach\, Stell­ver­tre­ten­de Bezirksvorsteherin\nAiko Kazu­ko Kur­o­sa­ki\, Künst­le­ri­sche Lei­tung und Obfrau OBRA\nMag.ª Petra M. Springer\nAiko Kazu­ko Kur­o­sa­ki | Petra Paul: STAND-IN for OBRA – The Per­for­mance 10 \nFinis­sa­ge: Diens­tag\, 24.03.2020\, 19:00\nFilm­scree­ning und Info­ver­an­stal­tung: StoP – Stadt­tei­le ohne Part­ner­ge­walt Margareten\nDie Grü­nen Mar­ga­re­ten\, Zen­ta­g­as­se 39\, 1050 Wien
URL:https://8maerz.at/veranstaltung/finissage-eigenart-iii/
LOCATION:Die Grünen Margareten\, Zentagasse 39\, Wien\, Wien\, 1050\, Österreich
END:VEVENT
END:VCALENDAR