BEGIN:VCALENDAR
VERSION:2.0
PRODID:-//8. März - ECPv6.15.20//NONSGML v1.0//EN
CALSCALE:GREGORIAN
METHOD:PUBLISH
X-ORIGINAL-URL:https://8maerz.at
X-WR-CALDESC:Veranstaltungen für 8. März
REFRESH-INTERVAL;VALUE=DURATION:PT1H
X-Robots-Tag:noindex
X-PUBLISHED-TTL:PT1H
BEGIN:VTIMEZONE
TZID:Europe/Vienna
BEGIN:DAYLIGHT
TZOFFSETFROM:+0100
TZOFFSETTO:+0200
TZNAME:CEST
DTSTART:20190331T010000
END:DAYLIGHT
BEGIN:STANDARD
TZOFFSETFROM:+0200
TZOFFSETTO:+0100
TZNAME:CET
DTSTART:20191027T010000
END:STANDARD
BEGIN:DAYLIGHT
TZOFFSETFROM:+0100
TZOFFSETTO:+0200
TZNAME:CEST
DTSTART:20200329T010000
END:DAYLIGHT
BEGIN:STANDARD
TZOFFSETFROM:+0200
TZOFFSETTO:+0100
TZNAME:CET
DTSTART:20201025T010000
END:STANDARD
BEGIN:DAYLIGHT
TZOFFSETFROM:+0100
TZOFFSETTO:+0200
TZNAME:CEST
DTSTART:20210328T010000
END:DAYLIGHT
BEGIN:STANDARD
TZOFFSETFROM:+0200
TZOFFSETTO:+0100
TZNAME:CET
DTSTART:20211031T010000
END:STANDARD
END:VTIMEZONE
BEGIN:VEVENT
DTSTART;TZID=Europe/Vienna:20200115T180000
DTEND;TZID=Europe/Vienna:20200115T190000
DTSTAMP:20260426T042615
CREATED:20200111T214351Z
LAST-MODIFIED:20200114T194531Z
UID:10003598-1579111200-1579114800@8maerz.at
SUMMARY:One Billion Rising-Tanzworkshop im ega
DESCRIPTION:One Billion Rising-Tanzworkshops im ega\nTer­mi­ne: \nMi 15.1.2020\, 18–19:00 Uhr – Ver­an­stal­tungs­saal\, EG (bar­rier­frei)\nDo 16.1.2020\, 18–19:00 Uhr – Semi­nar­raum 2\, 2. Stock (nicht barrierefrei)\nMi 29.1.2020\, 18–19:00 Uhr – Ver­an­stal­tungs­saal\, EG (bar­rier­frei)\nDo 30.1.2020\, 18–19:00 Uhr – Semi­nar­raum 2\, 2. Stock (nicht barrierefrei) \nOrt: ega:frauen im zen­trum\, 6.\, Wind­mühl­gas­se 26 \nEin­tritt frei! \nTan­ze mit für ein Ende der Gewalt an Frau­en* und Mädchen*! \nOne Bil­li­on Rising („Eine Mil­li­ar­de erhebt sich“) ist eine welt­wei­te Bewe­gung für ein Ende der Gewalt an Frau­en* und Mäd­chen*. Sta­tis­tisch erfasst ist in Öster­reich jede 5. Frau* von Gewalt betrof­fen\, welt­weit jede Drit­te\, die Dun­kel­zif­fer ist jedoch weit höher und die Femi­zid­ra­te steigt erschre­ckend an. Jähr­lich tan­zen am 14. Febru­ar\, dem soge­nann­ten V‑Day\, welt­weit zig­tau­sen­de Men­schen um Frau­en* um zu empowern und Bewusst­seins­bil­dung und Sen­si­bi­li­sie­rungs­ar­beit vor­an­zu­trei­ben. OBRA\, One Bil­li­on Rising Aus­tria\, hat die­se Kam­pa­gne in Öster­reich eigen­stän­dig und künst­le­risch aufgegriffen. \nIn die­sen Work­shops wird die Cho­reo­gra­fie zu dem Song „Break the Chain“ unter­rich­tet\, wobei es nicht um tän­ze­ri­sche Per­fek­ti­on geht\, son­dern um das „Wofür“ und „War­um“. \nDamit mög­lichst vie­le mit­tan­zen kön­nen\, bie­tet OBRA unter der Lei­tung der Cho­reo­gra­fin und künst­le­ri­schen Lei­te­rin Aiko Kazu­ko Kur­o­sa­ki meh­re­re kos­ten­lo­se Work­shops an. \nEs sind kei­ne Vor­kennt­nis­se nötig und jede*r ist herz­lichst willkommen! \nMehr Infos über OBRA unter: https://1billionrising.at/
URL:https://8maerz.at/veranstaltung/one-billion-rising-tanzworkshop-im-ega/2020-01-15/
LOCATION:ega: frauen im zentrum\, Windmühlgasse 26\, Wien\, 1060
GEO:48.1985968;16.3556358
X-APPLE-STRUCTURED-LOCATION;VALUE=URI;X-ADDRESS=ega: frauen im zentrum Windmühlgasse 26 Wien 1060;X-APPLE-RADIUS=500;X-TITLE=Windmühlgasse 26:geo:16.3556358,48.1985968
END:VEVENT
BEGIN:VEVENT
DTSTART;TZID=Europe/Vienna:20200116T180000
DTEND;TZID=Europe/Vienna:20200116T190000
DTSTAMP:20260426T042615
CREATED:20200111T214351Z
LAST-MODIFIED:20200114T194531Z
UID:10003599-1579197600-1579201200@8maerz.at
SUMMARY:One Billion Rising-Tanzworkshop im ega
DESCRIPTION:One Billion Rising-Tanzworkshops im ega\nTer­mi­ne: \nMi 15.1.2020\, 18–19:00 Uhr – Ver­an­stal­tungs­saal\, EG (bar­rier­frei)\nDo 16.1.2020\, 18–19:00 Uhr – Semi­nar­raum 2\, 2. Stock (nicht barrierefrei)\nMi 29.1.2020\, 18–19:00 Uhr – Ver­an­stal­tungs­saal\, EG (bar­rier­frei)\nDo 30.1.2020\, 18–19:00 Uhr – Semi­nar­raum 2\, 2. Stock (nicht barrierefrei) \nOrt: ega:frauen im zen­trum\, 6.\, Wind­mühl­gas­se 26 \nEin­tritt frei! \nTan­ze mit für ein Ende der Gewalt an Frau­en* und Mädchen*! \nOne Bil­li­on Rising („Eine Mil­li­ar­de erhebt sich“) ist eine welt­wei­te Bewe­gung für ein Ende der Gewalt an Frau­en* und Mäd­chen*. Sta­tis­tisch erfasst ist in Öster­reich jede 5. Frau* von Gewalt betrof­fen\, welt­weit jede Drit­te\, die Dun­kel­zif­fer ist jedoch weit höher und die Femi­zid­ra­te steigt erschre­ckend an. Jähr­lich tan­zen am 14. Febru­ar\, dem soge­nann­ten V‑Day\, welt­weit zig­tau­sen­de Men­schen um Frau­en* um zu empowern und Bewusst­seins­bil­dung und Sen­si­bi­li­sie­rungs­ar­beit vor­an­zu­trei­ben. OBRA\, One Bil­li­on Rising Aus­tria\, hat die­se Kam­pa­gne in Öster­reich eigen­stän­dig und künst­le­risch aufgegriffen. \nIn die­sen Work­shops wird die Cho­reo­gra­fie zu dem Song „Break the Chain“ unter­rich­tet\, wobei es nicht um tän­ze­ri­sche Per­fek­ti­on geht\, son­dern um das „Wofür“ und „War­um“. \nDamit mög­lichst vie­le mit­tan­zen kön­nen\, bie­tet OBRA unter der Lei­tung der Cho­reo­gra­fin und künst­le­ri­schen Lei­te­rin Aiko Kazu­ko Kur­o­sa­ki meh­re­re kos­ten­lo­se Work­shops an. \nEs sind kei­ne Vor­kennt­nis­se nötig und jede*r ist herz­lichst willkommen! \nMehr Infos über OBRA unter: https://1billionrising.at/
URL:https://8maerz.at/veranstaltung/one-billion-rising-tanzworkshop-im-ega/2020-01-16/
LOCATION:ega: frauen im zentrum\, Windmühlgasse 26\, Wien\, 1060
GEO:48.1985968;16.3556358
X-APPLE-STRUCTURED-LOCATION;VALUE=URI;X-ADDRESS=ega: frauen im zentrum Windmühlgasse 26 Wien 1060;X-APPLE-RADIUS=500;X-TITLE=Windmühlgasse 26:geo:16.3556358,48.1985968
END:VEVENT
BEGIN:VEVENT
DTSTART;TZID=Europe/Vienna:20200120T180000
DTEND;TZID=Europe/Vienna:20200120T210000
DTSTAMP:20260426T042615
CREATED:20200111T215754Z
LAST-MODIFIED:20200114T195859Z
UID:10003602-1579543200-1579554000@8maerz.at
SUMMARY:One Billion Rising-Tanzworkshop mit DanceAbility
DESCRIPTION:One Billion Rising-Tanzworkshop mit DanceAbility\nTer­mi­ne: \nMo 20.1.2020\, 18–21:00 Uhr\, Albert-Schweitzer-Haus\nMo 3.2.2020\, 18–21:00 Uhr\, Albert-Schweitzer-Haus\nMo 10.2.2020\, 18–21:00 Uhr\,Albert-Schweitzer-Haus \nCho­reo­gra­fin und künst­le­ri­schen Lei­te­rin: Aiko Kazu­ko Kurosaki \nFür OBR-Vien­na 2020 pro­ben wir in Koope­ra­ti­on mit DanceA­bi­li­ty eine neue künst­le­ri­sche Inter­ven­ti­on und die AllA­bi­li­ty Ver­si­on von Break the Chain! Auch die Ori­gi­nal­ver­si­on kann kann hier gelernt wer­den! Alle sind herz­lichst will­kom­men\, auch neue Interessierte! \nEin­tritt frei! \nTan­ze mit für ein Ende der Gewalt an Frau­en* und Mädchen*! \nOne Bil­li­on Rising („Eine Mil­li­ar­de erhebt sich“) ist eine welt­wei­te Bewe­gung für ein Ende der Gewalt an Frau­en* und Mäd­chen*. Sta­tis­tisch erfasst ist in Öster­reich jede 5. Frau* von Gewalt betrof­fen\, welt­weit jede Drit­te\, die Dun­kel­zif­fer ist jedoch weit höher und die Femi­zid­ra­te steigt erschre­ckend an. Jähr­lich tan­zen am 14. Febru­ar\, dem soge­nann­ten V‑Day\, welt­weit zig­tau­sen­de Men­schen um Frau­en* um zu empowern und Bewusst­seins­bil­dung und Sen­si­bi­li­sie­rungs­ar­beit vor­an­zu­trei­ben. OBRA\, One Bil­li­on Rising Aus­tria\, hat die­se Kam­pa­gne in Öster­reich eigen­stän­dig und künst­le­risch aufgegriffen. \nIn den Vor­be­rei­tungs-Tanz­work­shops wird die Cho­reo­gra­fie zu dem Song „Break the Chain“ unter­rich­tet\, wobei es nicht um tän­ze­ri­sche Per­fek­ti­on geht\, son­dern um das „Wofür“ und „War­um“. \nMehr Infos über OBRA unter: https://1billionrising.at/
URL:https://8maerz.at/veranstaltung/one-billion-rising-tanzworkshop-mit-danceability/2020-01-20/
LOCATION:Albert-Schweitzer-Haus\, Schwarzspanierstraße 13\, Wien\, Wien\, 1090\, Österreich
GEO:48.2167532;16.3568228
X-APPLE-STRUCTURED-LOCATION;VALUE=URI;X-ADDRESS=Albert-Schweitzer-Haus Schwarzspanierstraße 13 Wien Wien 1090 Österreich;X-APPLE-RADIUS=500;X-TITLE=Schwarzspanierstraße 13:geo:16.3568228,48.2167532
END:VEVENT
BEGIN:VEVENT
DTSTART;TZID=Europe/Vienna:20200127T184500
DTEND;TZID=Europe/Vienna:20200127T214500
DTSTAMP:20260426T042615
CREATED:20200111T215754Z
LAST-MODIFIED:20200121T215753Z
UID:10003607-1580150700-1580161500@8maerz.at
SUMMARY:One Billion Rising-Tanzworkshop mit DanceAbility
DESCRIPTION:One Billion Rising-Tanzworkshop mit DanceAbility\nTer­min: \nMo 27.1.2020\, 18:45 Uhr\, Kin­der­ate­lier Wien \nCho­reo­gra­fin und künst­le­ri­schen Lei­te­rin: Aiko Kazu­ko Kurosaki \nFür OBR-Vien­na 2020 pro­ben wir in Koope­ra­ti­on mit DanceA­bi­li­ty eine neue künst­le­ri­sche Inter­ven­ti­on und die AllA­bi­li­ty Ver­si­on von Break the Chain! Auch die Ori­gi­nal­ver­si­on kann kann hier gelernt wer­den! Alle sind herz­lichst will­kom­men\, auch neue Interessierte! \nEin­tritt frei! \nTan­ze mit für ein Ende der Gewalt an Frau­en* und Mädchen*! \nOne Bil­li­on Rising („Eine Mil­li­ar­de erhebt sich“) ist eine welt­wei­te Bewe­gung für ein Ende der Gewalt an Frau­en* und Mäd­chen*. Sta­tis­tisch erfasst ist in Öster­reich jede 5. Frau* von Gewalt betrof­fen\, welt­weit jede Drit­te\, die Dun­kel­zif­fer ist jedoch weit höher und die Femi­zid­ra­te steigt erschre­ckend an. Jähr­lich tan­zen am 14. Febru­ar\, dem soge­nann­ten V‑Day\, welt­weit zig­tau­sen­de Men­schen um Frau­en* um zu empowern und Bewusst­seins­bil­dung und Sen­si­bi­li­sie­rungs­ar­beit vor­an­zu­trei­ben. OBRA\, One Bil­li­on Rising Aus­tria\, hat die­se Kam­pa­gne in Öster­reich eigen­stän­dig und künst­le­risch aufgegriffen. \nIn den Vor­be­rei­tungs-Tanz­work­shops wird die Cho­reo­gra­fie zu dem Song „Break the Chain“ unter­rich­tet\, wobei es nicht um tän­ze­ri­sche Per­fek­ti­on geht\, son­dern um das „Wofür“ und „War­um“. \nMehr Infos über OBRA unter: https://1billionrising.at/
URL:https://8maerz.at/veranstaltung/one-billion-rising-tanzworkshop-mit-danceability-2020-01-27/
LOCATION:Kinderatelier\, Löhrgasse 10/Neubaugürtel 7\, Wien\, Wien\, 1150\, Österreich
END:VEVENT
BEGIN:VEVENT
DTSTART;TZID=Europe/Vienna:20200129T180000
DTEND;TZID=Europe/Vienna:20200129T190000
DTSTAMP:20260426T042615
CREATED:20200111T214715Z
LAST-MODIFIED:20200114T194621Z
UID:10003600-1580320800-1580324400@8maerz.at
SUMMARY:One Billion Rising-Tanzworkshop im ega
DESCRIPTION:One Billion Rising-Tanzworkshops im ega\nTer­mi­ne:\nMi 15.1.2020\, 18–19:00 Uhr – Ver­an­stal­tungs­saal\, EG (bar­rier­frei)\nDo 16.1.2020\, 18–19:00 Uhr – Semi­nar­raum 2\, 2. Stock (nicht barrierefrei)\nMi 29.1.2020\, 18–19:00 Uhr – Ver­an­stal­tungs­saal\, EG (bar­rier­frei)\nDo 30.1.2020\, 18–19:00 Uhr – Semi­nar­raum 2\, 2. Stock (nicht barrierefrei) \nOrt: ega:frauen im zen­trum\, 6.\, Wind­mühl­gas­se 26\nEin­tritt frei! \nTan­ze mit für ein Ende der Gewalt an Frau­en* und Mädchen*! \nOne Bil­li­on Rising („Eine Mil­li­ar­de erhebt sich“) ist eine welt­wei­te Bewe­gung für ein Ende der Gewalt an Frau­en* und Mäd­chen*. Sta­tis­tisch erfasst ist in Öster­reich jede 5. Frau* von Gewalt betrof­fen\, welt­weit jede Drit­te\, die Dun­kel­zif­fer ist jedoch weit höher und die Femi­zid­ra­te steigt erschre­ckend an. Jähr­lich tan­zen am 14. Febru­ar\, dem soge­nann­ten V‑Day\, welt­weit zig­tau­sen­de Men­schen um Frau­en* um zu empowern und Bewusst­seins­bil­dung und Sen­si­bi­li­sie­rungs­ar­beit vor­an­zu­trei­ben. OBRA\, One Bil­li­on Rising Aus­tria\, hat die­se Kam­pa­gne in Öster­reich eigen­stän­dig und künst­le­risch aufgegriffen. \nIn die­sen Work­shops wird die Cho­reo­gra­fie zu dem Song „Break the Chain“ unter­rich­tet\, wobei es nicht um tän­ze­ri­sche Per­fek­ti­on geht\, son­dern um das „Wofür“ und „War­um“. \nDamit mög­lichst vie­le mit­tan­zen kön­nen\, bie­tet OBRA unter der Lei­tung der Cho­reo­gra­fin und künst­le­ri­schen Lei­te­rin Aiko Kazu­ko Kur­o­sa­ki meh­re­re kos­ten­lo­se Work­shops an. \nEs sind kei­ne Vor­kennt­nis­se nötig und jede*r ist herz­lichst willkommen! \nMehr Infos über OBRA unter: https://1billionrising.at/
URL:https://8maerz.at/veranstaltung/one-billion-rising-tanzworkshop-im-ega-2/2020-01-29/
LOCATION:ega : frauen im zentrum\, Windmühlgasse 26\, Wien\, 1060
GEO:48.1985968;16.3556358
X-APPLE-STRUCTURED-LOCATION;VALUE=URI;X-ADDRESS=ega : frauen im zentrum Windmühlgasse 26 Wien 1060;X-APPLE-RADIUS=500;X-TITLE=Windmühlgasse 26:geo:16.3556358,48.1985968
END:VEVENT
BEGIN:VEVENT
DTSTART;TZID=Europe/Vienna:20200130T180000
DTEND;TZID=Europe/Vienna:20200130T190000
DTSTAMP:20260426T042615
CREATED:20200111T214715Z
LAST-MODIFIED:20200114T194621Z
UID:10003601-1580407200-1580410800@8maerz.at
SUMMARY:One Billion Rising-Tanzworkshop im ega
DESCRIPTION:One Billion Rising-Tanzworkshops im ega\nTer­mi­ne:\nMi 15.1.2020\, 18–19:00 Uhr – Ver­an­stal­tungs­saal\, EG (bar­rier­frei)\nDo 16.1.2020\, 18–19:00 Uhr – Semi­nar­raum 2\, 2. Stock (nicht barrierefrei)\nMi 29.1.2020\, 18–19:00 Uhr – Ver­an­stal­tungs­saal\, EG (bar­rier­frei)\nDo 30.1.2020\, 18–19:00 Uhr – Semi­nar­raum 2\, 2. Stock (nicht barrierefrei) \nOrt: ega:frauen im zen­trum\, 6.\, Wind­mühl­gas­se 26\nEin­tritt frei! \nTan­ze mit für ein Ende der Gewalt an Frau­en* und Mädchen*! \nOne Bil­li­on Rising („Eine Mil­li­ar­de erhebt sich“) ist eine welt­wei­te Bewe­gung für ein Ende der Gewalt an Frau­en* und Mäd­chen*. Sta­tis­tisch erfasst ist in Öster­reich jede 5. Frau* von Gewalt betrof­fen\, welt­weit jede Drit­te\, die Dun­kel­zif­fer ist jedoch weit höher und die Femi­zid­ra­te steigt erschre­ckend an. Jähr­lich tan­zen am 14. Febru­ar\, dem soge­nann­ten V‑Day\, welt­weit zig­tau­sen­de Men­schen um Frau­en* um zu empowern und Bewusst­seins­bil­dung und Sen­si­bi­li­sie­rungs­ar­beit vor­an­zu­trei­ben. OBRA\, One Bil­li­on Rising Aus­tria\, hat die­se Kam­pa­gne in Öster­reich eigen­stän­dig und künst­le­risch aufgegriffen. \nIn die­sen Work­shops wird die Cho­reo­gra­fie zu dem Song „Break the Chain“ unter­rich­tet\, wobei es nicht um tän­ze­ri­sche Per­fek­ti­on geht\, son­dern um das „Wofür“ und „War­um“. \nDamit mög­lichst vie­le mit­tan­zen kön­nen\, bie­tet OBRA unter der Lei­tung der Cho­reo­gra­fin und künst­le­ri­schen Lei­te­rin Aiko Kazu­ko Kur­o­sa­ki meh­re­re kos­ten­lo­se Work­shops an. \nEs sind kei­ne Vor­kennt­nis­se nötig und jede*r ist herz­lichst willkommen! \nMehr Infos über OBRA unter: https://1billionrising.at/
URL:https://8maerz.at/veranstaltung/one-billion-rising-tanzworkshop-im-ega-2/2020-01-30/
LOCATION:ega : frauen im zentrum\, Windmühlgasse 26\, Wien\, 1060
GEO:48.1985968;16.3556358
X-APPLE-STRUCTURED-LOCATION;VALUE=URI;X-ADDRESS=ega : frauen im zentrum Windmühlgasse 26 Wien 1060;X-APPLE-RADIUS=500;X-TITLE=Windmühlgasse 26:geo:16.3556358,48.1985968
END:VEVENT
END:VCALENDAR