BEGIN:VCALENDAR
VERSION:2.0
PRODID:-//8. März - ECPv6.15.17.1//NONSGML v1.0//EN
CALSCALE:GREGORIAN
METHOD:PUBLISH
X-WR-CALNAME:8. März
X-ORIGINAL-URL:https://8maerz.at
X-WR-CALDESC:Veranstaltungen für 8. März
REFRESH-INTERVAL;VALUE=DURATION:PT1H
X-Robots-Tag:noindex
X-PUBLISHED-TTL:PT1H
BEGIN:VTIMEZONE
TZID:Europe/Vienna
BEGIN:DAYLIGHT
TZOFFSETFROM:+0100
TZOFFSETTO:+0200
TZNAME:CEST
DTSTART:20240331T010000
END:DAYLIGHT
BEGIN:STANDARD
TZOFFSETFROM:+0200
TZOFFSETTO:+0100
TZNAME:CET
DTSTART:20241027T010000
END:STANDARD
BEGIN:DAYLIGHT
TZOFFSETFROM:+0100
TZOFFSETTO:+0200
TZNAME:CEST
DTSTART:20250330T010000
END:DAYLIGHT
BEGIN:STANDARD
TZOFFSETFROM:+0200
TZOFFSETTO:+0100
TZNAME:CET
DTSTART:20251026T010000
END:STANDARD
BEGIN:DAYLIGHT
TZOFFSETFROM:+0100
TZOFFSETTO:+0200
TZNAME:CEST
DTSTART:20260329T010000
END:DAYLIGHT
BEGIN:STANDARD
TZOFFSETFROM:+0200
TZOFFSETTO:+0100
TZNAME:CET
DTSTART:20261025T010000
END:STANDARD
END:VTIMEZONE
BEGIN:VEVENT
DTSTART;VALUE=DATE:20250301
DTEND;VALUE=DATE:20250316
DTSTAMP:20260420T172213
CREATED:20250306T212730Z
LAST-MODIFIED:20250306T212951Z
UID:10004319-1740787200-1742083199@8maerz.at
SUMMARY:Radio ORANGE 94.0: Feminismus on air: Care - Resist - Persist
DESCRIPTION:Auch die­ses Jahr legt Radio ORANGE 94.0 wie­der einen Schwer­punkt auf den 8.März: \nFemi­nis­mus on air: Care – Resist – Persist \nWider­stän­di­ges poe­tisch\, in Pro­sa und auf der Büh­ne\, femi­nis­ti­sche Kämp­fe in Ver­gan­gen­heit\, Gegen­wart und Zukunft\, Frauen*stimmen in ver­schie­de­nen Spra­chen – tra­di­tio­nelll steht das Pro­gramm von ORANGE 94.0 am 8. März ganz im Lich­te des inter­na­tio­na­len femi­nis­ti­schen Kampf­tags. Es erwar­tet uns ein Radio­tag prall gefüllt mit Live-Gesprä­chen im Stu­dio\, Berich­ten von Demos und Aktio­nen und stär­ken­der musi­ka­li­scher Frauen*power. \nLink zum Pro­gramm: https://o94.at/8März2025 \nJeder Tag ist 8. März – in die­sem Sin­ne wid­men sich auch in der Woche vor und nach dem 8. März zahl­rei­che Sen­dun­gen beson­ders all den­je­ni­gen\, die sich gegen Sexis­mus und Unter­drü­ckung und für Eman­zi­pa­ti­on und Selbst­be­stim­mung einsetzen. \n8th of March – 8. Mart – 8 марта – 8 mars – 8. März – 8 de mar­zo – ٨ مارس
URL:https://8maerz.at/veranstaltung/radio-orange-feminismus-on-air-2025/
LOCATION:Online\, Wien\, Österreich
END:VEVENT
BEGIN:VEVENT
DTSTART;TZID=Europe/Vienna:20250301T170000
DTEND;TZID=Europe/Vienna:20250301T230000
DTSTAMP:20260420T172213
CREATED:20250223T203358Z
LAST-MODIFIED:20250223T203534Z
UID:10004273-1740848400-1740870000@8maerz.at
SUMMARY:Frauentagsfest im ega
DESCRIPTION:Sams­tag\, 01.03.2025\, Ein­lass 16:00 Uhr\, Eröff­nung 17:00 Uhr\nega:frauen im zen­trum\, Wind­mühl­gas­se 26\, 1060 Wien \nFrau­en haben sich alle Rech­te\, die sie heu­te besit­zen\, hart erkämpft. Dafür steht der 8. März. Auch die­ses Jahr laden das ega: frau­en im zen­trum und die Wie­ner SPÖ Frau­en zum gro­ßen Frau­en­tags­fest ein. \nDie Fei­er wird von der Lan­des­frau­en­vor­sit­zen­den der SPÖ-Wien\, LAbg. GRin Mari­na Han­ke\, BA\, sowie Frau­en­stadt­rä­tin\, Vize­bür­ger­meis­te­rin Kath­rin Gaál und der ÖGB-Bun­des­frau­en­vor­sit­zen­den und Mit­glied des Bun­des­ra­tes\, FSG-Wien-Frau­en­vor­sit­zen­den Korin­na Schu­mann\, eröffnet. \nMusi­ka­li­sche Beglei­tung kommt von der Band AYMZ\, ergänzt durch DJa­ne Mel Merio. Zusätz­lich sorgt ein Kaba­ret­t­auf­tritt von Olga Min­ski\, die in die­ser ‚Son­der­sen­dung‘ die aktu­ells­ten The­men (trala­lat und klim­pe­ret) bespricht\, für bes­te Unterhaltung. \nAußer­dem lädt die femi­nis­ti­sche Wider­stands­künst­le­rin Danie­la Luschin mit ihrer Aus­stel­lung „anstän­dig wider­stän­dig“ dazu ein\, gesell­schaft­li­che Nor­men und patri­ar­cha­le\, ver­krus­te­te Geschlech­ter­rol­len zu hin­ter­fra­gen. Julia Reiß­ner beglei­tet bei der Ver­nis­sa­ge mit ihrem Album „JOLLY von Das Schot­ti­sche Prin­zip“ auf eine bedrän­gen­de und zugleich bezau­bern­de Wei­se und zeigt uns\, dass sie die Welt ganz anders sieht. \nDie Ver­nis­sa­ge wird von der Ver­eins­vor­sit­zen­den\, Mag.a Nico­le Ber­ger-Krotsch\, eröffnet.\nDurch den Abend führt als Mode­ra­to­rin Mag.a Son­ja Kato\, gemein­sam mit SJ Wien-Vor­sit­zen­der Rihab Toumi. \nKos­ten­lo­se Kin­der­be­treu­ung wird ange­bo­ten. Frei­er Eintritt. \n17:00: Eröff­nung\n18:00: Olga Minski\n19:00: Ver­nis­sa­ge Danie­la Luschin und Musik von Julia Reißner\n20:00: Band AYMZ\n21.00: DJa­ne Mel Merio
URL:https://8maerz.at/veranstaltung/frauentagsfest-im-ega-3/
LOCATION:ega: frauen im zentrum\, Windmühlgasse 26\, Wien\, 1060
GEO:48.1985968;16.3556358
X-APPLE-STRUCTURED-LOCATION;VALUE=URI;X-ADDRESS=ega: frauen im zentrum Windmühlgasse 26 Wien 1060;X-APPLE-RADIUS=500;X-TITLE=Windmühlgasse 26:geo:16.3556358,48.1985968
END:VEVENT
END:VCALENDAR