BEGIN:VCALENDAR
VERSION:2.0
PRODID:-//8. März - ECPv6.15.17.1//NONSGML v1.0//EN
CALSCALE:GREGORIAN
METHOD:PUBLISH
X-WR-CALNAME:8. März
X-ORIGINAL-URL:https://8maerz.at
X-WR-CALDESC:Veranstaltungen für 8. März
REFRESH-INTERVAL;VALUE=DURATION:PT1H
X-Robots-Tag:noindex
X-PUBLISHED-TTL:PT1H
BEGIN:VTIMEZONE
TZID:Europe/Vienna
BEGIN:DAYLIGHT
TZOFFSETFROM:+0100
TZOFFSETTO:+0200
TZNAME:CEST
DTSTART:20220327T010000
END:DAYLIGHT
BEGIN:STANDARD
TZOFFSETFROM:+0200
TZOFFSETTO:+0100
TZNAME:CET
DTSTART:20221030T010000
END:STANDARD
BEGIN:DAYLIGHT
TZOFFSETFROM:+0100
TZOFFSETTO:+0200
TZNAME:CEST
DTSTART:20230326T010000
END:DAYLIGHT
BEGIN:STANDARD
TZOFFSETFROM:+0200
TZOFFSETTO:+0100
TZNAME:CET
DTSTART:20231029T010000
END:STANDARD
BEGIN:DAYLIGHT
TZOFFSETFROM:+0100
TZOFFSETTO:+0200
TZNAME:CEST
DTSTART:20240331T010000
END:DAYLIGHT
BEGIN:STANDARD
TZOFFSETFROM:+0200
TZOFFSETTO:+0100
TZNAME:CET
DTSTART:20241027T010000
END:STANDARD
END:VTIMEZONE
BEGIN:VEVENT
DTSTART;TZID=Europe/Vienna:20230206T173000
DTEND;TZID=Europe/Vienna:20230206T193000
DTSTAMP:20260421T051832
CREATED:20230123T185306Z
LAST-MODIFIED:20230123T192121Z
UID:10003713-1675704600-1675711800@8maerz.at
SUMMARY:Tanzworkshop zu One Billion Rising Vienna 2023
DESCRIPTION:Zur Vor­be­rei­tung auf One Bil­li­on Rising Vien­na 2023:  \nMo.\, 06.02.2023\, 17:30 – 19:30 – Tanzworkshop/ Pro­be mit DanceA­bi­li­ty: Break the Chain / All-Ability-Version\nAlbert Schweit­zer Haus\, 1090 Wien\, Schwarz­s­pa­nier­str. 13\, 4. Stock\nmit Aiko Kazu­ko Kur­o­sa­ki\, künst­le­ri­sche Lei­te­rin von OBRA – One Bil­lon Rising Austria \nAlle Work­shops und Pro­ben sind kos­ten­los und bar­rie­re­frei für ALLE* mit und ohne Vor­kennt­nis­se zugänglich! \nAlle Infos zu One Bil­li­on Rising 2023 sie­he hier.
URL:https://8maerz.at/veranstaltung/tanzworkshop-one-billion-rising-vienna-2023-1/
LOCATION:Albert-Schweitzer-Haus\, Schwarzspanierstraße 13\, Wien\, Wien\, 1090\, Österreich
GEO:48.2167532;16.3568228
X-APPLE-STRUCTURED-LOCATION;VALUE=URI;X-ADDRESS=Albert-Schweitzer-Haus Schwarzspanierstraße 13 Wien Wien 1090 Österreich;X-APPLE-RADIUS=500;X-TITLE=Schwarzspanierstraße 13:geo:16.3568228,48.2167532
END:VEVENT
BEGIN:VEVENT
DTSTART;TZID=Europe/Vienna:20230207T173000
DTEND;TZID=Europe/Vienna:20230207T193000
DTSTAMP:20260421T051832
CREATED:20230123T190736Z
LAST-MODIFIED:20230123T192407Z
UID:10003714-1675791000-1675798200@8maerz.at
SUMMARY:Tanzworkshop zu One Billion Rising Vienna 2023
DESCRIPTION:Zur Vor­be­rei­tung auf One Bil­li­on Rising Vien­na 2023:  \nDi.\, 07.02.2023\, 17:30 – 19:30 – Tanzworkshop/ Pro­be mit DanceA­bi­li­ty: Break the Chain / All-Ability-Version\nAlbert Schweit­zer Haus\, 1090 Wien\, Schwarz­s­pa­nier­str. 13\, 4. Stock\nmit Aiko Kazu­ko Kur­o­sa­ki\, künst­le­ri­sche Lei­te­rin von OBRA – One Bil­lon Rising Austria \nAlle Work­shops und Pro­ben sind kos­ten­los und bar­rie­re­frei für ALLE* mit und ohne Vor­kennt­nis­se zugänglich! \nAlle Infos zu One Bil­li­on Rising 2023 sie­he hier.
URL:https://8maerz.at/veranstaltung/tanzworkshop-one-billion-rising-vienna-2023-2/
LOCATION:Albert-Schweitzer-Haus\, Schwarzspanierstraße 13\, Wien\, Wien\, 1090\, Österreich
GEO:48.2167532;16.3568228
X-APPLE-STRUCTURED-LOCATION;VALUE=URI;X-ADDRESS=Albert-Schweitzer-Haus Schwarzspanierstraße 13 Wien Wien 1090 Österreich;X-APPLE-RADIUS=500;X-TITLE=Schwarzspanierstraße 13:geo:16.3568228,48.2167532
END:VEVENT
BEGIN:VEVENT
DTSTART;TZID=Europe/Vienna:20230208T180000
DTEND;TZID=Europe/Vienna:20230208T193000
DTSTAMP:20260421T051832
CREATED:20230123T191247Z
LAST-MODIFIED:20230123T192456Z
UID:10003715-1675879200-1675884600@8maerz.at
SUMMARY:Tanzworkshop zu One Billion Rising Vienna 2023
DESCRIPTION:Zur Vor­be­rei­tung auf One Bil­li­on Rising Vien­na 2023:  \nMi.\, 08.02.2023\, 18:00 – 19:30 – OBRA-Tanz­work­shop: Break the Chain / Originalversion\nDschun­gel Wien\, 1070 Wien\, Muse­ums­platz 1\, Büh­ne 2\nmit Aiko Kazu­ko Kur­o­sa­ki\, künst­le­ri­sche Lei­te­rin von OBRA – One Bil­lon Rising Austria \nAlle Work­shops und Pro­ben sind kos­ten­los und bar­rie­re­frei für ALLE* mit und ohne Vor­kennt­nis­se zugänglich! \nAlle Infos zu One Bil­li­on Rising 2023 sie­he hier.
URL:https://8maerz.at/veranstaltung/tanzworkshop-one-billion-rising-vienna-2023-3/
LOCATION:Dschungel Wien\, Museumsplatz 1\, Wien\, 1070
GEO:48.2026499;16.3591421
X-APPLE-STRUCTURED-LOCATION;VALUE=URI;X-ADDRESS=Dschungel Wien Museumsplatz 1 Wien 1070;X-APPLE-RADIUS=500;X-TITLE=Museumsplatz 1:geo:16.3591421,48.2026499
END:VEVENT
BEGIN:VEVENT
DTSTART;TZID=Europe/Vienna:20230209T180000
DTEND;TZID=Europe/Vienna:20230209T193000
DTSTAMP:20260421T051832
CREATED:20230123T191737Z
LAST-MODIFIED:20230123T192534Z
UID:10003716-1675965600-1675971000@8maerz.at
SUMMARY:Tanzworkshop zu One Billion Rising Vienna 2023
DESCRIPTION:Zur Vor­be­rei­tung auf One Bil­li­on Rising Vien­na 2023:  \nDo.\, 09.02.2023\, 18:00 – 19:30 – OBRA-Tanz­work­shop: Break the Chain / Originalversion\nDschun­gel Wien\, 1070 Wien\, Muse­ums­platz 1\, Büh­ne 3\nmit Aiko Kazu­ko Kur­o­sa­ki\, künst­le­ri­sche Lei­te­rin von OBRA – One Bil­lon Rising Austria \nAlle Work­shops und Pro­ben sind kos­ten­los und bar­rie­re­frei für ALLE* mit und ohne Vor­kennt­nis­se zugänglich! \nAlle Infos zu One Bil­li­on Rising 2023 sie­he hier.
URL:https://8maerz.at/veranstaltung/tanzworkshop-one-billion-rising-vienna-2023-4/
LOCATION:Dschungel Wien\, Museumsplatz 1\, Wien\, 1070
GEO:48.2026499;16.3591421
X-APPLE-STRUCTURED-LOCATION;VALUE=URI;X-ADDRESS=Dschungel Wien Museumsplatz 1 Wien 1070;X-APPLE-RADIUS=500;X-TITLE=Museumsplatz 1:geo:16.3591421,48.2026499
END:VEVENT
BEGIN:VEVENT
DTSTART;TZID=Europe/Vienna:20230210T170000
DTEND;TZID=Europe/Vienna:20230210T190000
DTSTAMP:20260421T051832
CREATED:20230123T193133Z
LAST-MODIFIED:20230123T193255Z
UID:10003718-1676048400-1676055600@8maerz.at
SUMMARY:Tanzworkshop zu One Bilion Rising Vienna 2023 mit Flashmob
DESCRIPTION:Zur Vor­be­rei­tung auf One Bil­li­on Rising Vien­na 2023:  \nFr.\, 10.02.2023\, 17:00 – 19:00 – OBRA-Tanz­work­shop mit Flash­mob in und vor der Haupt­bü­che­rei Wien\, Urban-Loritz-Platz 2a\, 1070 Wien.\nmit Aiko Kazu­ko Kur­o­sa­ki\, künst­le­ri­sche Lei­te­rin von OBRA – One Bil­lon Rising Austria \nAnmel­dung zum Work­shop bei der Haupt­bü­che­rei Wien.\nAnmel­dung zur Betei­li­gung zum Flash­mob bei Aiko Kazu­ko Kur­o­sa­ki\, unter event@1billionrising.at. \nAlle Work­shops und Pro­ben sind kos­ten­los und bar­rie­re­frei für ALLE* mit und ohne Vor­kennt­nis­se zugänglich! \nAlle Infos zu One Bil­li­on Rising 2023 sie­he hier.
URL:https://8maerz.at/veranstaltung/tanzworkshop-one-billion-rising-vienna-flashmob/
LOCATION:Hauptbücherei Wien\, Urban-Loritzplatz 2a\, Wien\, Wien\, 1070\, Österreich
GEO:48.203018;16.3372142
X-APPLE-STRUCTURED-LOCATION;VALUE=URI;X-ADDRESS=Hauptbücherei Wien Urban-Loritzplatz 2a Wien Wien 1070 Österreich;X-APPLE-RADIUS=500;X-TITLE=Urban-Loritzplatz 2a:geo:16.3372142,48.203018
END:VEVENT
END:VCALENDAR