BEGIN:VCALENDAR
VERSION:2.0
PRODID:-//8. März - ECPv6.15.17.1//NONSGML v1.0//EN
CALSCALE:GREGORIAN
METHOD:PUBLISH
X-ORIGINAL-URL:https://8maerz.at
X-WR-CALDESC:Veranstaltungen für 8. März
REFRESH-INTERVAL;VALUE=DURATION:PT1H
X-Robots-Tag:noindex
X-PUBLISHED-TTL:PT1H
BEGIN:VTIMEZONE
TZID:Europe/Vienna
BEGIN:DAYLIGHT
TZOFFSETFROM:+0100
TZOFFSETTO:+0200
TZNAME:CEST
DTSTART:20220327T010000
END:DAYLIGHT
BEGIN:STANDARD
TZOFFSETFROM:+0200
TZOFFSETTO:+0100
TZNAME:CET
DTSTART:20221030T010000
END:STANDARD
BEGIN:DAYLIGHT
TZOFFSETFROM:+0100
TZOFFSETTO:+0200
TZNAME:CEST
DTSTART:20230326T010000
END:DAYLIGHT
BEGIN:STANDARD
TZOFFSETFROM:+0200
TZOFFSETTO:+0100
TZNAME:CET
DTSTART:20231029T010000
END:STANDARD
BEGIN:DAYLIGHT
TZOFFSETFROM:+0100
TZOFFSETTO:+0200
TZNAME:CEST
DTSTART:20240331T010000
END:DAYLIGHT
BEGIN:STANDARD
TZOFFSETFROM:+0200
TZOFFSETTO:+0100
TZNAME:CET
DTSTART:20241027T010000
END:STANDARD
END:VTIMEZONE
BEGIN:VEVENT
DTSTART;TZID=Europe/Vienna:20230304T160000
DTEND;TZID=Europe/Vienna:20230304T235900
DTSTAMP:20260420T223111
CREATED:20230209T211252Z
LAST-MODIFIED:20230209T211252Z
UID:10003726-1677945600-1677974340@8maerz.at
SUMMARY:ega-Frauentagsfest: „Weil das Leben mehr kann“
DESCRIPTION:Nach zwei Jah­ren Pau­se laden wir\, das ega:frauen im zen­trum und die Wie­ner SPÖ Frau­en\, zum gro­ßen Frau­en­tags­fest unter dem Mot­to “Weil das Leben mehr kann”.\nWie gewohnt war­ten fabel­haf­te musi­ka­li­sche Acts auf die Besucher*innen. Mit Cou­si­nes Like Shit\, pop:sch\, Anna Mabo\, Maren Rah­mann und DJ Mel Merio kön­nen wir uns auf ein groß­ar­ti­ges\, femi­nis­ti­sches Line-up freuen.\nAzadeh Vazi­ri eröff­net beim Frau­en­tags­fest ihre Aus­stel­lung. Vazi­ri\, gebo­ren 1984 in Tehe­ran\, wid­met sich in ihrer Kunst der Poli­tik und kämpft für die Frei­heit der Frau­en und gegen die Unter­drü­ckung durch das Mul­lah Regime im Iran\nSoul­kit­chen Vien­na sor­gen für das leib­li­che Wohl aller Gäste. \n~~~~~~~~~~~~~~~~~~~~~~~~~~~~~~\n▪ Mode­ra­ti­on: Mel Merio\n▪ Spei­sen von Soul­kit­chen Vienna\n▪ Kos­ten­lo­se Kinderbetreuung\n▪ Der Ein­tritt ist frei\n~~~~~~~~~~~~~~~~~~~~~~~~~~~~~~ \nPro­gramm:\n▪ Ein­lass: 16:00 Uhr\n▪ 16:30 Uhr: Eröff­nung durch LAbg. GR Mari­na Han­ke\, Vor­sit­zen­de der Wie­ner SPÖ Frau­en\, und Bun­des­rä­tin Korin­na Schu­mann\, Vor­sit­zen­de der Wie­ner FSG-Frau­en und ÖGB-Bundesfrauenvorsitzende.\n▪ 17.15 Uhr: Maren Rah­mann\, Frau­en- und Widerstandslieder\n▪ 19:00 Uhr: Ver­nis­sa­ge zur Aus­stel­lung von Azadeh Vaziri\n▪ 20:30 Uhr: Cou­si­nes Like Shit\n▪ 21:30 Uhr: Anna Mabo\n▪ 22:30 Uhr: pop:sch\n▪ 23:30 Uhr: DJ Mel Merio\n~~~~~~~~~~~~~~~~~~~~~~~~~~~~~~ \nMit der Teil­nah­me an der Ver­an­stal­tung stimmst du der Ver­öf­fent­li­chung von Fotos und Vide­os\, die im Rah­men der Ver­an­stal­tung ent­ste­hen\, zu.
URL:https://8maerz.at/veranstaltung/ega-frauentagsfest-weil-das-leben-mehr-kann/
LOCATION:ega: frauen im zentrum\, Windmühlgasse 26\, Wien\, 1060
GEO:48.1985968;16.3556358
X-APPLE-STRUCTURED-LOCATION;VALUE=URI;X-ADDRESS=ega: frauen im zentrum Windmühlgasse 26 Wien 1060;X-APPLE-RADIUS=500;X-TITLE=Windmühlgasse 26:geo:16.3556358,48.1985968
END:VEVENT
BEGIN:VEVENT
DTSTART;VALUE=DATE:20230306
DTEND;VALUE=DATE:20230313
DTSTAMP:20260420T223111
CREATED:20230305T220736Z
LAST-MODIFIED:20230305T220955Z
UID:10004028-1678060800-1678665599@8maerz.at
SUMMARY:STOPP FEMIZIDE Kunst & Aktivismus
DESCRIPTION:Kunst­schaf­fen und One Bil­li­on Rising Aus­tria präsentieren: \nSTOPP FEMIZIDE\nKunst & Aktivismus\ncura­ted by Petra M. Springer \nAus­stel­lung:\nOphi­ra Avi­sar • Katha­ri­na Brandl • Anna­Li­sa Erdem­gil-Brand­stät­ter • Ewa Ernst-Dzied­zic • #etwas­läuft­falsch • Femi­nist Kill­joy Vien­na • HaSti­cke­ri­ot • Emel Hein­reich • Bian­ca Ion • Aiko Kazu­ko Kur­o­sa­ki • Peta Klotz­berg • Kol­lek­tiv Kimä­re | Viva La Vul­va • Anna Mikl • One Bil­li­on Rising Aus­tria • Petra Paul • Petra Röbl • Astrid Ruberl • Vanes­sa Thun-Hohen­stein • Valery Villena \nVer­nis­sa­ge:\n08. März 2023\, 20:00 Uhr\nBegrüßung:\nKurt Wald­hüt­ter\, Ver­ein Kunstschaffen\nLui­se Buis­man\, Gale­rie am Park\nEröffnung:\nAiko Kazu­ko Kur­o­sa­ki\, Obfrau OBRA – One Bil­li­on Rising Austria\nMag.ª Petra M. Sprin­ger\, Kura­to­rin der Ausstellung \nFilm­pro­gramm im Raum III:\nPetra Paul: Inter­na­tio­na­ler Tag gegen Gewalt an Frau­en 2016\, STOP VIOLENCE AGAINST WOMEN I‑V\, STOP KILLING WOMEN\, Femi­zi­de in Österreich\nOphi­ra Avi­sar | Petra Paul: DO NOT ERASE WOMEN\, TRANSFORMATION I\, II\, TOKIN TO U\nAiko Kazu­ko Kur­o­sa­ki | Petra Paul: STAND-IN for OBRA 1–10\nOBRA | Petra Paul: Femi­zi­de in Öster­reich 2020 \nRah­men­pro­gramm:\n06. März 2023\, 17:00 Uhr\nDis­kus­si­on: Zusam­men­hang von Gewalt und Wirt­schaft aus femi­nis­ti­scher Per­spek­ti­ve\, FairSorgen!-Café mit Platt­form 20000Frauen und fair sorgen! \n07. März 2023\, 17:00\nPrä­sen­ta­ti­on: Ni Una Menos Austria\nFilm: Petra Paul # Making­Of # NiUnaMenosAlsergrundPark\n19:00\nFilm: Ope­ra Tri­pty­chon – A Qua­ran­ti­ne Sto­ry by Nata­lia Hurst \n09. März 2023\, 17:00–21:00\nPrä­sen­ta­ti­on und Film­scree­ning: StoP – Stadt­tei­le ohne Partnergewalt\nPrä­sen­ta­ti­on: Hani­fe Ada – Yetis Bacim \n10. März 2023\, 17:00–21:00\nPrä­sen­ta­ti­on: One Bil­li­on Rising Austria\nFil­me: One Bil­li­on Rising Vien­na\, RISE FOR AND WITH THE WOMEN OF AFGHANISTAN\, GARDEN OF EMPOWERMENT\, We Take Action\n19:00\nFilm­pre­mie­re: Aiko Kazu­ko Kur­o­sa­ki B L A N K \n11. März 2023\, 19:00\nBuch­prä­sen­ta­ti­on: Yvonne Wid­ler: Hei­mat bist du toter Töch­ter. War­um Män­ner Frau­en ermor­den – und wir nicht mehr weg­se­hen dür­fen (Ver­lag Kre­mayr & Scheriau) \n12. März 2023\, 14:00\nMusik: Naa­ma Isa­bel­le Fass­bin­der und Peta Klotz­berg Frau­en S(s)timmen\nÖff­nungs­zei­ten: Mo-Fr 16:30–21:00\, Sa 18:00–21:00\, So 13:00–16:00
URL:https://8maerz.at/veranstaltung/stopp-femizide-kunst-und-aktivismus/
LOCATION:Galerie am Park\, Liniengasse 2A\, Wien\, Wien\, 1060\, Österreich
ATTACH;FMTTYPE=image/jpeg:https://8maerz.at/wp-content/uploads/sites/20/2023/03/Stopp-Femizide-Kunst-und-Aktivismus-e1678054144568.jpeg
END:VEVENT
BEGIN:VEVENT
DTSTART;TZID=Europe/Vienna:20230306T183000
DTEND;TZID=Europe/Vienna:20230306T213000
DTSTAMP:20260420T223111
CREATED:20230302T204101Z
LAST-MODIFIED:20230302T204845Z
UID:10004007-1678127400-1678138200@8maerz.at
SUMMARY:VCC Podiumsgespräch: Feiern? Safe. Aber wie?
DESCRIPTION:Wo: FLUCC\, Pra­ter­stern 5\, 1020 Wien\nWann: 06.03.23\, 18:30–21:30\nTeil­nah­me: Kostenlos\nAnmel­dung hier: Link \nWo steht das Wie­ner Nacht­le­ben\, was tut sich inter­na­tio­nal und wie kann die VCC dazu bei­tra­gen ein siche­re­res Aus­ge­hen für alle zu ermög­li­chen? Clubs und Ver­an­stal­tun­gen sind für vie­le Men­schen essen­ti­el­le Orte des sozia­len Aus­tauschs. Begrif­fe wie Awareness(-Teams)\, Safer Space\, Harm Reduc­tion und Code of Con­duct wer­den immer wich­ti­ger in der Aus­ein­an­der­set­zung mit dis­kri­mi­nie­ren­den und über­grif­fi­gen Situa­tio­nen im Club- und Veranstaltungskontext. \nWir möch­ten sicher fei­ern – aber wie?\nDie VCC ver­an­stal­tet dazu ein Podi­ums­ge­spräch und ver­sucht sich die­ser Fra­ge anzunähern.\nDie­se und wei­te­re Fra­gen zum The­ma Sicher­heit im Wie­ner Nacht­le­ben diskutieren: \nKatha­rin Ahrend\, Club Com­mis­si­on Berlin/Awareness Aka­de­mie Berlin\nSeit mehr als zehn Jah­ren arbei­tet Katha­rin Ahrend für ver­schie­dens­te Pro­jek­te als Kul­tur­ma­na­ge­rin\, Kura­to­rin und kul­tur­po­li­ti­sche Bera­te­rin im Bereich Sozia­le Gerech­tig­keit\, Stadt­ent­wick­lung\, Club­kul­tur und Musik. Bei der Club­com­mis­si­on Ber­lin ist sie Co-Mana­ge­rin und lei­tet u. a. die Awa­re­ness Aka­de­mie und das Show­ca­se-Fes­ti­val TAG DER CLUBKULTUR. Zudem ist sie eine der Initia­to­rin­nen der glo­ba­len Kam­pa­gne United We Stream und war dort für die Berei­che Pro­gramm und Awa­re­ness zuständig. \nLara\, Secu­ri­ty Service\nLara ist Tür­ste­he­rin und somit eine der weni­gen FLINTA* Per­so­nen in die­sem Berufs­feld in Wien. Gebo­ren aus der Idee\, Event Secu­ri­ty zu sein und ihrer lang­jäh­ri­gen Erfah­rung in Kara­te und Selbst­ver­tei­di­gung\, ist für sie der Anspruch her­an­ge­wach­sen\, die Club­kul­tur und Men­schen\, denen sie dar­in begeg­net\, posi­tiv zu ver­än­dern. Die Ver­bin­dung und Schnitt­stel­le von Secu­ri­ty Ser­vice und Awa­re­ness Arbeit und das Kre­ieren von Safe® Spaces ist ihr dabei beson­ders wichtig. \nMicòl\, Awa­re­ness sisters+/HYPERREALITY\nDurch akti­vis­ti­sche Arbeit ist Micòl zu Awa­re­ness gekom­men. Seit 5 Jah­ren orga­ni­siert und lei­tet Micòl Work­shops und spricht auf Kon­fe­ren­zen zu den The­men Gen­der und Inklu­si­on\, sowie der Gestal­tung von Safe® Spaces. Micòl ist im Lead für Awa­re­ness beim HYPERREALITY Fes­ti­val und den sis­ters+ Events in Wien. \nNada El-Azar-Chekh\, BIBER Magazin\nNada El-Azar-Chekh ist Kul­tur­res­sort­lei­te­rin beim trans­kul­tu­rel­len Maga­zin BIBER und freie Radio­jour­na­lis­tin bei Ö1. 2019 gewann sie den Journalist*innenpreis Inte­gra­ti­on des ÖIF in der Kate­go­rie Print für den Arti­kel „Mei­ne Toch­ter\, mei­ne Per­le“. 2022 wur­de sie vom Bran­chen­ma­ga­zin „Journalist:in“ unter die 30 bes­ten Journalist*innen unter 30 Jah­ren gewählt. Sie stu­dier­te Sla­wis­tik und Inter­dis­zi­pli­nä­re Ost­eu­ro­pa­stu­di­en in Wien. \nSebas­ti­an Tomek\, ARENA WIEN\nSebas­ti­an ist Obmann Stell­ver­tre­ter im Ver­ein Forum Wien – Are­na. Jah­re­lan­ge koope­ra­ti­ve Zusam­men­ar­beit mit Check-it! bei diver­sen Ver­an­stal­tungs­for­ma­ten in der Are­na Wien. Er bringt eben­so per­sön­li­che Erfah­run­gen durchs Arbei­ten als Bar­kee­per sowie Security/Ordner und auch als Ver­an­stal­tungs-Ver­ant­wort­li­cher der Location/des Ver­eins mit. \nSolo\, Awa­re­ness hausgemacht\nSolo hat sich aus Lei­den­schaft für den respekt­vol­len Umgang in sex­po­si­ti­ven Räu­men in den letz­ten Jah­ren bei ver­schie­de­nen Ver­an­stal­tungs­kol­lek­ti­ven wie­der­ge­fun­den. Er arbei­tet dar­an\, eine schritt­wei­se Pro­fes­sio­na­li­sie­rung von Awa­re­ness­ar­beit in Wien und dar­über hin­aus zu nor­ma­li­sie­ren. Da es inner­halb eines struk­tu­rel­len Wan­dels immer um ein Mit­ein­an­der geht\, ist Awa­re­ness Arbeit mit Com­mu­ni­ty Arbeit gleich­zu­set­zen\, wodurch Solo Ver­net­zung und Aus­tausch als höchs­te Prio­ri­tät sieht. 2021 führ­te ihn die­se Denk- und Hand­lungs­wei­se auch zum Kol­lek­tiv haus­ge­macht\, um sich gemein­sam aus­zu­tau­schen und zu lernen. \nSujet © Vien­na Club Commission
URL:https://8maerz.at/veranstaltung/vcc-podiumsgespraech-feiern-safe-aber-wie/
LOCATION:Fluc\, Praterstern 5\, Wien\, Wien\, 1020\, Österreich
ATTACH;FMTTYPE=image/jpeg:https://8maerz.at/wp-content/uploads/sites/20/2023/03/VCC-Podium-e1677790100528.jpeg
END:VEVENT
BEGIN:VEVENT
DTSTART;TZID=Europe/Vienna:20230307T170000
DTEND;TZID=Europe/Vienna:20230307T210000
DTSTAMP:20260420T223111
CREATED:20230201T212634Z
LAST-MODIFIED:20230201T213747Z
UID:10003959-1678208400-1678222800@8maerz.at
SUMMARY:Präsentation und Film: Ni Una Menos Austria und Performance Opera Triptychon
DESCRIPTION:07. März 2023\, 17:00\nPrä­sen­ta­ti­on: Ni Una Menos Austria\nFilm: Petra Paul #Making­Of #NiU­na­Meno­sAls­er­grund­Park \n19:00 \nFilm der Per­for­mance Ope­ra Tri­pty­chon – A Qua­ran­ti­ne Sto­ry by Nata­lia Hurst \nIm Rah­men von: \nKunst­schaf­fen und One Bil­li­on Rising Aus­tria präsentieren: \nSTOPP FEMIZIDE Kunst & Akti­vis­mus cura­ted by Petra M. Springer\nGale­rie am Park\, Lini­en­gas­se 2A\, 1060 Wien\nÖff­nungs­zei­ten: Mo-Fr 16:30–21:00\, Sa 18:00–21:00\, So 13:00–16:00 \nAus­stel­lung:\nOphi­ra Avi­sar • Katha­ri­na Brandl • Anna­Li­sa Erdemgil-Brandstätter •\nEwa Ernst-Dzied­zic • #etwas­läuft­falsch • Femi­nist Kill­joy Vienna •\nHaSti­cke­ri­ot • Emel Hein­reich • Bian­ca Ion • Aiko Kazu­ko Kurosaki •\nPeta Klotz­berg • Kol­lek­tiv Kimä­re | Viva La Vul­va • Anna Mikl •\nOne Bil­li­on Rising Aus­tria • Petra Paul • Petra Röbl • Astrid Ruberl •\nVanes­sa Thun-Hohen­stein • Valery Villena
URL:https://8maerz.at/veranstaltung/praesentation-und-film-ni-una-menos-austria-und-performance-opera-triptychon/
LOCATION:Galerie am Park\, Liniengasse 2A\, Wien\, Wien\, 1060\, Österreich
ATTACH;FMTTYPE=image/jpeg:https://8maerz.at/wp-content/uploads/sites/20/2023/02/STOPP-FEMIZIDE-07.03.-Praesentation-Film-1-e1675286784406.jpg
END:VEVENT
BEGIN:VEVENT
DTSTART;VALUE=DATE:20230308
DTEND;VALUE=DATE:20230309
DTSTAMP:20260420T223111
CREATED:20230303T180931Z
LAST-MODIFIED:20230303T180931Z
UID:10004013-1678233600-1678319999@8maerz.at
SUMMARY:O94 Spezialprogramm: Gestern – heute – morgen – IMMER
DESCRIPTION:8.März 2023\, 07:00 – 24:00 \nRadio ORANGE 94.0 wid­met sich am 8. März mit einem ganz­tä­gi­gen Spe­zi­al­pro­gramm dem Leben\, Schaf­fen\, den Kämp­fen und Rech­ten von Frau­en und gen­der­quee­ren Men­schen und spie­gelt dabei eine Band­brei­te unter­schied­li­cher Femi­nis­men wider. Das gesam­te Schwer­punkt­pro­gramm zum femi­nis­ti­schen Kampf­tag ist auf ORANGE 94.0 zu hören und als Pod­cast ver­füg­bar – Details sie­he https://o94.at/programm/uebersicht?datum=2022–03-08
URL:https://8maerz.at/veranstaltung/o94-spezialprogramm-gestern-heute-morgen-immer/
LOCATION:Online\, Wien\, Österreich
END:VEVENT
BEGIN:VEVENT
DTSTART;TZID=Europe/Vienna:20230308T120000
DTEND;TZID=Europe/Vienna:20230308T213000
DTSTAMP:20260420T223111
CREATED:20230307T205113Z
LAST-MODIFIED:20230307T205212Z
UID:10004029-1678276800-1678311000@8maerz.at
SUMMARY:Frau\, Leben\, Freiheit - Frauentag im WUK
DESCRIPTION:FRAU\, LEBEN\, FREIHEIT\nDas Ira­ni­sche Kul­tur­haus lädt zum Inter­na­tio­na­len Frauentag \nIn die­sem Jahr steht die Ver­an­stal­tung unter dem Mot­to „Zihen Ziyan Azadi“\, auf Deutsch „Frau\, Leben\, Frei­heit“ und auf Far­si „Zan Zen­de­gi Azadi“! – in Soli­da­ri­tät mit den ira­ni­schen Frau­en und ganz beson­ders mit der neu­en Gene­ra­ti­on. Die meis­ten Künstler_innen des Abends gehö­ren die­ser Gene­ra­ti­on an. Sie kom­men aus unter­schied­li­chen Kul­tur­be­rei­chen wie Musik\, Thea­ter\, Per­for­mance oder Film. \nDie Ver­an­stal­tung wird drei­spra­chig in Far­si\, Deutsch und Eng­lisch abgehalten. \nEin­tritt: Freie Spende\nDetails und gesam­tes Pro­gramm sie­he hier.
URL:https://8maerz.at/veranstaltung/frau-leben-freiheit-frauentag-im-wuk/
LOCATION:WUK\, Währingerstraße 59\, Wien\, 1090\, Österreich
GEO:48.2232818;16.3514158
X-APPLE-STRUCTURED-LOCATION;VALUE=URI;X-ADDRESS=WUK Währingerstraße 59 Wien 1090 Österreich;X-APPLE-RADIUS=500;X-TITLE=Währingerstraße 59:geo:16.3514158,48.2232818
END:VEVENT
BEGIN:VEVENT
DTSTART;TZID=Europe/Vienna:20230308T150000
DTEND;TZID=Europe/Vienna:20230308T193000
DTSTAMP:20260420T223111
CREATED:20230224T194758Z
LAST-MODIFIED:20230224T195009Z
UID:10003982-1678287600-1678303800@8maerz.at
SUMMARY:"Offenes Rathaus" zum Internationalen Frauentag - Wien\, wie sie will.
DESCRIPTION:Am 8. März 2023 wird im Wie­ner Rat­haus der Inter­na­tio­na­le Frau­en­tag unter dem Mot­to „Wien\, wie sie will.“ gefeiert! \n****BERATUNGS- UND INFORMATIONSANGEBOT***\nIm Fest­saal wird auch die­ses Jahr von 15 bis 19:30 Uhr ein umfang­rei­ches Bera­tungs- und Infor­ma­ti­ons­an­ge­bot zu den Berei­chen Lebens­pha­sen und Gewalt­schutz\, Frau­en­po­li­tik\, Frau­en­ge­schich­te und Empower­ment\, uvm. zur Ver­fü­gung ste­hen. Für Mäd­chen gibt es einen eige­nen Mädchenraum.\nEin beson­de­rer Fokus liegt in die­sem Jahr auf Aus- und Wei­ter­bil­dung. Bei einer Rät­sel­ral­lye kön­nen unter ande­rem VHS- Gut­schei­ne und Sis­ter Fes­ti­val Kar­ten gewon­nen werden. \n**** WORKSHOPS****\n16:00 und 17:15 Uhr – Waff „Digi­tal dabei: Arbei­ten\, Ler­nen und Kom­mu­ni­zie­ren im Netz“\n15:30 und 17:30 Uhr: – Kin­der­freun­de: Kon­sens\, Gren­zen und Zivil­cou­ra­ge – Thea­ter­work­shop für ein femi­nis­ti­sches Zusammenleben\n(Teilnehmer*innen im Alter von 14–24 Jahre) \nAnmel­dung:\nhttps://ticket.wien.gv.at/M57/theater/\nhttps://ticket.wien.gv.at/M57/theater‑2/\n16:45 Uhr – Selbst­ver­tei­di­gung\, Selbst­be­haup­tung\, Empowerment \n**** MUSIK ****\n18:00 Uhr Ina Regen – Live – Fast wie Radlfahrn\nOrt: Wappensaal \n**** WEITERE HIGHLIGHTS****\nTele­fo­ni­scher Thementag:\nFrau­en und Geld­be­ra­tung zur Existenzsicherung\n9:00–17:00 Uhr Erst­be­ra­tung am Telefon\n01–4087066 \n****SERVICEANGEBOTE FÜR MÜTTER****\nDamit auch Frau­en mit Kin­dern den Frau­en­tag besu­chen konn­ten\, gibt es vor Ort in der Volks­hal­le eine Rei­he von Ser­vice­an­ge­bo­ten wie Abstell­plät­ze für Kin­der­wä­gen und eine kos­ten­lo­se Kin­der­be­treu­ung für Kin­der ab drei Jah­ren. Kin­der unter drei Jah­ren kön­nen mit einer Begleit­per­son den Kin­der­be­reich nutzen.\nKin­der­wä­gen dür­fen aus Grün­den des Brand­schut­zes nicht in die Ver­an­stal­tungs­räum­lich­kei­ten mit­ge­nom­men werden. \nDas genaue Pro­gramm gibt es hier: www.wien.gv.at/frauentag
URL:https://8maerz.at/veranstaltung/offenes-rathaus-zum-internationalen-frauentag-2023/
LOCATION:Rathaus\, Friedrich-Schmidt-Platz 1\, Wien\, 1010
GEO:48.2109437;16.3565084
X-APPLE-STRUCTURED-LOCATION;VALUE=URI;X-ADDRESS=Rathaus Friedrich-Schmidt-Platz 1 Wien 1010;X-APPLE-RADIUS=500;X-TITLE=Friedrich-Schmidt-Platz 1:geo:16.3565084,48.2109437
END:VEVENT
BEGIN:VEVENT
DTSTART;TZID=Europe/Vienna:20230308T170000
DTEND;TZID=Europe/Vienna:20230308T220000
DTSTAMP:20260420T223111
CREATED:20230224T222914Z
LAST-MODIFIED:20230302T200315Z
UID:10003987-1678294800-1678312800@8maerz.at
SUMMARY:m/others: See you at the Dancefloor!
DESCRIPTION:am Welt­frau­en­tag\, 8. März 2023\, 17–22 Uhr \nDer All­tags­trott ist der ein­zi­ge Rhyt­mus in dei­nem Leben?\nBei Beat denkst du an den Schleu­der­gang der Waschmaschine?\nDu kennst die Spon­geb­ob-Ver­sio­nen der Chart-Hits bes­ser als die Ori­gi­na­le? (und\, ganz ehr­lich – sind sie das nicht auch?) \nm/others erwei­tert ihren Raum für femi­nis­ti­sche Müt­ter* auf den Club-Kel­ler der legen­dä­ren THE HIVE Que­er­bar am Naschmarkt!\nGemein­sam fei­ern wir den Inter­na­tio­na­len Frau­en­tag in Club­at­mo­sphä­re zu baby­sit­ter­freund­li­chen Uhrzeiten. \nOffen für alle die sich als Müt­ter* und deren Freund*innen identifizieren.
URL:https://8maerz.at/veranstaltung/m-others-see-you-at-the-dancefloor/
LOCATION:The Hive\, Magdalenenstraße 2\, Wien\, Wien\, 1060\, Österreich
ATTACH;FMTTYPE=image/jpeg:https://8maerz.at/wp-content/uploads/sites/20/2023/02/m-others-coverbild2-e1677787386432.jpeg
END:VEVENT
BEGIN:VEVENT
DTSTART;TZID=Europe/Vienna:20230308T190000
DTEND;TZID=Europe/Vienna:20230308T210000
DTSTAMP:20260420T223111
CREATED:20230307T213255Z
LAST-MODIFIED:20230307T213343Z
UID:10004031-1678302000-1678309200@8maerz.at
SUMMARY:Konzert: Wirrbel
DESCRIPTION:8.3.2023\, 19:00 Uhr\, Büche­rei Pen­zing\, 1140\, Hüt­tel­dor­fer Stra­ße 130d \nWirr­bel ist ein jun­ges Frau­en­trio (Leo­na Puho­ny\, Giu­lia Andrio­lo\, Anna Rosen­kranz)\, das eige­ne Tex­te mit Viel­stim­mig­keit\, Viel­schich­tig­keit und Viel­sai­tig­keit auf die Büh­ne bringt. \nEin Kon­zert von Wirr­bel ver­spricht Klein­kunst mit Charme und Schmäh\, Tan­zen und Träu­men\, Ver­füh­rung und Ent­füh­rung in die Fer­ne. Ein biss­chen Pop\, ein biss­chen Wie­ner­lied\, ein biss­chen Lachen und ein biss­chen Wei­nen\, ein biss­chen Suchen und ein biss­chen Finden. \nWirr­bel ist wirr\, wirrklich\, ein Wirrklicht in der Dunkelheit. \nAnmel­dung: penzing@buechereien.wien.at
URL:https://8maerz.at/veranstaltung/konzert-wirrbel/
LOCATION:Bücherei Penzing\, Hütteldorfer Straße 130d\, Wien\, Wien\, 1140\, Österreich
END:VEVENT
BEGIN:VEVENT
DTSTART;TZID=Europe/Vienna:20230308T190000
DTEND;TZID=Europe/Vienna:20230308T230000
DTSTAMP:20260420T223111
CREATED:20230228T200755Z
LAST-MODIFIED:20230228T201338Z
UID:10003997-1678302000-1678316400@8maerz.at
SUMMARY:StoP-Beislabend am 8. März
DESCRIPTION:StoP lädt ein zum Beisl­a­bend bei sch­loR mit Live-Musik\, einer femi­nis­ti­schen Aus­stel­lung und einem Info­tisch\, wo sich Besucher*innen über die Arbeit von StoP infor­mie­ren können. \nPro­gramm:\nKon­zert von Ann Cot­ten\, Mario Schla­ger\, und Bern­hard Scheiblauer\nAus­stel­lung femi­nis­ti­scher Wer­ke der Künst­le­rin­nen Eli­sa­beth Öggl\, Jana May\, Astrid Rot­haug und The­re­sa Plank \nAußer­dem prä­sen­tiert StoP die Ergeb­nis­se des Krea­tiv­work­shops „Por­trait of a Lady“\, an dem sich vie­le Frei­wil­li­ge unter der Lei­tung der StoP-Koordinator*innen und der Illus­tra­to­rin Judith Bit­ter­man betei­ligt haben. Infos über zukünf­ti­ge ähn­li­che Aktio­nen gibt’s am StoP-Info­tisch und tes­tet euer Wis­sen über Gleich­stel­lungs­the­men bei einem femi­nis­ti­schen Pub-Quiz! \nAm 8. März wird jedes Jahr für die Gleich­stel­lung von Frau­en* und Män­nern* demons­triert. Der AÖF – Ver­ein Auto­no­me Öster­rei­chi­sche Frau­en­häu­ser und die Initia­ti­ve StoP – Stadt­tei­le ohne Part­ner­ge­walt betei­li­gen sich und set­zen sich für die Bekämp­fung von Gewalt an Frau­en* und Mäd­chen* ein. Zu die­sem Anlass ver­an­stal­tet StoP einen Beisl­a­bend im LGBTIQ+-freundlichen sch­loR\, um nach einem erfolg­rei­chen Tag des Pro­tests Unter­hal­tung und Ent­span­nung bie­ten zu können. \nWo: sch­loR\, Rapp­ach­gas­se 26\, 1110 Wien\, sie­he auch schlor.org/crap/veranstaltungsraum/\nWann: 8. März\, ab 19:00. Begrü­ßung um 20:00\, Live-Musik ab 21:00.\nEin­tritt: Freie Spen­de. Alle Spen­den gehen an StoP – Stadt­tei­le ohne Part­ner­ge­walt und wer­den ver­wen­det\, um auf häus­li­che Gewalt auf­merk­sam zu machen. \nWas ist StoP?\nDas Nach­bar­schafts­pro­jekt „StoP-Stadt­tei­le ohne Part­ner­ge­walt“ setzt sich – durch zahl­rei­che Akti­vi­tä­ten – zum Ziel\, Part­ner­ge­walt und häus­li­che Gewalt an Frau­en* zu stop­pen und zu ver­hin­dern. Die Ziel­grup­pen bei StoP sind Nachbar*innen und Multiplikator*innen aller Alters­grup­pen\, Schich­ten\, Natio­na­li­tä­ten und Reli­gio­nen sowie LGBTIQ-Per­so­nen. Mit den Frau­en*- und Män­ner­ti­schen*\, aber auch akti­vie­ren­den Gesprä­chen an Woh­nungs­tü­ren wol­len wir vie­le Men­schen errei­chen\, die Zivil­cou­ra­ge gegen Part­ner­ge­walt aus­üben. StoP stammt von Prof.in Sabi­ne Stö­ve­sand aus Ham­burg und der AÖF – Ver­ein Auto­no­me Öster­rei­chi­sche Frau­en­häu­ser koor­di­niert StoP in Öster­reich. Mehr Infos auf stop-partnergewalt.at.
URL:https://8maerz.at/veranstaltung/stop-beislabend-am-8-maerz/
LOCATION:schloR\, Rappachgasse 26\, Wien\, Wien\, 1110\, Österreich
END:VEVENT
BEGIN:VEVENT
DTSTART;TZID=Europe/Vienna:20230308T190000
DTEND;TZID=Europe/Vienna:20230308T235900
DTSTAMP:20260420T223111
CREATED:20230302T213016Z
LAST-MODIFIED:20230302T213417Z
UID:10004010-1678302000-1678319940@8maerz.at
SUMMARY:Feministische Party am 8. März "Club Fab"
DESCRIPTION:Die Grü­nen Frau­en Wien laden am 8.März – dem Inter­na­tio­na­len Frauen*kampftag – dazu ein\, die Ver­hält­nis­se zum Tan­zen zu brin­gen und zusam­men femi­nis­ti­sche Soli­da­ri­tät zu feiern!\nIm „Club Fab“ von und mit der Frau des Jah­res 2021 Petra Kiss­lin­ger (Dj p.K.one) und Susie Flowers. \nFür ech­te Gleich­stel­lung von Frau­en* und Mäd­chen* und ein gewalt­frei­es\, selbst­be­stimm­tes und sozi­al gerech­tes Leben für alle Frau­en* in Wien. \nWann: 8.3.\, 19 bis 01:00 Uhr\nWo: Fluc\nEin­tritt frei. \nVor der Par­ty wird im Thea­ter Nes­troy­hof Hama­kom der Preis „Frau des Jah­res“ von den Grü­nen Leo­pold­stadt an die Frau­en der Flücht­lings­or­ga­ni­sa­ti­on „Train of Hope“ verliehen.\nMehr dazu hier. \nSujet © Die Grü­nen Frau­en Wien
URL:https://8maerz.at/veranstaltung/feministische-party-club-fab/
LOCATION:Fluc\, Praterstern 5\, Wien\, Wien\, 1020\, Österreich
ATTACH;FMTTYPE=image/jpeg:https://8maerz.at/wp-content/uploads/sites/20/2023/03/fem-party-gruene-frauen-wien-e1677792796818.jpeg
END:VEVENT
BEGIN:VEVENT
DTSTART;TZID=Europe/Vienna:20230311T110000
DTEND;TZID=Europe/Vienna:20230311T130000
DTSTAMP:20260420T223111
CREATED:20230310T220951Z
LAST-MODIFIED:20230311T175013Z
UID:10004038-1678532400-1678539600@8maerz.at
SUMMARY:**ABGESAGT** Musik*Cometogether in Hietzing
DESCRIPTION:Musik*Cometogether zum Inter­na­tio­na­len Frauen*tag der Grü­nen Frau­en Hiet­zing am Sams­tag\, 11.3. von 11 bis 13 Uhr am Wochen­markt Altgasse \nSujet © Grü­ne Hietzing
URL:https://8maerz.at/veranstaltung/musik-cometogether-in-hietzing/
LOCATION:Wochenmarkt Altgasse\, Altgasse 21\, Wien\, Wien\, 1130\, Österreich
ATTACH;FMTTYPE=image/jpeg:https://8maerz.at/wp-content/uploads/sites/20/2023/03/musik-cometogether-gruene-hietzing-e1678486263350.jpg
END:VEVENT
BEGIN:VEVENT
DTSTART;TZID=Europe/Vienna:20230312T140000
DTEND;TZID=Europe/Vienna:20230312T160000
DTSTAMP:20260420T223111
CREATED:20230201T214715Z
LAST-MODIFIED:20230201T214750Z
UID:10003963-1678629600-1678636800@8maerz.at
SUMMARY:Konzert: Frauen S(s)timmen
DESCRIPTION:12. März 2023\, 14:00\nKon­zert mit Naa­ma Isa­bel­le Fass­bin­der und Peta Klotz­berg: Frau­en S(s)timmen \nIm Rah­men von: \nKunst­schaf­fen und One Bil­li­on Rising Aus­tria präsentieren: \nSTOPP FEMIZIDE Kunst & Akti­vis­mus cura­ted by Petra M. Springer\nGale­rie am Park\, Lini­en­gas­se 2A\, 1060 Wien\nÖff­nungs­zei­ten: Mo-Fr 16:30–21:00\, Sa 18:00–21:00\, So 13:00–16:00 \nAus­stel­lung:\nOphi­ra Avi­sar • Katha­ri­na Brandl • Anna­Li­sa Erdemgil-Brandstätter •\nEwa Ernst-Dzied­zic • #etwas­läuft­falsch • Femi­nist Kill­joy Vienna •\nHaSti­cke­ri­ot • Emel Hein­reich • Bian­ca Ion • Aiko Kazu­ko Kurosaki •\nPeta Klotz­berg • Kol­lek­tiv Kimä­re | Viva La Vul­va • Anna Mikl •\nOne Bil­li­on Rising Aus­tria • Petra Paul • Petra Röbl • Astrid Ruberl •\nVanes­sa Thun-Hohen­stein • Valery Villena
URL:https://8maerz.at/veranstaltung/konzert-frauenstimmen/
LOCATION:Galerie am Park\, Liniengasse 2A\, Wien\, Wien\, 1060\, Österreich
ATTACH;FMTTYPE=image/jpeg:https://8maerz.at/wp-content/uploads/sites/20/2023/02/STOPP-FEMIZIDE-12.03.-Frauen-Sstimmen-e1675287998372.jpg
END:VEVENT
END:VCALENDAR