BEGIN:VCALENDAR
VERSION:2.0
PRODID:-//8. März - ECPv6.15.17.1//NONSGML v1.0//EN
CALSCALE:GREGORIAN
METHOD:PUBLISH
X-ORIGINAL-URL:https://8maerz.at
X-WR-CALDESC:Veranstaltungen für 8. März
REFRESH-INTERVAL;VALUE=DURATION:PT1H
X-Robots-Tag:noindex
X-PUBLISHED-TTL:PT1H
BEGIN:VTIMEZONE
TZID:Europe/Vienna
BEGIN:DAYLIGHT
TZOFFSETFROM:+0100
TZOFFSETTO:+0200
TZNAME:CEST
DTSTART:20210328T010000
END:DAYLIGHT
BEGIN:STANDARD
TZOFFSETFROM:+0200
TZOFFSETTO:+0100
TZNAME:CET
DTSTART:20211031T010000
END:STANDARD
BEGIN:DAYLIGHT
TZOFFSETFROM:+0100
TZOFFSETTO:+0200
TZNAME:CEST
DTSTART:20220327T010000
END:DAYLIGHT
BEGIN:STANDARD
TZOFFSETFROM:+0200
TZOFFSETTO:+0100
TZNAME:CET
DTSTART:20221030T010000
END:STANDARD
BEGIN:DAYLIGHT
TZOFFSETFROM:+0100
TZOFFSETTO:+0200
TZNAME:CEST
DTSTART:20230326T010000
END:DAYLIGHT
BEGIN:STANDARD
TZOFFSETFROM:+0200
TZOFFSETTO:+0100
TZNAME:CET
DTSTART:20231029T010000
END:STANDARD
END:VTIMEZONE
BEGIN:VEVENT
DTSTART;VALUE=DATE:20220301
DTEND;VALUE=DATE:20220309
DTSTAMP:20260422T060104
CREATED:20220301T232433Z
LAST-MODIFIED:20220301T232730Z
UID:10003915-1646092800-1646783999@8maerz.at
SUMMARY:Feministische Aktionswoche: Jeder Tag ist 8. März!
DESCRIPTION:Vom 1. bis zum 8. März star­tet eine Akti­ons­wo­che zum femi­nis­ti­schen Kampf­tag unter dem Mot­to: Jeder Tag ist 8. März! \nDas The­ma ist Aneig­nung des Öffent­li­chen Raums und Inter­sek­tio­na­li­tät. Wir müs­sen den patri­ar­chal gepräg­ten Raum aktiv umstruk­tu­rie­ren und wol­len poli­ti­sche Kämp­fe mit femi­nis­ti­scher Kri­tik verknüpfen! \nAlle Aktio­nen (aus­ge­nom­men Tan­zen am Karls­platz) sind für Frau­en\, Les­ben\, Inter‑\, Non-bina­ry\, Trans- und Agen­der-Per­so­nen (FLINTA*) only. \nDi\, 1.3.\, 19 Uhr: Tan­zen am Karlsplatz \nMi\, 2.3. 16 Uhr:  Ban­ner­ma­len und Sturm­hau­ben stri­cken am Held*innenplatz \nDo\, 3.3.\, 15 Uhr: Offe­nes Anti­fa Tref­fen FINTA*-Spaziergang\, Spittelau\n(Ströck in der U‑Bahn-Sta­ti­on) \nSa\, 5.3.\, 10 Uhr: FLINTA* Früh­stück\, Platz der Menschenrechte\nSa\, 5.3.: Graf­fi­ti auf lega­ler Wand (Ort und Zeit fol­gen noch) \nSo\, 6.3.\, 13–17 Uhr: Krei­de­ak­ti­on von Cat­calls of Vien­na\, Platz der\nMenschenrechte\nSo\, 6.3.\, 15–18 Uhr: FLINTA* Ska­ten & Haa­re schnei­den im öffentlichen\nRaum\, ehe­ma­li­ger Karlsplatz\nSo\, 6.3.\, 14 Uhr: offe­ne Sing­pro­be der Sire­nen vom „Can­ción sin mie­do“ (Lied\nohne Angst) im Ksssd \nMo\, 7.3.\, 14−16.30 Uhr: FLINTA* rage space im Augarten \nDi\, 8.3.: Femi­nis­ti­scher Kampftag \nFra­gen und Detail­in­fos zu den ein­zel­nen Ter­mi­nen per E‑Mail an die Organisator*innen: jedertagist8maerz@riseup.net
URL:https://8maerz.at/veranstaltung/feministische-aktionswoche-jeder-tag-ist-8-maerz/
LOCATION:diverse Veranstaltungsorte\, siehe Eintrag\, Wien\, Wien\, Österreich
ORGANIZER;CN="Jeder Tag ist 8. M%C3%A4rz":MAILTO:jedertagist8maerz@riseup.net
END:VEVENT
BEGIN:VEVENT
DTSTART;TZID=Europe/Vienna:20220303T083000
DTEND;TZID=Europe/Vienna:20220303T103000
DTSTAMP:20260422T060104
CREATED:20220227T221457Z
LAST-MODIFIED:20220227T221625Z
UID:10003908-1646296200-1646303400@8maerz.at
SUMMARY:Business-Frühstück mit Dr.in Christine Catasta
DESCRIPTION:Am 3. März 2022 begrüßt Frau im Fokus Frau Dr.in Chris­ti­ne Catas­ta als Früh­stücks-Gäs­tin im Café Museum. \nSie war CEO von PwC Öster­reich und hält der­zeit Auf­sichts­rats­man­da­te bei Ver­bund\, der OMV\, der Tele­kom Aus­tria\, der Casi­nos Aus­tria\, der BIG\, der ARE sowie den Aus­tri­an Air­lines. Ganz im Sin­ne des Frau im Fokus-Jah­res­mot­tos „Green Busi­ness Moves“ wird über die Nach­hal­tig­keits-Stra­te­gien von wich­ti­gen öster­rei­chi­schen Unter­neh­men\, wie OMV\, AUA und Ver­bund\, gespro­chen. Es erwar­ten euch inter­es­san­te Ein­bli­cke\, vor wel­chen Her­aus­for­de­run­gen Frau­en nach wie vor ste­hen\, um in Spit­zen­po­si­tio­nen zu gelangen. \nAuf Grund der aktu­el­len Situa­ti­on wird das Früh­stück hybrid durch­ge­führt. Am Vor­abend wird an alle Teil­neh­me­rin­nen ein ent­spre­chen­der Link ver­sen­det\, sodass sie sehr kurz­fris­tig wäh­len können. \nSoll­te es aber mög­lich sein\, so freut sich das Team von Frau im Fokus\, euch per­sön­lich beim Früh­stück begrü­ßen zu kön­nen. Bei Teil­nah­me vor Ort wird gebe­ten\, die aktu­el­len 2G-Rege­lun­gen einzuhalten. \nWann? 3. März 2022 um 8:30\nWo? Cafe Museum \nAnmel­dung hier.
URL:https://8maerz.at/veranstaltung/business-fruehstueck-mit-dr-in-christine-catasta/
LOCATION:Café Museum\, Operngasse 7\, Wien\, Wien\, 1010\, Österreich
END:VEVENT
END:VCALENDAR