BEGIN:VCALENDAR
VERSION:2.0
PRODID:-//8. März - ECPv6.15.20//NONSGML v1.0//EN
CALSCALE:GREGORIAN
METHOD:PUBLISH
X-ORIGINAL-URL:https://8maerz.at
X-WR-CALDESC:Veranstaltungen für 8. März
REFRESH-INTERVAL;VALUE=DURATION:PT1H
X-Robots-Tag:noindex
X-PUBLISHED-TTL:PT1H
BEGIN:VTIMEZONE
TZID:UTC
BEGIN:STANDARD
TZOFFSETFROM:+0000
TZOFFSETTO:+0000
TZNAME:UTC
DTSTART:20180101T000000
END:STANDARD
END:VTIMEZONE
BEGIN:VEVENT
DTSTART;VALUE=DATE:20190301
DTEND;VALUE=DATE:20190309
DTSTAMP:20260426T025136
CREATED:20190108T193248Z
LAST-MODIFIED:20190222T170244Z
UID:10003306-1551398400-1552089599@8maerz.at
SUMMARY:Rrriot Festival 2019
DESCRIPTION:Rrriot Festival 2019 / 1.3.2019 – 8.3.2019\nDas RRRIOT ist ein kol­la­bo­ra­ti­ves\, femi­nis­ti­sches Pro­gramm­fes­ti­val\, das von 1.–8.März zum zwei­ten Mal in ganz Wien statt­fin­den wird. Zusam­men mit 50 Programmpartner_innen ver­wirk­li­chen wir 70 unter­schied­li­che Kul­tur­ver­an­stal­tun­gen – von Lesun­gen über Stadt­spa­zier­gän­ge\, von Talks über Scree­nings bis zu Work­shops und Par­tys. Unter dem Mot­to Com­mu­ni­ty und mit einem Fokus in der Bri­git­ten­au ste­hen die Sicht­bar­keit von Frau­en* im Kul­tur­be­reich\, Empower­ment\, Gerech­tig­keits- und Gesell­schafts­fra­gen im Mittelpunkt. \nAlle ein­zel­nen Ter­mi­ne fin­det ihr auf:\nhttp://www.riotfestival.at/programm und facebook.com/rrriotfestival/events/
URL:https://8maerz.at/veranstaltung/rrriot-festival-2019/
LOCATION:Rrriot Festival\, Bandgasse 4\, Wien\, 1070
ORGANIZER;CN="Rrriot Festival":MAILTO:hello@riotfestival.at
GEO:48.2007436;16.346244
X-APPLE-STRUCTURED-LOCATION;VALUE=URI;X-ADDRESS=Rrriot Festival Bandgasse 4 Wien 1070;X-APPLE-RADIUS=500;X-TITLE=Bandgasse 4:geo:16.346244,48.2007436
END:VEVENT
BEGIN:VEVENT
DTSTART;TZID=UTC:20190305T190000
DTEND;TZID=UTC:20190305T220000
DTSTAMP:20260426T025136
CREATED:20190217T215143Z
LAST-MODIFIED:20190217T215143Z
UID:10003457-1551812400-1551823200@8maerz.at
SUMMARY:Mit Vollgas zurück? Frauenpolitik unter Schwarz-Blau II
DESCRIPTION:Mit Vollgas zurück? Frauenpolitik unter Schwarz-Blau II\nGut ein Jahr Schwarz-Blau II\, was hat die Regie­rung in punc­to Frau­en­po­li­tik gemacht? Die Finan­zie­rung von Frau­en­ver­ei­nen\, Gewalt­schutz\, Gen­der-Pay-Gap\, Kin­der­gär­ten\, Sexis­mus im Netz sind The­ma – war­um schrei­en Feminist*innen per­ma­nent auf? \nWir\, Jele­na Guča­nin und Mar­ti­na Mad­ner vom Frau­en­netz­werk Medi­en\, dis­ku­tie­ren mit der Öko­no­min Fran­zis­ka D. Bacher vom Bei­gewum\, die die Dis­kus­si­on mit uns gemein­sam ver­an­stal­ten\, Chris­ti­an Ber­ger vom Frauen*volksbegehren und Bri­git­te Theißl vom femi­nis­ti­schen Maga­zin an.schläge dar­über\, wie die ÖVP-FPÖ-Regie­rung patri­ar­cha­le Struk­tu­ren beein­flusst\, was sie von Schwarz-Blau I unter­schei­det und was Frau­en­po­li­tik bewir­ken könn­te und sollte.
URL:https://8maerz.at/veranstaltung/mit-vollgas-zurueck-frauenpolitik-unter-schwarz-blau-ii/
LOCATION:Presseclub Concordia\, Bankgasse 8\, Wien\, Wien\, 1010\, Österreich
GEO:48.2103086;16.3629261
X-APPLE-STRUCTURED-LOCATION;VALUE=URI;X-ADDRESS=Presseclub Concordia Bankgasse 8 Wien Wien 1010 Österreich;X-APPLE-RADIUS=500;X-TITLE=Bankgasse 8:geo:16.3629261,48.2103086
END:VEVENT
BEGIN:VEVENT
DTSTART;TZID=UTC:20190307T180000
DTEND;TZID=UTC:20190307T210000
DTSTAMP:20260426T025136
CREATED:20190303T172825Z
LAST-MODIFIED:20190303T172825Z
UID:10003503-1551981600-1551992400@8maerz.at
SUMMARY:Frauen // Bilder
DESCRIPTION:Die im Film pro­du­zier­ten Bil­der prä­gen die Rol­len- und Wert­vor­stel­lun­gen der Gesell­schaft– damit hat die Film­wirt­schaft eine wich­ti­ge Schlüs­sel­rol­le inne. Außer­dem bezie­hen Film­pro­duk­tio­nen sowohl in der Zusam­men­ar­beit mit dem Fern­se­hen als auch im Kino­be­reich öffent­li­che Gel­der. Es ist also ein legi­ti­mes Inter­es­se der Gesell­schaft\, dar­auf ein­zu­wir­ken wel­che Rol­len­bil­der gezeigt wer­den. Wie kön­nen wir die Film­land­schaft so gestal­ten\, dass die weib­li­che Per­spek­ti­ve mit ins Zen­trum gerückt wird? \nWel­che Rol­len­bil­der wol­len wir re/produzieren? Und was sind Stra­te­gien für die Zukunft von Film und Fern­se­hen um die Chan­cen­gleich­heit für Män­ner und Frau­en zu ermöglichen? \nMode­riert wird die Ver­an­stal­tung vom Vor­sit­zen­den der Fach­ver­tre­tung der Film- und Musik­wirt­schaft Wien\, Alex­an­der Dum­rei­cher-Ivan­ce­a­nu. Es dis­ku­tie­ren unter ande­rem die deut­sche Pro­du­zen­tin Uschi Reich (Pro Quo­te)\, Bir­git Mol­da­schl (ÖFI)\, Clau­dia Wohl­ge­nannt (Grü­ne Wirt­schaft)\, Bar­ba­ra Pich­ler (FC Glo­ria) und Alex­an­der Wra­betz (ORF\, angefragt). \nAnschlie­ßend Net­wor­king bei Buf­fet und Getränken. \nDie Ver­an­stal­tung ist kos­ten­los\, wegen begrenz­ter Sitz­plät­ze wird um Anmel­dung gebeten.
URL:https://8maerz.at/veranstaltung/frauen-bilder/
LOCATION:Stockwerk Co-Working\, Pater-Schwartz-Gasse 11a\, Wien\, 1150\, Österreich
GEO:48.1919849;16.3360145
X-APPLE-STRUCTURED-LOCATION;VALUE=URI;X-ADDRESS=Stockwerk Co-Working Pater-Schwartz-Gasse 11a Wien 1150 Österreich;X-APPLE-RADIUS=500;X-TITLE=Pater-Schwartz-Gasse 11a:geo:16.3360145,48.1919849
END:VEVENT
BEGIN:VEVENT
DTSTART;TZID=UTC:20190309T100000
DTEND;TZID=UTC:20190309T150000
DTSTAMP:20260426T025136
CREATED:20190225T190935Z
LAST-MODIFIED:20190225T191335Z
UID:10003479-1552125600-1552143600@8maerz.at
SUMMARY:Workshop: Interviewtechnik und Recherche
DESCRIPTION:Workshop für Radio\, Print und Web\nDie Frauen*solidarität orga­ni­siert ein Medi­en­trai­ning\, für das sich enga­gier­te Radiomacher_innen\, Redakteur_innen und ande­re Medienaktivist_innen anmel­den kön­nen. Die Teil­neh­me­rin­nen­zahl ist begrenzt; die Teil­nah­me ist kos­ten­los. All gen­ders welcome. \nWann und wo:\n9. März 2019\, 10:00 bis 15:00 Uhr\nC3 – Cen­trum für Inter­na­tio­na­le Ent­wick­lung\, Aud­re Lor­de Stu­dio\,  Sen­sen­gas­se 3\, 1090 Wien \nBedin­gun­gen:\n• Bereit­schaft\, nach dem Trai­ning Medi­en­bei­trä­ge in Print\, Funk und Web zu veröffentlichen.\n• Bereit­schaft\, das erlern­te Wis­sen an ande­re weiterzugeben.\n• Anmel­dung bis spä­tes­tens 28. Feber 2019 bei p.pint@frauensolidaritaet.org \nDetails im Face­book-Event.
URL:https://8maerz.at/veranstaltung/workshop-interviewtechnik-und-recherche/
LOCATION:C3 – Centrum für Internationale Entwicklung\, Sensengasse 3\, Wien\, Wien\, 1090\, Österreich
GEO:48.2200549;16.354017
X-APPLE-STRUCTURED-LOCATION;VALUE=URI;X-ADDRESS=C3 – Centrum für Internationale Entwicklung Sensengasse 3 Wien Wien 1090 Österreich;X-APPLE-RADIUS=500;X-TITLE=Sensengasse 3:geo:16.354017,48.2200549
END:VEVENT
END:VCALENDAR