BEGIN:VCALENDAR
VERSION:2.0
PRODID:-//8. März - ECPv6.15.17.1//NONSGML v1.0//EN
CALSCALE:GREGORIAN
METHOD:PUBLISH
X-WR-CALNAME:8. März
X-ORIGINAL-URL:https://8maerz.at
X-WR-CALDESC:Veranstaltungen für 8. März
REFRESH-INTERVAL;VALUE=DURATION:PT1H
X-Robots-Tag:noindex
X-PUBLISHED-TTL:PT1H
BEGIN:VTIMEZONE
TZID:Europe/Vienna
BEGIN:DAYLIGHT
TZOFFSETFROM:+0100
TZOFFSETTO:+0200
TZNAME:CEST
DTSTART:20210328T010000
END:DAYLIGHT
BEGIN:STANDARD
TZOFFSETFROM:+0200
TZOFFSETTO:+0100
TZNAME:CET
DTSTART:20211031T010000
END:STANDARD
BEGIN:DAYLIGHT
TZOFFSETFROM:+0100
TZOFFSETTO:+0200
TZNAME:CEST
DTSTART:20220327T010000
END:DAYLIGHT
BEGIN:STANDARD
TZOFFSETFROM:+0200
TZOFFSETTO:+0100
TZNAME:CET
DTSTART:20221030T010000
END:STANDARD
BEGIN:DAYLIGHT
TZOFFSETFROM:+0100
TZOFFSETTO:+0200
TZNAME:CEST
DTSTART:20230326T010000
END:DAYLIGHT
BEGIN:STANDARD
TZOFFSETFROM:+0200
TZOFFSETTO:+0100
TZNAME:CET
DTSTART:20231029T010000
END:STANDARD
END:VTIMEZONE
BEGIN:VEVENT
DTSTART;TZID=Europe/Vienna:20220307T180000
DTEND;TZID=Europe/Vienna:20220307T200000
DTSTAMP:20260422T035511
CREATED:20220305T124733Z
LAST-MODIFIED:20220305T124733Z
UID:10003682-1646676000-1646683200@8maerz.at
SUMMARY:"Frauengeschichten. Lesung wider die Gewalt"
DESCRIPTION:Mon­tag\, 7. März 2022\, um 18.00 Uhr im Gro­ßen Redou­ten­saal der Hof­burg sowie im Live­stream in der Media­thek des Parlaments \nAm Vor­abend des Welt­frau­en­tags\, wel­cher sich am 8. März zum 111. Mal jährt\, lädt Zwei­te Natio­nal­rats­prä­si­den­tin Doris Bures zur Ver­an­stal­tung „Frau­en­ge­schich­ten. Lesung wider die Gewalt“ ins Par­la­ment in die Hof­burg. Jede fünf­te Frau in Öster­reich ist laut Auf­zeich­nun­gen des Ver­eins Auto­no­me Öster­rei­chi­sche Frau­en­häu­ser (AÖF) von kör­per­li­cher und/oder sexu­el­ler Gewalt betrof­fen. Den Opfern soll mit der Ver­an­stal­tung eine Stim­me gege­ben sowie die Auf­merk­sam­keit für die Pro­ble­ma­tik geschärft werden. \nFür die künst­le­ri­sche Gestal­tung sowie die Mode­ra­ti­on der Ver­an­stal­tung zeigt sich Schrift­stel­le­rin Julya Rabi­no­wich ver­ant­wort­lich. Ihr viel­be­ach­te­ter Jugend­ro­man „Hin­ter Glas“ gibt Ein­bli­cke in die Facet­ten einer Gewalt­be­zie­hung und die Geschich­te einer Eman­zi­pa­ti­on. Die Lesung aus­ge­wähl­ter Tex­te zum The­ma Gewalt gegen Frau­en wird von den Ensem­ble­mit­glie­dern des Burg­thea­ters Doro­thee Har­tin­ger\, Dör­te Lys­sew­ski und Sabi­ne Haupt durch­ge­führt. Tex­te aus „Die gel­be Stra­ße“ von Veza Canet­ti und „Blaue Frau“ von Ant­je Rávik-Stru­bel zei­gen die Lebens­rea­li­tät von Frau­en\, die Gewalt erfah­ren haben. \nDie Ver­an­stal­tung wird ab 18.00 Uhr live aus dem Gro­ßen Redou­ten­saal der Hof­burg auf der Web­site des Par­la­ments über­tra­gen und in der Media­thek des Par­la­ments abruf­bar sein. \nVer­an­stal­tung: „Frau­en­ge­schich­ten. Lesung wider die Gewalt“ zum Inter­na­tio­na­len Weltfrauentag\nZeit: Mon­tag\, 7. März 2022\, 18 Uhr\, im Gro­ßen Redou­ten­saal\, Par­la­ment in der Hofburg \nAnmel­dung und Teilnahmebedingungen:\nVer­tre­te­rin­nen und Ver­tre­ter der Medi­en sind herz­lich ein­ge­la­den und kön­nen sich unter medienservice@parlament.gv.at anmel­den. Für den Zutritt zu Par­la­ments­ge­bäu­den gilt grund­sätz­lich die 3G-Rege­lung sowie FFP2-Mas­ken­pflicht. Bit­te infor­mie­ren Sie sich kurz vor der Ver­an­stal­tung auf der Web­site des Par­la­ments über die aktu­el­len Zutrittsbedingungen.
URL:https://8maerz.at/veranstaltung/frauengeschichten-lesung-wider-die-gewalt/
LOCATION:Ausweichquartier Hofburg\, Josefsplatz 2\, Wien\, Wien\, 1010\, Österreich
END:VEVENT
BEGIN:VEVENT
DTSTART;TZID=Europe/Vienna:20220308T083000
DTEND;TZID=Europe/Vienna:20220308T093000
DTSTAMP:20260422T035511
CREATED:20220303T211434Z
LAST-MODIFIED:20220304T223537Z
UID:10003919-1646728200-1646731800@8maerz.at
SUMMARY:Pressekonferenz „Wanted! Frauenpolitik“
DESCRIPTION:Pressekonferenz „Wanted! Frauenpolitik“\nFrauenorganisationen zum Internationalen Frauentag 2022\n„Gera­de die letz­ten Mona­te haben gezeigt\, dass die Lage für Frau­en und Mäd­chen immer ange­spann­ter wird. Die Lis­te der frau­en­po­li­ti­schen Bau­stel­len ist lang: lücken­haf­te Umset­zung der Gewalt­schutz­maß­nah­men\, finan­zi­el­le Benach­tei­li­gung der so wich­ti­gen Frau­en- und Mäd­chen­be­ra­tungs­stel­len und der Frau­en­häu­ser\, feh­len­de frau­en­po­li­ti­sche Akzen­te in der Arbeits­markt­po­li­tik\, kei­ne brauch­ba­ren Maß­nah­men gegen Armut in Fol­ge der Teue­run­gen\, kei­ne Fort­schrit­te beim Aus­bau der Kin­der­be­treu­ung und Ganz­tags­schu­len. Zusätz­lich soll ein Kind­schafts­recht umge­setzt wer­den\, das von femi­nis­ti­schen Exper­tin­nen sehr kri­tisch gese­hen wird. All das wird fata­le Fol­gen für die Zukunft haben\, wenn wir nicht gegen­steu­ern“\, stellt die Vor­sit­zen­de des Öster­rei­chi­schen Frau­en­rings\, Klau­dia Frie­ben\, bedau­ernd fest. \n„Frau­en­po­li­tik fin­det in Öster­reich der­zeit kaum statt. Des­halb wer­den wir uns am Inter­na­tio­na­len Frau­en­tag 2022 laut­stark zu Wort mel­den“\, so Frieben. \nÖffent­li­che Pres­se­kon­fe­renz am 8. März 2022\, von 8.30 – 9.30 Uhr am Ballhausplatz \nRed­ne­rin­nen:\nKlau­dia Frie­ben\, Vor­sit­zen­de des Öster­rei­chi­schen Frauenrings\nRosa Logar\, Alli­anz GewaltFREI Leben\nAndrea Czak\, Geschäfts­füh­ren­de Obfrau des Ver­eins Femi­nis­ti­sche Allein­er­zie­he­rin­nen – FEM.A\nEva Maria-Holz­leit­ner\, Vor­sit­zen­de des Gleichbehandlungsausschusses\nEli­sa­beth Cin­atl\, Vor­sit­zen­de Netz­werk öster­rei­chi­scher Frau­en- und Mädchenberatungsstellen\nMaria Rösslhu­mer\, Geschäfts­füh­re­rin Ver­ein Auto­no­me Öster­rei­chi­sche Frau­en­häu­ser – AÖF \nMedienvertreter*innen sind herz­lich willkommen! \nDie Pres­se­kon­fe­renz wird auch via Face­book-Live­stream übertragen. \nRück­fra­gen & Kontakt:\nKlau­dia Frie­ben\, Vor­sit­zen­de des Öster­rei­chi­schen Frauenrings\noffice@frauenring.at\nTel. 0664–6145800
URL:https://8maerz.at/veranstaltung/pressekonferenz-wanted-frauenpolitik/
LOCATION:Ballhausplatz\, Ballhausplatz\, 1010\, Wien\, Österreich
GEO:48.2082817;16.3638789
X-APPLE-STRUCTURED-LOCATION;VALUE=URI;X-ADDRESS=Ballhausplatz Ballhausplatz 1010 Wien Österreich;X-APPLE-RADIUS=500;X-TITLE=Ballhausplatz:geo:16.3638789,48.2082817
END:VEVENT
BEGIN:VEVENT
DTSTART;TZID=Europe/Vienna:20220308T120000
DTEND;TZID=Europe/Vienna:20220308T133000
DTSTAMP:20260422T035511
CREATED:20220304T222915Z
LAST-MODIFIED:20220304T223327Z
UID:10003676-1646740800-1646746200@8maerz.at
SUMMARY:Lectures for Future: unruhig bleiben*
DESCRIPTION:unruhig bleiben*\nDon­na Hara­way und ihr radi­ka­les Den­ken der Ver­wand­lung. Ein Bei­trag von Kat­rin Mac­kow­ski\, Ö1 \n8.3.2022 | 12.00−13.30\nonline & mdwCampus \nAm Inter­na­tio­na­len Frauen*tag 2022 star­ten die Lec­tures for Future an der mdw – Uni­ver­si­tät für Musik und dar­stel­len­de Kunst Wien mit dem Ö1-Bei­trag „Don­na Hara­way und ihr radi­ka­les Den­ken der Ver­wand­lung“ von Kat­rin Mac­kow­ski und the­ma­ti­sie­ren die viel­fa­chen Ver­flech­tun­gen von Kunst\, Wis­sen­schaft\, femi­nis­ti­schen Theo­rien und den aktu­el­len öko­lo­gi­schen Her­aus­for­de­run­gen unse­rer Zeit. \nKoope­ra­ti­ons­ver­an­stal­tung der Stab­stel­le Gleich­stel­lung\, Gen­der Stu­dies und Diver­si­tät (GGD) mit der grünen-mdw. \nEine Anmel­dung per Mail an huebener@mdw.ac.at ist sowohl für die Teil­nah­me in Prä­senz (begrenz­te Plät­ze) als auch per Zoom-Mee­ting erforderlich. \n* Der Titel der Ver­an­stal­tung nimmt Bezug auf das Buch von Don­na J. Haraway\nUnru­hig blei­ben. Die Ver­wandt­schaft der Arten im Chtu­lu­zän\, Cam­pus Ver­lag: Frank­furt a. M. 2018\nDie eng­lisch­spra­chi­ge Ori­gi­nal­aus­ga­be erschien 2016 unter dem Titel Stay­ing with the Trou­ble. Making Kin in the Chtu­li­ce­ne\, Duke Uni­ver­si­ty Press
URL:https://8maerz.at/veranstaltung/lectures-for-future-unruhig-bleiben/
LOCATION:mdw – Universität für Musik und darstellende Kunst\, Anton-von-Webern-Platz 1\, Wien\, Wien\, 1030\, Österreich
ORGANIZER;CN="mdw %E2%80%93 Universit%C3%A4t f%C3%BCr Musik und darstellende Kunst":MAILTO:https://www.mdw.ac.at
GEO:48.201799;16.3847658
X-APPLE-STRUCTURED-LOCATION;VALUE=URI;X-ADDRESS=mdw – Universität für Musik und darstellende Kunst Anton-von-Webern-Platz 1 Wien Wien 1030 Österreich;X-APPLE-RADIUS=500;X-TITLE=Anton-von-Webern-Platz 1:geo:16.3847658,48.201799
END:VEVENT
BEGIN:VEVENT
DTSTART;TZID=Europe/Vienna:20220308T170000
DTEND;TZID=Europe/Vienna:20220308T190000
DTSTAMP:20260422T035511
CREATED:20220221T140128Z
LAST-MODIFIED:20220221T140307Z
UID:10003886-1646758800-1646766000@8maerz.at
SUMMARY:Gespräch: Katharina Fröhlich und ihre Schwestern
DESCRIPTION:Über ewi­ge Zuschrei­bun­gen\, Sis­ter­hood und weib­li­che Krea­ti­vi­tät im 19. Jahrhundert \nAus der For­schungs­werk­statt zum Frau­en­tag 2022 \nOrt und Zeit:\nDiens­tag\, 8. März 2022\, 17.00 Uhr\n***Live-Stream aus den Loos-Räu­men der Wienbibliothek*** \nZur Ver­an­stal­tung:\nWenn das Schein­wer­fer­licht auf den öster­rei­chi­schen „Klas­si­ker“ Franz Grill­par­zer fällt\, dann ver­sinkt der Rest der Büh­ne – wie bei vie­len ande­ren „gro­ßen Män­nern“ auch – im Dun­kel. In die­sem Dun­kel ver­schwan­den bis­her unter ande­ren die vier Schwes­tern Fröh­lich\, die im Leben des Dra­ma­ti­kers zen­tra­le und span­nungs­vol­le Rol­len gespielt haben dürf­ten\, deren Bedeu­tung und eige­ne Leben aber kaum jemals genau­er betrach­tet wur­den. So wird etwa Katha­ri­na Fröh­lich\, die sich mit Grill­par­zer ver­lob­te\, bis heu­te als sei­ne „ewi­ge Braut“ abge­stem­pelt – wobei sel­ten hin­ter­fragt wur­de\, was hin­ter die­ser Zuschrei­bung alles ver­drängt und ver­bor­gen blieb. \nBereits ers­te Bli­cke hin­ter die Scha­blo­ne offen­ba­ren ein weit­aus kom­ple­xe­res Bild von Katha­ri­na Fröh­lich und ihren drei krea­ti­ven und künst­le­risch akti­ven Schwes­tern. Es geht dar­um wei­ter zu fra­gen und nach­zu­voll­zie­hen\, wie sich die Fröh­lich-Schwes­tern als bür­ger­li­che Frau­en der Bie­der­mei­er­zeit beruf­lich und pri­vat ver­wirk­li­chen konn­ten\, was Schwes­tern­schaft\, Ehe\, Zusam­men­le­ben\, Haus­halt und nicht zuletzt Franz Grill­par­zer für sie bedeu­te­te – und ob nicht eigent­lich die­se vier Frau­en als Begrün­de­rin­nen unse­rer Hand­schrif­ten­samm­lung gefei­ert wer­den müssten. \nPro­gramm:\nIm Gespräch\nEve­ly­ne Luef und Katha­ri­na Pra­ger\, bei­de Wien­bi­blio­thek im Rathaus \nAll­ge­mei­ne Informationen:\nMit der Teil­nah­me an die­ser Ver­an­stal­tung stim­men Sie der Ver­öf­fent­li­chung von Fotos\, Video- und Audio­auf­zeich­nun­gen\, die im Rah­men der Ver­an­stal­tun­gen ent­ste­hen\, zu.
URL:https://8maerz.at/veranstaltung/gespraech-katharina-froehlich-und-ihre-schwestern/
LOCATION:Online\, Wien\, Österreich
END:VEVENT
BEGIN:VEVENT
DTSTART;TZID=Europe/Vienna:20220309T190000
DTEND;TZID=Europe/Vienna:20220309T210000
DTSTAMP:20260422T035511
CREATED:20220126T212336Z
LAST-MODIFIED:20220126T212558Z
UID:10003612-1646852400-1646859600@8maerz.at
SUMMARY:KRISEN.FEST Lesung zum Frauentag
DESCRIPTION:*KRISEN.FEST*\nFeministische Lesung zum Frauentag.\nEs lesen Regi­na Hil­ber\, Clau­dia Bryck\, Eva Schörk­hu­ber\, Zden­ka Becker\, Bär­bel Dan­ne­berg\, Elis Rot­ter und Doris Nussbaumer\nMode­ra­ti­on: Hel­ga Pregesbauer \nWäh­rend wir genug von Kri­sen haben darf den­noch gefragt wer­den\, was ist eigent­lich der Spaß dar­an? Wie wer­den wir kri­sen­fest? Wie macht mensch Fes­te aus und in der Kri­se? Bei der dies­jäh­ri­gen Lesung zum Frau­en­tag fragt sich also Regi­na Hil­ber\, wie man toxi­sche Männ­lich­keit in Empa­thie umwan­deln kann – an nichts weni­ger als dem Bei­spiel eines Fußballclubs. \nClau­dia Bryck beschreibt das Innen­le­ben der Lebens­ge­fähr­tin eines Asly­wer­bers. Doris Nuss­bau­mer erzählt von lau­ten\, jun­gen wie auch alten Mäd­chen und Frau­en\, die still oder unver­schämt selbst ihre Kri­sen lösen – und die der ande­ren. Bär­bel Dan­ne­berg beschreibt das Zusam­men­le­ben. Eva Schörk­hu­ber liest einen Aus­zug aus ihrem neu­en Roman „Die Geris­se­ne“ und Elis Rot­ter lie­fert uns eine Überraschung.
URL:https://8maerz.at/veranstaltung/krisenfest-lesung-zum-frauentag/
LOCATION:Literaturhaus Wien\, Zieglergasse 26a\, Wien\, 1070\, Österreich
END:VEVENT
BEGIN:VEVENT
DTSTART;TZID=Europe/Vienna:20220310T190000
DTEND;TZID=Europe/Vienna:20220310T210000
DTSTAMP:20260422T035511
CREATED:20220304T221646Z
LAST-MODIFIED:20220304T221646Z
UID:10003921-1646938800-1646946000@8maerz.at
SUMMARY:Vortrag: feminismen diskutieren: Nicht/Repräsentation
DESCRIPTION:Der Ver­band femi­nis­ti­scher Wissenschafteri*nnen lädt herz­lich am Don­ners­tag\, 10.März 2022\, 19 Uhr\nzum femi­nis­men dis­ku­tie­ren-Vor­trag und Dis­kus­si­on im Depot\, Brei­te Gas­se 3\, 1070 Wien. \n(Live­stream via You­Tube https://youtu.be/4OgvYjJbdEg) \nNicht/Repräsentation\nWas ist Reprä­sen­ta­ti­on? Was und wer wird durch Reprä­sen­ta­ti­on aus­ge­schlos­sen und wie funk­tio­nie­ren die­se Aus­schlie­ßungs­me­cha­nis­men? Inwie­fern hängt poli­tisch ver­stan­de­ne Reprä­sen­ta­ti­on mit ästhe­ti­scher Reprä­sen­ta­ti­on – ver­stan­den als Dar­stel­lung\, als Dar­stel­lungs­wei­se – zusam­men? Lässt sich über die Ver­knüp­fung die­ser unter­schied­li­chen Defi­ni­tio­nen ein Begriff der ‚Nicht-Reprä­sen­ta­ti­on‘ her­lei­ten und wel­che (poli­ti­schen) Kon­se­quen­zen erge­ben sich dadurch? Wie kön­nen anhand der Ver­schrän­kung von Reprä­sen­ta­ti­on und den damit ein­her­ge­hen­den Aus­schlie­ßungs­me­cha­nis­men ande­re For­men (poli­ti­schen) Han­delns und (poli­ti­scher) Sub­jek­ti­vie­rungs­wei­sen fest­ge­stellt und ima­gi­niert werden? \nVor­trag von Nina Ban­di\, Phi­lo­so­phin und Poli­tik­wis­sen­schaft­le­rin\, Wien/Zürich\nMode­ra­ti­on: Sabi­ne Prokop (VfW) \nWir bit­ten Sie um Vor­anmel­dung mit dem Betreff “Anmel­dung 10.3.” und Ihrer Tele­fon­num­mer an depot@depot.or.at. Eine spon­ta­ne Teil­nah­me ist bei aus­rei­chen­der Kapa­zi­tät möglich. \nBit­te infor­mie­ren Sie sich vor dem Besuch über aktu­el­le Covid-Bestim­mun­gen. Der­zeit gilt die 2G-Regel (geimpft oder gene­sen) und wäh­rend der Ver­an­stal­tun­gen für das Publi­kum Maskenpflicht.
URL:https://8maerz.at/veranstaltung/vortrag-feminismen-diskutieren-nicht-repraesentation/
LOCATION:Depot – Kunst und Diskussion\, Breite Gasse 3\, Wien\, 1070
ORGANIZER;CN="VfW %E2%80%93 Verband Feministischer Wissenschafter*innen":MAILTO:vfwkontakt@yahoo.com
GEO:48.2031754;16.3568226
X-APPLE-STRUCTURED-LOCATION;VALUE=URI;X-ADDRESS=Depot – Kunst und Diskussion Breite Gasse 3 Wien 1070;X-APPLE-RADIUS=500;X-TITLE=Breite Gasse 3:geo:16.3568226,48.2031754
END:VEVENT
END:VCALENDAR