BEGIN:VCALENDAR
VERSION:2.0
PRODID:-//8. März - ECPv6.15.17.1//NONSGML v1.0//EN
CALSCALE:GREGORIAN
METHOD:PUBLISH
X-ORIGINAL-URL:https://8maerz.at
X-WR-CALDESC:Veranstaltungen für 8. März
REFRESH-INTERVAL;VALUE=DURATION:PT1H
X-Robots-Tag:noindex
X-PUBLISHED-TTL:PT1H
BEGIN:VTIMEZONE
TZID:Europe/Vienna
BEGIN:DAYLIGHT
TZOFFSETFROM:+0100
TZOFFSETTO:+0200
TZNAME:CEST
DTSTART:20220327T010000
END:DAYLIGHT
BEGIN:STANDARD
TZOFFSETFROM:+0200
TZOFFSETTO:+0100
TZNAME:CET
DTSTART:20221030T010000
END:STANDARD
BEGIN:DAYLIGHT
TZOFFSETFROM:+0100
TZOFFSETTO:+0200
TZNAME:CEST
DTSTART:20230326T010000
END:DAYLIGHT
BEGIN:STANDARD
TZOFFSETFROM:+0200
TZOFFSETTO:+0100
TZNAME:CET
DTSTART:20231029T010000
END:STANDARD
BEGIN:DAYLIGHT
TZOFFSETFROM:+0100
TZOFFSETTO:+0200
TZNAME:CEST
DTSTART:20240331T010000
END:DAYLIGHT
BEGIN:STANDARD
TZOFFSETFROM:+0200
TZOFFSETTO:+0100
TZNAME:CET
DTSTART:20241027T010000
END:STANDARD
END:VTIMEZONE
BEGIN:VEVENT
DTSTART;VALUE=DATE:20230307
DTEND;VALUE=DATE:20230319
DTSTAMP:20260421T163648
CREATED:20230217T165822Z
LAST-MODIFIED:20230218T140912Z
UID:10003980-1678147200-1679183999@8maerz.at
SUMMARY:SKIN #4 - Performance Festival für junge Erwachsene
DESCRIPTION:SKIN #4: „All in for equality\npatri­ar­chy has no gen­der“ (bell hooks) \nDi.\, 7.3. bis Sa.\, 18.3.2023\, Dschun­gel Wien \nDas SKIN Per­for­mance­fes­ti­val ver­han­delt The­men für ein jun­ges erwach­se­nes Publi­kum zwi­schen 15 und 23 Jah­ren. Es geht um bren­nen­de gesell­schafts­po­li­ti­sche Fra­gen\, wie die Gleich­be­rech­ti­gung aller Men­schen und ihr Selbst­be­stim­mungs­recht\, die Frei­heit\, sich nicht fest­le­gen zu müs­sen und nicht ein­fach les­bar sein zu dür­fen – unab­hän­gig vom Aus­se­hen des Kör­pers\, des Geschlech­tes und der sexu­el­len Ori­en­tie­rung\, der Her­kunft\, sozia­len Zuge­hö­rig­keit\, Haut­far­be\, Mut­ter­spra­che oder Religion. \nMit inter­na­tio­na­len Tanz-und Per­for­mance-Gast­spie­len und loka­len Pro­duk­tio­nen frei­er Grup­pen sowie Lec­tures\, Talks\, Kon­zer­ten\, Work­shops und Par­tys soll mar­gi­na­li­sier­ten Com­mu­ni­tys und Men­schen eine Platt­form gebo­ten wer­den\, um sich zu ver­net­zen\, zu stär­ken und aus­zu­tau­schen\, aber auch Vor­ur­tei­le abge­baut und neue Sicht­wei­sen gewon­nen werden. \nDas detail­lier­te Pro­gramm gibt es auf skin-festival.com und auf Face­book.
URL:https://8maerz.at/veranstaltung/skin-performance-festival-4/
LOCATION:Dschungel Wien\, Museumsplatz 1\, Wien\, 1070
GEO:48.2026499;16.3591421
X-APPLE-STRUCTURED-LOCATION;VALUE=URI;X-ADDRESS=Dschungel Wien Museumsplatz 1 Wien 1070;X-APPLE-RADIUS=500;X-TITLE=Museumsplatz 1:geo:16.3591421,48.2026499
END:VEVENT
BEGIN:VEVENT
DTSTART;VALUE=DATE:20230308
DTEND;VALUE=DATE:20230401
DTSTAMP:20260421T163648
CREATED:20230308T180438Z
LAST-MODIFIED:20230308T180607Z
UID:10004034-1678233600-1680307199@8maerz.at
SUMMARY:„Daughters“ - Ausstellung zum Frauentag 2023
DESCRIPTION:Die klei­ne gale­rie lädt zur Ausstellung: \nDAUGHTERS\nLINDE WABER • NINA MARON • AZADEH VAZIRI • LAURA WEGSCHEIDER • JULIA FROMM • PAULINE MARCELLE \nAus­stel­lung anläss­lich des Frau­en­tags 2023 ♀ ♀\nVer­nis­sa­ge: Mitt­woch\, 8. März 2023\, 19 Uhr \nZu den Wer­ken: Mag.a Bar­ba­ra Mit­h­lin­ger\, Lei­te­rin klei­ne galerie\nEröff­nung: Patri­cia Ander­le\, Abge­ord­ne­te zum Wie­ner Land­tag und Gemeinderat \nFrei­tag\, 24. März 2023: Fan­ny Sor­go – Per­for­ma­ti­ve Lesung im Rah­men der Ausstellung. \nDie Aus­stel­lung ist bis ein­schließ­lich Frei­tag 31.3.2023 zu sehen.
URL:https://8maerz.at/veranstaltung/daughters-ausstellung-zum-frauentag-2023/
LOCATION:kleine galerie\, Kundmanngasse 30\, 1030\, Wien\, Österreich
END:VEVENT
BEGIN:VEVENT
DTSTART;TZID=Europe/Vienna:20230313T180000
DTEND;TZID=Europe/Vienna:20230313T200000
DTSTAMP:20260421T163648
CREATED:20230309T224754Z
LAST-MODIFIED:20230309T224754Z
UID:10004037-1678730400-1678737600@8maerz.at
SUMMARY:Gender Talk: Decolonial Feminism
DESCRIPTION:GENDER TALK on March 13th 2023 at 6 p.m.: \nLec­tu­re and con­ver­sa­ti­on around the book Deco­lo­ni­al femi­nism in Abya Yala: Carib­be­an\, Meso\, and South Ame­ri­can con­tri­bu­ti­ons and challenges\n(co-edi­ted by Yuder­kys Espi­no­sa Miño­so\, María Lugo­nes and Nel­son Maldonado-Torres) \nLec­tu­re by Yuder­kys Espi­no­sa Miño­so (in Spa­nish; Eng­lish trans­la­ti­on by Danie­la Pare­des Gri­jal­va)\, fol­lo­wed by a short lec­tu­re by Lia Kastiyo-Spinósa. \nMarch 13th\, at 6 p.m.\, Room M13a\, Aka­de­mie der bil­den­den Küns­te Wien\, Schil­ler­platz 3\, 1010 Wien \nOrga­ni­siert und finan­ziert durch das Refe­rat Gen­der­for­schung der Uni­ver­si­tät Wien (Sus­hi­la Mes­qui­ta) und den Arbeits­kreis für Gleich­be­hand­lungs­fra­gen\, das Insti­tut für Kunst- und Kul­tur­wis­sen­schaf­ten und das Insti­tut für bil­den­de Kunst der Aka­de­mie der bil­de­ten Küns­te Wien (Pet­ja Dimit­ro­va\, Moira Hil­le\, Ruth Sonderegger).
URL:https://8maerz.at/veranstaltung/gender-talk-decolonial-feminism/
LOCATION:Akademie der bildenden Künste Wien\, Lehárgasse 6-8\, Wien\, Wien\, 1060\, Österreich
END:VEVENT
END:VCALENDAR