BEGIN:VCALENDAR
VERSION:2.0
PRODID:-//8. März - ECPv6.15.20//NONSGML v1.0//EN
CALSCALE:GREGORIAN
METHOD:PUBLISH
X-ORIGINAL-URL:https://8maerz.at
X-WR-CALDESC:Veranstaltungen für 8. März
REFRESH-INTERVAL;VALUE=DURATION:PT1H
X-Robots-Tag:noindex
X-PUBLISHED-TTL:PT1H
BEGIN:VTIMEZONE
TZID:Europe/Vienna
BEGIN:DAYLIGHT
TZOFFSETFROM:+0100
TZOFFSETTO:+0200
TZNAME:CEST
DTSTART:20210328T010000
END:DAYLIGHT
BEGIN:STANDARD
TZOFFSETFROM:+0200
TZOFFSETTO:+0100
TZNAME:CET
DTSTART:20211031T010000
END:STANDARD
BEGIN:DAYLIGHT
TZOFFSETFROM:+0100
TZOFFSETTO:+0200
TZNAME:CEST
DTSTART:20220327T010000
END:DAYLIGHT
BEGIN:STANDARD
TZOFFSETFROM:+0200
TZOFFSETTO:+0100
TZNAME:CET
DTSTART:20221030T010000
END:STANDARD
BEGIN:DAYLIGHT
TZOFFSETFROM:+0100
TZOFFSETTO:+0200
TZNAME:CEST
DTSTART:20230326T010000
END:DAYLIGHT
BEGIN:STANDARD
TZOFFSETFROM:+0200
TZOFFSETTO:+0100
TZNAME:CET
DTSTART:20231029T010000
END:STANDARD
END:VTIMEZONE
BEGIN:VEVENT
DTSTART;TZID=Europe/Vienna:20220304T150000
DTEND;TZID=Europe/Vienna:20220304T160000
DTSTAMP:20260424T152231
CREATED:20220221T232323Z
LAST-MODIFIED:20220221T232603Z
UID:10003897-1646406000-1646409600@8maerz.at
SUMMARY:Weltfrauen*tag - Lesung und Polit-Talk
DESCRIPTION:Anläss­lich des Weltfrauen*tages 2022 laden die Neu­bau­er Grü­nen zu einer Lesung mit der Autorin Ulri­ke Hai­dach­er und anschlie­ßen­dem poli­ti­schen Talk mit den Poli­ti­ke­rin­nen Meri Diso­ski und Vik­to­ria Spielmann.\nWir ver­wan­deln den Sie­ben­stern­platz in eine Büh­ne für Frauen*! \nDie Autorin Ulri­ke Hai­dach­er ist Teil des mehr­fach aus­ge­zeich­ne­ten Thea­ter­ka­ba­rett Duos „Flüs­ter­zwei­eck“ und liest aus ihrem kürz­lich erschie­ne­nen Roman „Die Par­ty- eine Ein­krei­sung“ – mit vie­len wun­der­voll skur­ri­len Dis­kus­sio­nen über Feminismus. \nNach die­ser humor­vol­len Annä­he­rung dis­ku­tie­ren wir mit den Poli­ti­ke­rin­nen Meri Diso­ski und Vik­to­ria Spiel­mann zur aktu­el­len frau­en­po­li­ti­schen Lage. Lacht und redet mit! \nIm Anschluss laden wir zu per­sön­li­chem Aus­tausch bei klei­nen Köstlichkeiten.\nWir freu­en uns rie­sig\, euch #Muschik­raft-Bier von Anna Sophie Tschan­nett anbie­ten zu können. \nMit:\nUlri­ke Hai­dach­er – Autorin und Kabarettistin\nMeri Diso­ski – Abge­ord­ne­te zum Natio­nal­rat\, Spre­che­rin für Frau­en* und Gleichstellung\nVik­to­ria Spiel­mann – Wie­ner Gemein­de­rä­tin\, Spre­che­rin der Grü­nen Frau­en Wien\nEröff­nung: Isa­bel­le Uhl\, Bezirksvorsteher-Stellvertreterin \nMode­ra­ti­on: Tina Wirns­ber­ger und Anna Bab­ka\, Bezirks­rä­tin­nen Neubau \nWo: Sie­ben­stern­platz\, 1070\nWann: Fr\, 4.3.2022\, von 15.00 bis 16.00 Uhr
URL:https://8maerz.at/veranstaltung/weltfrauentag-lesung-und-polit-talk/
LOCATION:Siebensternplatz\, Siebensternplatz\, Wien\, Wien\, 1070\, Österreich
END:VEVENT
BEGIN:VEVENT
DTSTART;TZID=Europe/Vienna:20220307T180000
DTEND;TZID=Europe/Vienna:20220307T200000
DTSTAMP:20260424T152231
CREATED:20220305T124733Z
LAST-MODIFIED:20220305T124733Z
UID:10003682-1646676000-1646683200@8maerz.at
SUMMARY:"Frauengeschichten. Lesung wider die Gewalt"
DESCRIPTION:Mon­tag\, 7. März 2022\, um 18.00 Uhr im Gro­ßen Redou­ten­saal der Hof­burg sowie im Live­stream in der Media­thek des Parlaments \nAm Vor­abend des Welt­frau­en­tags\, wel­cher sich am 8. März zum 111. Mal jährt\, lädt Zwei­te Natio­nal­rats­prä­si­den­tin Doris Bures zur Ver­an­stal­tung „Frau­en­ge­schich­ten. Lesung wider die Gewalt“ ins Par­la­ment in die Hof­burg. Jede fünf­te Frau in Öster­reich ist laut Auf­zeich­nun­gen des Ver­eins Auto­no­me Öster­rei­chi­sche Frau­en­häu­ser (AÖF) von kör­per­li­cher und/oder sexu­el­ler Gewalt betrof­fen. Den Opfern soll mit der Ver­an­stal­tung eine Stim­me gege­ben sowie die Auf­merk­sam­keit für die Pro­ble­ma­tik geschärft werden. \nFür die künst­le­ri­sche Gestal­tung sowie die Mode­ra­ti­on der Ver­an­stal­tung zeigt sich Schrift­stel­le­rin Julya Rabi­no­wich ver­ant­wort­lich. Ihr viel­be­ach­te­ter Jugend­ro­man „Hin­ter Glas“ gibt Ein­bli­cke in die Facet­ten einer Gewalt­be­zie­hung und die Geschich­te einer Eman­zi­pa­ti­on. Die Lesung aus­ge­wähl­ter Tex­te zum The­ma Gewalt gegen Frau­en wird von den Ensem­ble­mit­glie­dern des Burg­thea­ters Doro­thee Har­tin­ger\, Dör­te Lys­sew­ski und Sabi­ne Haupt durch­ge­führt. Tex­te aus „Die gel­be Stra­ße“ von Veza Canet­ti und „Blaue Frau“ von Ant­je Rávik-Stru­bel zei­gen die Lebens­rea­li­tät von Frau­en\, die Gewalt erfah­ren haben. \nDie Ver­an­stal­tung wird ab 18.00 Uhr live aus dem Gro­ßen Redou­ten­saal der Hof­burg auf der Web­site des Par­la­ments über­tra­gen und in der Media­thek des Par­la­ments abruf­bar sein. \nVer­an­stal­tung: „Frau­en­ge­schich­ten. Lesung wider die Gewalt“ zum Inter­na­tio­na­len Weltfrauentag\nZeit: Mon­tag\, 7. März 2022\, 18 Uhr\, im Gro­ßen Redou­ten­saal\, Par­la­ment in der Hofburg \nAnmel­dung und Teilnahmebedingungen:\nVer­tre­te­rin­nen und Ver­tre­ter der Medi­en sind herz­lich ein­ge­la­den und kön­nen sich unter medienservice@parlament.gv.at anmel­den. Für den Zutritt zu Par­la­ments­ge­bäu­den gilt grund­sätz­lich die 3G-Rege­lung sowie FFP2-Mas­ken­pflicht. Bit­te infor­mie­ren Sie sich kurz vor der Ver­an­stal­tung auf der Web­site des Par­la­ments über die aktu­el­len Zutrittsbedingungen.
URL:https://8maerz.at/veranstaltung/frauengeschichten-lesung-wider-die-gewalt/
LOCATION:Ausweichquartier Hofburg\, Josefsplatz 2\, Wien\, Wien\, 1010\, Österreich
END:VEVENT
BEGIN:VEVENT
DTSTART;TZID=Europe/Vienna:20220308T080000
DTEND;TZID=Europe/Vienna:20220308T203000
DTSTAMP:20260424T152231
CREATED:20220227T195457Z
LAST-MODIFIED:20220227T195829Z
UID:10003662-1646726400-1646771400@8maerz.at
SUMMARY:Frauentag im Wiener Rathaus
DESCRIPTION:Pro­gramm: \n8 bis 17 Uhr: The­men­tag im Frau­en­zen­trum: Psy­chi­sche Gesundheit\n16.30 Uhr: Work­shop­an­ge­bot zu ver­schie­de­nen Themen\n17.30 Uhr: Lesung Christl Clear\n18.30 Uhr: Kaba­rett Nad­ja Maleh \nganz­tä­gig (online): Pio­nie­rin­nen­ga­le­rie im Arkadenhof\nganz­tä­gig (online): Audio – Füh­rung „Wege der Frau­en durchs Rathaus“\nDie Lesung und das Kaba­rett wer­den in Gebär­den­dol­metsch über­setzt. Einen Link zur Live-Über­tra­gung der Ver­an­stal­tung fin­den Sie am 8. März hier. \nPro­gramm­de­tails sie­he https://frauenbefragung.wien.gv.at/programm \nThementag „Psychische Gesundheit“ im Frauenzentrum\nKos­ten­lo­se tele­fo­ni­sche Erst­be­ra­tung über Wege zum psy­chi­schen Wohlbefinden\nTer­min: 8. März 2022\, 8 bis 17 Uhr\nTele­fon: +43 1 408 70 66 \nIm Leben von Frau­en kommt es manch­mal zu Pha­sen\, die beson­ders her­aus­for­dernd oder sogar belas­tend erlebt werden.\nUnter­stüt­zung wird vie­ler­orts ange­bo­ten: Es gibt bei­spiels­wei­se Bera­tung\, Psy­cho­the­ra­pie und fach­ärzt­li­che Sprechstunden.\nAber wel­ches Ange­bot ist das pas­sen­de für mich? Was ist der Unter­schied in der Arbeit von Psy­cho­lo­gin­nen\, Psy­cho­the­ra­peu­tin­nen und Psychiaterinnen?\nIm Stadt Wien – Frau­en­zen­trum wid­men sich am 8. März 2022 Kli­ni­sche Psy­cho­lo­gin­nen und Gesund­heits­psy­cho­lo­gin­nen ganz beson­ders die­sen Fra­gen. Las­sen Sie sich am Tele­fon umfas­send infor­mie­ren und erar­bei­ten im Rah­men eines psy­cho­lo­gi­schen Bera­tungs­ge­sprä­ches Wege zu ihrem indi­vi­du­el­len psy­chi­schen Wohlbefinden. \nDas Ange­bot im Stadt Wien – Frau­en­zen­trum ist anonym\, ver­trau­lich und kostenlos.
URL:https://8maerz.at/veranstaltung/frauentag-im-wiener-rathaus/
LOCATION:Rathaus\, Friedrich-Schmidt-Platz 1\, Wien\, 1010
GEO:48.2109437;16.3565084
X-APPLE-STRUCTURED-LOCATION;VALUE=URI;X-ADDRESS=Rathaus Friedrich-Schmidt-Platz 1 Wien 1010;X-APPLE-RADIUS=500;X-TITLE=Friedrich-Schmidt-Platz 1:geo:16.3565084,48.2109437
END:VEVENT
BEGIN:VEVENT
DTSTART;TZID=Europe/Vienna:20220308T190000
DTEND;TZID=Europe/Vienna:20220308T210000
DTSTAMP:20260424T152231
CREATED:20220304T224232Z
LAST-MODIFIED:20220304T224343Z
UID:10003679-1646766000-1646773200@8maerz.at
SUMMARY:Sorority x Die Buch: "Irgendwann geht auch das vorbei." mit Pamela Russmann
DESCRIPTION:Lesungs­ge­spräch \nAm femi­nis­ti­schen Kampf­tag laden der Ver­ein Soro­ri­ty und Die Buch zu einem Lesungs­ge­spräch mit der Autorin und Foto­gra­fin Pame­la Russ­mann. Gemein­sam bli­cken wir hin­ter die Kulis­sen ihres Buches “Irgend­wann geht auch das vor­bei” (Ley­kam\, 2022) und spre­chen dar­über\, wie Frau­en die Pan­de­mie erleben. \nDie Ver­an­stal­tung wird anschlie­ßend als Pod­cast­fol­ge veröffentlicht. \nWann? 8.3.2022\, 19 Uhr\nWo? Shali­mar\, Schmalz­hof­gas­se 11\, 1060 Wien \nAnmel­dung via Event­bri­te und 2G+ erforderlich. \nÜber Die Buch. Der femi­nis­ti­sche Buch­pod­cast:\nDie Buch ist ein Pod­cast über Bücher von Frau­en aus einer femi­nis­ti­schen Per­spek­ti­ve. Zwei­mal im Monat plau­dern Julia und Sophia über groß­ar­ti­ge Lite­ra­tur aus aller Welt\, inter­view­en Autorin­nen und Femi­nis­tin­nen. Ihre Fol­gen han­deln von Flucht und Kolo­nia­lis­mus\, von Femi­nis­mus und der Kli­ma­kri­se\, von Fami­lie und Sexua­li­tät. Die ein­zi­ge Ein­schrän­kung: Die Bücher müs­sen von Frau­en geschrie­ben wor­den sein. Damit wol­len sie zei­gen\, Frau­en schrei­ben nicht nur über “Frau­en­the­men”\, son­dern Frau­en schrei­ben über alle Themen.
URL:https://8maerz.at/veranstaltung/sorority-x-die-buch-irgendwann-geht-auch-das-vorbei-mit-pamela-russmann/
LOCATION:Shalimar\, Schmalzhofgasse 11\, Wien\, Wien\, 1060\, Österreich
ORGANIZER;CN="Sorority":MAILTO:solidarity@sorority.at
END:VEVENT
BEGIN:VEVENT
DTSTART;TZID=Europe/Vienna:20220308T190000
DTEND;TZID=Europe/Vienna:20220308T210000
DTSTAMP:20260424T152231
CREATED:20220308T165720Z
LAST-MODIFIED:20220308T165720Z
UID:10003932-1646766000-1646773200@8maerz.at
SUMMARY:Matriarchat und Staatskunst: mit Mieze Medusa und Dominika Meindl
DESCRIPTION:aus der Rei­he „Wir fei­ern Femi­nis­mus“ – Ver­an­stal­tun­gen rund um den 8. März der Büche­rei­en Wien \nSeit einem Jahr herrscht in der Bun­des­re­pu­blik Öster­reich das Matri­ar­chat. Aus­ge­ru­fen wur­de es von der seit 2017 amtie­ren­den Prä­si­den­tin Domi­ni­ka Meindl. Da sie auf­grund ihrer umfang­rei­chen Herr­sche­rin­nen­tä­tig­kei­ten selbst kaum noch dazu kommt\, ihrem »Brot«beruf nach­zu­ge­hen\, ernennt sie von nun an jähr­lich eine Groß- und Staats­künst­le­rin. Den Beginn macht – wenig über­ra­schend! – Mie­ze Medu­sa\, die Pio­nie­rin der öster­rei­chi­schen Slam-Poet­ry. »Die Kunst ist frei\, aber wenn sie nicht dem Matri­ar­chat dient\, kann sie nichts Gschei­tes sein«\, sagt Meindl. Am 8. März prä­sen­tiert Medu­sa ihr Oeu­vre dem Volk\, im Anschluss wird es zum Gespräch kommen. \nMie­ze Medu­sa ist Autorin\, Poet­ry Slam­me­rin und Rap­pe­rin. Zuletzt erschie­nen ist ihr Roman »Du bist dran«. Die Lie­be zu Rap ist in allen Text spür­bar: Die Tex­te sind bild­haft\, sprachmächtig\,\nsti­lis­tisch sou­ve­rän und immer im Flow. \nDomi­ni­ka Meindl ist seit 2017 selbst­er­nann­te Bun­des­prä­si­den­tin von Öster­reich. In ihrer Frei­zeit ist sie Schrift­stel­le­rin und Lei­te­rin der »Ori­gi­nal Lin­zer Wor­te«\, der dienst­äl­tes­ten Lese­büh­ne des Lan­des. Spre­che­rin der GAV OÖ.
URL:https://8maerz.at/veranstaltung/matriarchat-und-staatskunst-mit-mieze-medusa-und-dominika-meindl/
LOCATION:Hauptbücherei Wien\, Urban-Loritzplatz 2a\, Wien\, Wien\, 1070\, Österreich
GEO:48.203018;16.3372142
X-APPLE-STRUCTURED-LOCATION;VALUE=URI;X-ADDRESS=Hauptbücherei Wien Urban-Loritzplatz 2a Wien Wien 1070 Österreich;X-APPLE-RADIUS=500;X-TITLE=Urban-Loritzplatz 2a:geo:16.3372142,48.203018
END:VEVENT
BEGIN:VEVENT
DTSTART;TZID=Europe/Vienna:20220309T190000
DTEND;TZID=Europe/Vienna:20220309T210000
DTSTAMP:20260424T152231
CREATED:20220126T212336Z
LAST-MODIFIED:20220126T212558Z
UID:10003612-1646852400-1646859600@8maerz.at
SUMMARY:KRISEN.FEST Lesung zum Frauentag
DESCRIPTION:*KRISEN.FEST*\nFeministische Lesung zum Frauentag.\nEs lesen Regi­na Hil­ber\, Clau­dia Bryck\, Eva Schörk­hu­ber\, Zden­ka Becker\, Bär­bel Dan­ne­berg\, Elis Rot­ter und Doris Nussbaumer\nMode­ra­ti­on: Hel­ga Pregesbauer \nWäh­rend wir genug von Kri­sen haben darf den­noch gefragt wer­den\, was ist eigent­lich der Spaß dar­an? Wie wer­den wir kri­sen­fest? Wie macht mensch Fes­te aus und in der Kri­se? Bei der dies­jäh­ri­gen Lesung zum Frau­en­tag fragt sich also Regi­na Hil­ber\, wie man toxi­sche Männ­lich­keit in Empa­thie umwan­deln kann – an nichts weni­ger als dem Bei­spiel eines Fußballclubs. \nClau­dia Bryck beschreibt das Innen­le­ben der Lebens­ge­fähr­tin eines Asly­wer­bers. Doris Nuss­bau­mer erzählt von lau­ten\, jun­gen wie auch alten Mäd­chen und Frau­en\, die still oder unver­schämt selbst ihre Kri­sen lösen – und die der ande­ren. Bär­bel Dan­ne­berg beschreibt das Zusam­men­le­ben. Eva Schörk­hu­ber liest einen Aus­zug aus ihrem neu­en Roman „Die Geris­se­ne“ und Elis Rot­ter lie­fert uns eine Überraschung.
URL:https://8maerz.at/veranstaltung/krisenfest-lesung-zum-frauentag/
LOCATION:Literaturhaus Wien\, Zieglergasse 26a\, Wien\, 1070\, Österreich
END:VEVENT
BEGIN:VEVENT
DTSTART;TZID=Europe/Vienna:20220309T201500
DTEND;TZID=Europe/Vienna:20220309T220000
DTSTAMP:20260424T152231
CREATED:20220305T143901Z
LAST-MODIFIED:20220305T144011Z
UID:10003686-1646856900-1646863200@8maerz.at
SUMMARY:Performance und Talk: Humor und Feminismus
DESCRIPTION:Per­for­man­ces & Talk mit Ste­fa­nie Sarg­na­gel\, Denice Bour­bon\, Shahrzad Nazar­pour\, Bere­nice Pahl\, Bet­ti­na Zehetner\nMode­riert von Corin­ne Eckenstein \nIn dem von der Humor­wis­sen­schaf­te­rin Bere­nice Pahl kon­zi­pier­ten per­for­ma­ti­ven Talk wird das Ver­hält­nis von Per­for­mance\, femi­nis­ti­schem Wider­stand\, Humor und Lachen beleuch­tet. Dazu prä­sen­tie­ren Ste­fa­nie Sarg­na­gel\, Denice Bour­bon und Shahrzad Nazar­pour künst­le­ri­sche Arbei­ten\, bevor sie in einem inter­ak­ti­ven Panel auf Per­so­nen aus Poli­tik\, Akti­vis­mus und Psy­cho­lo­gie treffen. \nEin­tritts­preis: Jugend­li­che € 10\,00 / Erwach­se­ne € 12\,00 \nWer zu wenig Koh­le hat\, reser­viert bzw. fragt an der Kas­sa nach einer Paten­schafts­kar­te. Die­se wird aus der Kul­tur­pa­ten­schaft finan­ziert und ist für die Besucher:innen kostenlos. \nFin­det im Rah­men des Skin-Fes­ti­vals statt.
URL:https://8maerz.at/veranstaltung/performance-und-talk-humor-und-feminismus/
LOCATION:Dschungel Wien\, Museumsplatz 1\, Wien\, 1070
GEO:48.2026499;16.3591421
X-APPLE-STRUCTURED-LOCATION;VALUE=URI;X-ADDRESS=Dschungel Wien Museumsplatz 1 Wien 1070;X-APPLE-RADIUS=500;X-TITLE=Museumsplatz 1:geo:16.3591421,48.2026499
END:VEVENT
BEGIN:VEVENT
DTSTART;TZID=Europe/Vienna:20220310T190000
DTEND;TZID=Europe/Vienna:20220310T210000
DTSTAMP:20260424T152231
CREATED:20220308T220023Z
LAST-MODIFIED:20220308T220023Z
UID:10003935-1646938800-1646946000@8maerz.at
SUMMARY:Buchpräsentation: "Mich hat nicht gewundert\, dass sie auf Mädchen steht."
DESCRIPTION:Lisa Boly­os\, Caro­li­na Frank:\nMich hat nicht gewun­dert\, dass sie auf Mäd­chen steht. Gesprä­che mit Eltern quee­rer Kinder\nAch­se Ver­lag 2021\, 280 Sei­ten\, 20 Euro\, ISBN 978−3−9504831−9−2 \nWie erle­ben Eltern das Coming-out ihrer les­bi­schen\, schwu­len\, bise­xu­el­len\, tran­si­den­ten\, inter­ge­schlecht­li­chen\, nicht-binä­ren Kin­der? War es immer schon klar\, kommt es uner­war­tet? Was irri­tiert\, was ver­un­si­chert die Eltern\, und auf wel­che Res­sour­cen kön­nen sie zurück­grei­fen\, um ihre Kin­der zu unterstützen? \nIn 18 Por­träts wid­men sich die Autorin Lisa Boly­os und die Foto­gra­fin Caro­li­na Frank der Eltern­per­spek­ti­ve aufs Coming-out von schwu­len\, les­bi­schen\, bise­xu­el­len\, trans*\, inter und non­bi­nä­ren Kindern. \nBuch­prä­sen­ta­ti­on in der WIENXTRA-Kinderinfo.\n10.03.2022\, 19:00\, Wien\nMuseumsQuartier/Hof 2\, Muse­ums­platz 1\, 1070 Wien \nLesung\, Gespräch & Dis­kus­si­on mit den Autor:innen \nEin­tritt frei
URL:https://8maerz.at/veranstaltung/buchpraesentation-mich-hat-nicht-gewundert-dass-sie-auf-maedchen-steht/
LOCATION:WIENXTRA-Kinderinfo\, MuseumsQuartier/Hof 2\, Museumsplatz 1\, Wien\, Wien\, 1070\, Österreich
END:VEVENT
BEGIN:VEVENT
DTSTART;TZID=Europe/Vienna:20220310T193000
DTEND;TZID=Europe/Vienna:20220310T213000
DTSTAMP:20260424T152231
CREATED:20220305T140851Z
LAST-MODIFIED:20220309T204355Z
UID:10003684-1646940600-1646947800@8maerz.at
SUMMARY:***ABGESAGT*** Legends of Entertainment
DESCRIPTION:mit Denice Bour­bon\, Ste­fa­nie Sarg­na­gel und Chris­tia­ne Rösinger \nDo\, 10.03.2022\, 19:30\nTickets: EUR 28\,– / 23\,– / 18\,–\nTicket-Link \nEin schil­lern­der Abend mit drei unglei­chen Super­stars\, ver­eint durch die Lie­be zur gepfleg­ten Abend­un­ter­hal­tung. Denice Bour­bon\, der auf­ge­hen­de\, les­bi­sche Stern am Stand-up-Him­mel\, Chris­tia­ne Rösin­ger\, legen­dä­re Ber­li­ner Song­wri­te­rin und Galais­tin und Ste­fa­nie Sarg­na­gel\, Kult­poe­tin aus der Wie­ner Vor­stadt­knei­pe\, tre­ten zum ers­ten Mal gemein­sam auf einer Büh­ne auf. Jede für sich ein Hit\, sind sie im Trio eine Naturgewalt.
URL:https://8maerz.at/veranstaltung/legends-of-entertainment/
LOCATION:Volkstheater\, Arthur-Schnitzler-Platz 1\, Wien\, Wien\, 1070\, Österreich
END:VEVENT
BEGIN:VEVENT
DTSTART;TZID=Europe/Vienna:20220311T180000
DTEND;TZID=Europe/Vienna:20220311T200000
DTSTAMP:20260424T152231
CREATED:20220309T204726Z
LAST-MODIFIED:20220309T204821Z
UID:10003936-1647021600-1647028800@8maerz.at
SUMMARY:Lesung: Wimpernschlag – Kahlschlag
DESCRIPTION:Im Rah­men des inter­na­tio­na­len Frau­en­ta­ges­fin­det in den Räu­men der Frau­en­hetz eine Lesung der Schreib­grup­pen­teil­neh­me­rin­nen der IG femi­nis­ti­sche Autorin­nen und Sprach­Kunst statt. \nEs lesen:\nGer­lin­de Hacker: Schrift­stel­le­rin\, Lite­ra­tur­ak­ti­vis­tin\, Mul­ti-Media-Künst­le­rin\, Prä­si­den­tin der IG fem\, SprachKunst\nDoro­thea Point­ner: Autorin\, Publi­ka­ti­on von Lyrik und Kurz­pro­sa in diver­sen Medi­en\, zahl­rei­che Lesun­gen\, Mit­be­grün­de­rin IG fem\nWal­traud Schopf-Suchy: Thea­ter- und Dra­ma­päd­ago­gin\, Mit­glied IG fem\, Autorin (Lyrik\, Kurz­pro­sa\, Dramolette)\nJas­min Gerst­mayr: Autorin\, per­for­med Dia­lekt­ly­rik u.a. bei Poet­ry-Slams\, Unter­stüt­ze­rin der IG fem\nGer­da Sengst­bratl: Autorin\, Femi­nis­ti­sche Päd­ago­gik\, Schrei­ben mit Jugend­li­chen\, Mühl­vier­tel-Wald­vier­tel\, Gale­rie: MÜWA\, Aus­stel­lun­gen\, Krea­ti­ves Schrei­ben-Kur­se\, Lesun­gen. Malt auch. \nEine Ver­an­stal­tung der IG femi­nis­ti­sche Autorin­nen in Koope­ra­ti­on mit der Frau­en­hetz und SprachKunst. \nOrt Frau­en­hetz\, Unte­re Weiß­ger­ber­stra­ße 41\, 1030 Wien \nAnmel­dung: news@igfem.at\nEs gel­ten die der­zei­ti­gen Corona-Maßnahmen.
URL:https://8maerz.at/veranstaltung/lesung-wimpernschlag-kahlschlag/
LOCATION:Frauenhetz\, Untere Weißgerberstraße 41\, Wien\, 1030
GEO:48.2084854;16.3946163
X-APPLE-STRUCTURED-LOCATION;VALUE=URI;X-ADDRESS=Frauenhetz Untere Weißgerberstraße 41 Wien 1030;X-APPLE-RADIUS=500;X-TITLE=Untere Weißgerberstraße 41:geo:16.3946163,48.2084854
END:VEVENT
BEGIN:VEVENT
DTSTART;TZID=Europe/Vienna:20220316T180000
DTEND;TZID=Europe/Vienna:20220316T200000
DTSTAMP:20260424T152231
CREATED:20220130T220838Z
LAST-MODIFIED:20220130T220955Z
UID:10003859-1647453600-1647460800@8maerz.at
SUMMARY:Buchpräsentation: „Die Erschöpfung der Frauen“
DESCRIPTION:Online-Buchpräsentation:\nDie Erschöpfung der Frauen. Wider die weibliche Verfügbarkeit\nmit Autorin Fran­zis­ka Schutzbach\nonline via Zoom\nMi.\, 16. März 2022 um 18:00 Uhr \nFrau­en haben heu­te angeb­lich so vie­le Ent­schei­dungs­mög­lich­kei­ten wie nie zuvor. Und sind gleich­zei­tig so erschöpft wie nie zuvor. Denn nach wie vor wird von ihnen ver­langt\, per­ma­nent ver­füg­bar zu sein. Die Geschlech­ter­for­sche­rin Fran­zis­ka Schutz­bach schreibt über ein Sys­tem\, das von Frau­en alles erwar­tet und nichts zurück­gibt – und dar­über\, wie Frau­en sich dage­gen auf­leh­nen und alles ver­än­dern: ihr Leben und die Gesellschaft. \nIn unse­rer Gesell­schaft wird Weib­lich­keit gleich­ge­setzt mit Für­sorg­lich­keit. Frau­en sind\, ob in der Fami­lie\, in Bezie­hun­gen oder im Beruf\, zustän­dig für emo­tio­na­le Zuwen­dung\, für Har­mo­nie\, Trost und Bezie­hungs­ar­beit – für Tätig­kei­ten also\, die unsicht­bar sind und kaum Aner­ken­nung oder Bezah­lung erfah­ren. Sie „schul­den“ ande­ren – der Fami­lie\, den Män­nern\, der Öffent­lich­keit\, dem Arbeits­platz – ihre Auf­merk­sam­keit\, ihre Lie­be\, ihre Zuwen­dung\, ihre Attrak­ti­vi­tät\, ihre Zeit. Und kämp­fen jeden Tag gegen emo­tio­na­le und sexu­el­le Verfügbarkeitserwartungen. \nEs sind die­se all­ge­gen­wär­ti­gen Ansprü­che\, die Frau­en in die Erschöp­fung trei­ben. Denn – dekla­riert als „weib­li­che Natur“ – ist die geleis­te­te Sor­ge­ar­beit meist wenig aner­kannt und bleibt unsicht­bar. Sie gilt öko­no­misch als irrele­vant und ist gera­de des­halb aus­beut­bar. Das Buch zeigt\, dass die Ver­füg­bar­keits­an­sprü­che für unter­schied­li­che Frau­en Unter­schied­li­ches bedeu­ten: Ob als Müt­ter oder als Mäd­chen\, ob als schwar­ze oder wei­ße Frau­en\, als Migran­tin\, Trans- oder non binä­re Per­son\, als dicke oder les­bi­sche Frau\, ob im Dienst­leis­tungs­sek­tor\, in Pfle­ge­be­ru­fen oder in der digi­ta­len (Selbst-)Vermarktung\, ob als Poli­ti­ke­rin oder Künst­le­rin – die Ver­aus­ga­bung hat unter­schied­li­che Aus­ma­ße und unter­schied­li­che Ursachen. \nDie Geschlech­ter­for­sche­rin Fran­zis­ka Schutz­bach wen­det sich gegen ein miso­gy­nes Sys­tem\, das von Frau­en alles erwar­tet und nichts zurück­gibt. Und sie zeigt in ihrem im Okto­ber 2021 im Ver­lag Droe­mer erschie­ne­nen Buch\, welch viel­fäl­ti­gen Wider­stand Frau­en gegen die Aus­beu­tung ihrer Ener­gie\, ihrer Psy­che und ihrer Kör­per leis­ten. Ein Wider­stand\, der zu einer trei­ben­den Kraft für neue Arbeits- und Lebens­wei­sen wird und die Welt verändert. \nAnmel­dung per E‑Mail an stmk@mehr-fuer-care.at an\, damit recht­zei­tig der Link für das Zoom-Mee­ting zuge­schickt wer­den kann.
URL:https://8maerz.at/veranstaltung/buchpraesentation-die-erschoepfung-der-frauen/
LOCATION:Online\, Wien\, Österreich
END:VEVENT
BEGIN:VEVENT
DTSTART;TZID=Europe/Vienna:20220331T180000
DTEND;TZID=Europe/Vienna:20220331T200000
DTSTAMP:20260424T152232
CREATED:20220321T175736Z
LAST-MODIFIED:20220321T175840Z
UID:10003943-1648749600-1648756800@8maerz.at
SUMMARY:Lesung und Poetry Slam: "Und wie wir hassen" mit Lydia Haider\, Judith Goetz und Mieze Medusa
DESCRIPTION:Die Grü­nen Frau­en Wien und die Grü­ne Bil­dungs­werk­statt Wien laden im Rah­men des Frau­en­mo­nats März zu einem befrei­en­den Abend gegen Frau­en­hass ein. Frau­en sei­en beson­nen und diplo­ma­tisch – so sagt man(n) – Lydia Hai­der aber ver­sam­melt als Her­aus­ge­be­rin des Sam­mel­bands „Und wie wir has­sen!“ Hass- und Wut­re­den von 15 Autorin­nen gegen das Patri­ar­chat\, sei­ne ver­gif­ten­den Aus­wir­kun­gen und gegen die poli­ti­sche Lage. Die Dem­ago­gen und Hetz­red­ner unse­rer Zeit wer­den aus­ein­an­der­ge­nom­men und die Dyna­mik des Has­ses ent­larvt. Ein lite­ra­ri­scher Befrei­ungs­schlag gegen Frau­en­hass! Umrun­det wird die Lesung von der Poet­ry Slam­me­rin Mie­ze Medusa. \nMode­ra­ti­on: Katha­ri­na Serles \nIm Anschluss dis­ku­tiert unse­re Frau­en­spre­che­rin Vik­to­ria Spiel­mann mit den Autorin­nen dar­über wie wir patri­ar­cha­le Struk­tu­ren auf­bre­chen und voll­stän­di­ge Gleich­stel­lung errei­chen können. \nWann: Don­ners­tag 31.3.2022\, 18–20 Uhr\nWo: Top Kino\, Rahl­gas­se 1\, 1060 Wien \nAuf­grund der beschränk­ten Teilnehmer*innenzahl bit­te um Anmel­dung bei gruene.frauen.wien@gruene.at \nEs gilt die Mas­ken­pflicht und 2G+\nOpen for all genders. \n- Lydia Hai­der ist Her­aus­ge­be­rin des Sam­mel­bands „Und wie wir has­sen!“\, Autorin der Roma­ne »rot­ten« und »Kon­gre­ga­ti­on«\, des Thea­ter­stücks „Am Ball. Wider schwach­sin­ni­ge Erb­lich­keit“ urauf­ge­führt im Schau­spiel­haus\, Haus­au­torin des Wie­ner Volks­thea­ters und Bachmann-Publikumspreisträgerin. \n- Judith Goetz ist Autorin und Wis­sen­schaf­te­rin\, die zu Rechts­extre­mis­mus und Geschlecht forscht\, Mit­glied der For­schungs­grup­pe Ideo­lo­gien und Poli­ti­ken der Ungleich­heit (FIPU) sowie des For­schungs­netz­werks Frau­en und Rechts­extre­mis­mus. Seit 2020 ist sie Mit­strei­te­rin in der Wie­ner femi­nis­ti­schen Akti­ons­grup­pe „Cla­im the Space“. \n- Mie­ze Medu­sa ist Pio­nie­rin der öster­rei­chi­schen Poet­ry Slam Sze­ne. Die Lie­be zu Rap ist in allen Text spür­bar: Die Tex­te sind bild­haft\, sprach­mäch­tig\, sti­lis­tisch sou­ve­rän und immer im Flow. Ihr Debüt­ro­man „Frei­schnor­cheln“ erschien 2008\, seit­dem hat sie Pro­sa­tex­te\, aber auch Samm­lun­gen von Poet­ry Slam Tex­ten und Ton­trä­ger des Hip­Hop-Duos „mie­ze medu­sa & ten­der­boy“ publi­ziert sowie Thea­ter­ar­bei­ten und musi­ka­lisch-expe­ri­men­tel­le Pro­jek­te rea­li­siert. Zuletzt erschie­nen: „Du bist dran“ (2021).
URL:https://8maerz.at/veranstaltung/lesung-und-poetry-slam-und-wie-wir-hassen-mit-lydia-haider-judith-goetz-und-mieze-medusa/
LOCATION:Top Kino\, Rahlgasse 1\, Wien\, 1060
GEO:48.2012244;16.361548
X-APPLE-STRUCTURED-LOCATION;VALUE=URI;X-ADDRESS=Top Kino Rahlgasse 1 Wien 1060;X-APPLE-RADIUS=500;X-TITLE=Rahlgasse 1:geo:16.361548,48.2012244
END:VEVENT
BEGIN:VEVENT
DTSTART;TZID=Europe/Vienna:20220331T193000
DTEND;TZID=Europe/Vienna:20220331T213000
DTSTAMP:20260424T152232
CREATED:20220321T173928Z
LAST-MODIFIED:20220321T174058Z
UID:10003941-1648755000-1648762200@8maerz.at
SUMMARY:FEMTASTIC NIGHT
DESCRIPTION:Zeit­ge­nös­si­scher Femi­nis­mus zwi­schen Auf­stand und Ausverkauf \nfacul­tas lädt zu einem fem­tas­ti­schen Abend mit Bea­te Haus­bich­ler und Eli­sa­beth Lech­ner ein. \nLasst uns gemein­sam über die Bücher Der ver­kauf­te Femi­nis­mus und Riot\, don‘t diet diskutieren! \nFemi­nis­mus ist heu­te so sicht­bar wie nie zuvor. Oft ist der Preis für die­se Sicht­bar­keit aber die Kom­mer­zia­li­sie­rung einer einst radi­ka­len Bewe­gung. Auch wenn zeit­ge­nös­si­sche Femi­nis­men viel Dis­kus­si­ons­stoff lie­fern (Wer spricht? Wer wird gezeigt? Was ist der bes­te Weg zu einer gerech­te­ren Welt?)\, so wird an die­sem Abend klar wer­den: Es ist noch lan­ge nicht alles erreicht und ein soli­da­ri­scher Femi­nis­mus auch in Zei­ten digi­ta­ler Akti­vis­men so nötig wie eh und je. \nMode­ra­ti­on: Jele­na Guča­nin (AK Wien) \nDas Team von facul­tas freut sich auf eure Anmel­dung an ubc@facultas.at und auf euren Besuch! \nMehr Ver­an­stal­tun­gen auf www.facultas.at/veranstaltungen
URL:https://8maerz.at/veranstaltung/femtastic-night/
LOCATION:facultas Universitätsbuchhandlung am Campus\, Altes AKH\, Hof 1\, Alser Straße 4/1/2/1\, Wien\, Wien\, 1090\, Österreich
END:VEVENT
END:VCALENDAR