BEGIN:VCALENDAR
VERSION:2.0
PRODID:-//8. März - ECPv6.15.20//NONSGML v1.0//EN
CALSCALE:GREGORIAN
METHOD:PUBLISH
X-WR-CALNAME:8. März
X-ORIGINAL-URL:https://8maerz.at
X-WR-CALDESC:Veranstaltungen für 8. März
REFRESH-INTERVAL;VALUE=DURATION:PT1H
X-Robots-Tag:noindex
X-PUBLISHED-TTL:PT1H
BEGIN:VTIMEZONE
TZID:Europe/Vienna
BEGIN:DAYLIGHT
TZOFFSETFROM:+0100
TZOFFSETTO:+0200
TZNAME:CEST
DTSTART:20200329T010000
END:DAYLIGHT
BEGIN:STANDARD
TZOFFSETFROM:+0200
TZOFFSETTO:+0100
TZNAME:CET
DTSTART:20201025T010000
END:STANDARD
BEGIN:DAYLIGHT
TZOFFSETFROM:+0100
TZOFFSETTO:+0200
TZNAME:CEST
DTSTART:20210328T010000
END:DAYLIGHT
BEGIN:STANDARD
TZOFFSETFROM:+0200
TZOFFSETTO:+0100
TZNAME:CET
DTSTART:20211031T010000
END:STANDARD
BEGIN:DAYLIGHT
TZOFFSETFROM:+0100
TZOFFSETTO:+0200
TZNAME:CEST
DTSTART:20220327T010000
END:DAYLIGHT
BEGIN:STANDARD
TZOFFSETFROM:+0200
TZOFFSETTO:+0100
TZNAME:CET
DTSTART:20221030T010000
END:STANDARD
END:VTIMEZONE
BEGIN:VEVENT
DTSTART;TZID=Europe/Vienna:20210305T190000
DTEND;TZID=Europe/Vienna:20210305T210000
DTSTAMP:20260424T035501
CREATED:20210303T222456Z
LAST-MODIFIED:20210303T222456Z
UID:10003833-1614970800-1614978000@8maerz.at
SUMMARY:Public Program: International Women‘s Day-Special Screening
DESCRIPTION:Con­stan­ze Ruhm\, Gli appun­ti di Anna Azz­ori / Uno spec­chio che viag­gia nel tem­po\, 2020\, 72 Min.\, Italienisch/Deutsch\, engl. UT \nAnschlie­ßend um 20.15 Uhr Publi­kums­ge­spräch mit Con­stan­ze Ruhm via Zoom.\nFür Ihre Teil­nah­me ersu­chen wir Sie um Regis­trie­rung per E‑Mail an: c.slanar@belvedere.at.\nIm Anschluss erhal­ten Sie den Zugangs­link zum Online-Publikumsgespräch. \nMit die­ser ita­lie­ni­schen Zeit­rei­se setzt Con­stan­ze Ruhm ihre Varia­tio­nen über weib­li­che Figu­ren des moder­nen Kinos fort. In einer essay­is­ti­schen Dop­pel­be­we­gung forscht die Künst­le­rin nach der Geschich­te der Dreh­ar­bei­ten eines Films und nutzt das gefun­de­ne Mate­ri­al für die ima­gi­nä­re Umschrift einer Rol­le. Nach Godards Nana S. fällt die Wahl nun auf Anna\, römi­sches Ciné­ma Véri­té aus der Hand von Alber­to Gri­fi und Mas­si­mo Sar­chiel­li\, das im kri­ti­schen Ges­tus der sieb­zi­ger Jah­re den Blick zur poli­ti­schen Fra­ge mach­te. Aus­ge­hend von Archiv­bil­dern und ‑tönen wech­selt Gli appun­ti di Anna Azz­ori nun die Per­spek­ti­ve\, aus der sich der Wahr­heits­ge­halt der doku­men­ta­ri­schen Insze­nie­rung ver­mes­sen lässt. Ovids Meta­mor­pho­sen die­nen dabei als Rah­men\, das poe­ti­sche Ver­wand­lungs­po­ten­ti­al von Figu­ren\, Objek­ten und Orten des Films aus­zu­lo­ten. (Chris­ta Blümlinger/sixpackfilm).
URL:https://8maerz.at/veranstaltung/public-program-international-womens-day-special-screening/
LOCATION:Online\, Wien\, Österreich
END:VEVENT
BEGIN:VEVENT
DTSTART;TZID=Europe/Vienna:20210306T130000
DTEND;TZID=Europe/Vienna:20210306T140000
DTSTAMP:20260424T035501
CREATED:20210303T223055Z
LAST-MODIFIED:20210303T223154Z
UID:10003834-1615035600-1615039200@8maerz.at
SUMMARY:Kuratorinnenführung: Life constantly escapes
DESCRIPTION:Sa.\, 06.03.2021\, 13:00 – 14:00 Uhr\, online\nmit Andrea Popelka \nAus­ge­hend von Denker_innen der Black Radi­cal Tra­di­ti­on und Schwar­zer Femi­nis­men wie Fred Moten und Deni­se Fer­rei­ra da Sil­va bringt Gast­ku­ra­to­rin Andrea Popel­ka Künstler_innen und Poet_innen zusam­men\, die sich den Vor­stel­lun­gen der moder­nen Logik und ihrer Gewalt ent­zie­hen und Alter­na­ti­ven auf­ma­chen. Künstler_innen\, Kunst­ob­jek­te und Betrachter_innen ste­hen dabei nicht getrennt von­ein­an­der\, son­dern ver­schmel­zen – auch über Zei­ten und Räu­me hin­weg – auf einer sinn­li­chen Ebene. \nDie Aus­stel­lung „Life con­stant­ly escapes“ lädt dazu ein\, das domi­nan­te Ver­ständ­nis von Welt zu über­den­ken und mit den Mög­lich­kei­ten und Ima­gi­na­tio­nen zu spie­len\, die sich dadurch eröff­nen. Am 06.03.2021 gibt es bei einer Füh­rung mit der Gast­ku­ra­to­rin die Mög­lich­keit dies gemein­sam anzugehen. \nGast­ku­ra­to­rin Andrea Popel­ka ist Kura­to­rin und Kul­tur­wis­sen­schaft­le­rin. Sie hat in Kla­gen­furt\, Wien\, Hil­des­heim\, Ber­lin und Lon­don stu­diert\, zuletzt im Mas­ter Con­tem­po­ra­ry Art Theo­ry am Golds­mit­hs Col­lege\, Uni­ver­si­ty of Lon­don\, und im Mas­ter Kul­tur­wis­sen­schaf­ten an der Hum­boldt-Uni­ver­si­tät zu Ber­lin. Zu ihren kura­to­ri­schen Pro­jek­ten zäh­len New Views On Same-Olds\, xhi­bit\, Kunst­raum der Aka­de­mie der Bil­den­den Küns­te Wien\, Heart­breaks. Or: Loving you is com­pli­ca­ted in der Ver­ei­ni­gung Bil­den­der Künstler_innen Öster­reichs\, Neue Hori­zon­te 2030 in einem Pri­vat­apart­ment in Ber­lin\, Post­hu­man Com­pli­ci­ties\, eben­falls xhi­bit\, I hear the waters‘ song\, mumok kino\, sowie Aus­stel­lun­gen in der Kunst­hal­le Wien\, ACUD gal­lery Ber­lin\, dem Phyl­le­ti­schen Muse­um in Jena und mit dem GEIST Kollektiv.\nAndrea Popel­ka lebt und arbei­tet in Ber­lin (D). \nAnmel­dung:\nAuf­grund der Maß­nah­men zur Ein­däm­mung der Aus­brei­tung von COVID-19 wird die Füh­rung online stat­fin­den. Anmel­dung unter anmeldung@kunstraum.net mit dem Betreff „Kura­to­rin­nen­füh­rung Life con­stant­ly escapes 06.03.2021”. Nach erfolg­ter Anmel­dung erhal­tet ihr den Link zur Teilnahme.
URL:https://8maerz.at/veranstaltung/kuratorinnenfuehrung-life-constantly-escapes/
LOCATION:Online\, Wien\, Österreich
END:VEVENT
BEGIN:VEVENT
DTSTART;TZID=Europe/Vienna:20210306T140000
DTEND;TZID=Europe/Vienna:20210306T153000
DTSTAMP:20260424T035501
CREATED:20210304T184911Z
LAST-MODIFIED:20210304T184911Z
UID:10003589-1615039200-1615044600@8maerz.at
SUMMARY:Online Public Program: International Women‘s Day - „B-Girls Go!“
DESCRIPTION:ONLINE Public Program: International Women‘s Day – „B‑Girls Go!“\nZeit: 6. März 2021\, 14:00 – 15:30\nOrt: online \nAls Vor­ge­schmack auf den Inter­na­tio­na­len Frau­en­tag am 8. März wird die Skulp­tur B‑Girls Go! von Maruša Saga­din im Skulp­tu­ren­gar­ten des Bel­ve­de­re 21 mit einem Künst­le­rin­nen­ge­spräch eröff­net. Die Skulp­tur bezieht sich auf Hip-Hop- und Street-Cul­tu­re und ermu­tigt Frau­en und Mäd­chen\, sich auf der „Büh­ne“ selbst zu verwirklichen.\nDanach fol­gen eine Per­for­mance von Dafi­na Syl­ej­ma­ni aka Dacid Go8lin vom Kol­lek­tiv FEMME DMC und Vor­trag femi­nis­ti­scher Manifeste. \nFür Ihre Teil­nah­me bit­te um Regis­trie­rung per E‑Mail an: c.erharter@belvedere.at\nIm Anschluss erhal­ten Sie den Zugangs­link zum Zoom-Meeting.
URL:https://8maerz.at/veranstaltung/online-public-program-international-womens-day-b-girls-go/
LOCATION:Online\, Wien\, Österreich
END:VEVENT
BEGIN:VEVENT
DTSTART;VALUE=DATE:20210308
DTEND;VALUE=DATE:20210401
DTSTAMP:20260424T035501
CREATED:20210311T170200Z
LAST-MODIFIED:20210311T170250Z
UID:10003846-1615161600-1617235199@8maerz.at
SUMMARY:Online-Sammlung zum Weltfrauentag
DESCRIPTION:Das Wien Muse­um fei­ert die Frau­en in der Kunst mit einem eigens für die­sen Tag erstell­ten Album „Künst­le­rin­nen“ in sei­ner Online Sammlung. \n„Abtun mußt Du alle Ober­flä­che\, alle Con­ven­ti­on\, alle Eitel­keit und Ver­blen­dung (in Bezug auf Indi­vi­dua­li­tät und Arbei­ten) – Du mußt Dich mir bedin­gungs­los zu Eigen geben (…) und nichts dafür wün­schen\, als mei­ne Liebe!“\n(Gus­tav Mahler an sei­ne zukünf­ti­ge Ehe­frau Alma Schind­ler\, 1901) \n„Nichts muß den Frau­en so ange­le­gen sein\, als gegen die Abs­trak­ti­on zu kämp­fen\, in die sie bestän­dig durch das männ­li­che Den­ken ver­wan­delt wer­den. Das bedeu­tet\, aus der Pas­si­vi­tät her­vor­zu­tre­ten und das Schwei­gen zu brechen.“\n(Rosa May­re­der\, 1905) \nZudem hat das Wien Muse­um anläss­lich des Welt­frau­en­ta­ges das Schlag­wort „Künst­le­rin­nen“ ange­legt. Unter die­sem fin­den Sie wei­te­re Wer­ke weib­li­cher Kunst­schaf­fen­der in der Sammlung.
URL:https://8maerz.at/veranstaltung/online-sammlung-zum-weltfrauentag/
LOCATION:Online\, Wien\, Österreich
END:VEVENT
BEGIN:VEVENT
DTSTART;VALUE=DATE:20210308
DTEND;VALUE=DATE:20210401
DTSTAMP:20260424T035501
CREATED:20210311T171014Z
LAST-MODIFIED:20210311T171215Z
UID:10003847-1615161600-1617235199@8maerz.at
SUMMARY:Online-Fotoausstellung: Platz für Held*innen
DESCRIPTION:Das hdgö holt Frau­en\, die in ihrem Bereich alles außer gewöhn­lich sind oder waren\, auf www.hdgoe.at vor den Vor­hang. Doris Schmi­dau­er: „Ihre Errun­gen­schaf­ten haben Vor­bild­wir­kung und machen Mut.“ Kli­cken Sie sich hin­ein und erfah­ren Sie mehr über Weg­be­rei­te­rin­nen hier. \n #platz­für­hel­din­nen!\nMachen wir alle unse­re per­sön­li­che Hel­din sicht­bar! Tei­len Sie mit uns eine Frau\, die Ihnen Mut gemacht hat oder Kli­schees her­aus­for­dert. Laden Sie ein Foto oder Video\, das für eine inspi­rie­ren­de Frau steht\, samt einer kur­zen Beschrei­bung in unse­re lau­fend wach­sen­de Web-Aus­stel­lung hoch. So wird die­se ein sicht­ba­rer Teil der Zeit­ge­schich­te\, denn alle Bei­trä­ge wer­den auch auf Screens direkt in der Haupt­aus­stel­lung im Muse­um gezeigt.\nJetzt mit­ma­chen unter die­sem Link: #platz­für­hel­din­nen
URL:https://8maerz.at/veranstaltung/online-fotoausstellung-platz-fuer-heldinnen/
LOCATION:Online\, Wien\, Österreich
END:VEVENT
BEGIN:VEVENT
DTSTART;VALUE=DATE:20210308
DTEND;VALUE=DATE:20210401
DTSTAMP:20260424T035501
CREATED:20210311T174811Z
LAST-MODIFIED:20210311T175049Z
UID:10003851-1615161600-1617235199@8maerz.at
SUMMARY:Online-Ausstellungen der Österreichischen Mediathek zum Frauen*tag
DESCRIPTION:Aktuelle Archivaufnahmen aus den Beständen der Österreichischen\nMediathek zum Internationalen Frauentag am 8. März\nOnline­aus­stel­lung: Ton­auf­nah­men von österreichischen\nSchrift­stel­le­rin­nen nach 1945 \nVon Inge­borg Bach­mann bis Elfrie­de Jeli­nek: Die Online­aus­stel­lung „Frau­en­stim­men“ prä­sen­tiert Lesun­gen von öster­rei­chi­schen Schrift­stel­le­rin­nen aus meh­re­ren Jahrzehnten. \nArchi­va­ri­sche Rari­tä­ten zum Nach­hö­ren aus den Bestän­den der\nÖster­rei­chi­schen Mediathek.\nBeglei­ten Sie uns auf einer Hör­rei­se durch die österreichische\nLiteraturgeschichte! \nwww.frauenstimmen.at – Lite­ra­ri­sche Stimmen  \nSamm­lung Men­schen­Le­ben: Lebens­ge­schich­ten feministischer\nBiblio­the­ka­rin­nen \nDie Oral Histo­ry Samm­lung Men­schen­Le­ben hat 2020 in Koope­ra­ti­on mit\ndem femi­nis­ti­schen Netz­werk „fri­da – Ver­ein zur För­de­rung und\nVer­net­zung frau­en­spe­zi­fi­scher Infor­ma­ti­ons- und\nDoku­men­ta­ti­ons­ein­rich­tun­gen in Öster­reich“ lebensgeschichtliche\nInter­views mit Biblio­the­ka­rin­nen auf­ge­nom­men. Eini­ge die­ser Gespräche\nkön­nen bereits online nach­ge­hört werden. \nLebens­ge­schich­ten femi­nis­ti­scher Bibliothekarinnen\nUnter­richts­ma­te­ria­li­en: Geschlech­ter­ver­hält­nis­se und Biografie \nAnhand ver­schie­de­ner lebens­ge­schicht­li­cher Erzäh­lun­gen wird in diesem\nUnter­richts­pa­ket die Bedeu­tung der Kate­go­rie „Geschlecht“ für die\nbio­gra­fi­sche Ent­wick­lung ana­ly­siert. Aktu­el­le Debat­ten um bestehende\nGeschlech­ter­ver­hält­nis­se wer­den dar­ge­stellt\, Schüler_innen werden\ndafür sen­si­bi­li­siert\, daß Geschlech­ter­rol­len his­to­risch gewachsen\,\nsozi­al erlernt und daher auch ver­än­der­bar sind.\nFür Schüler_innen und Lehrer_innen der Sekun­dar­stu­fe II. \nUnter­richts­ma­te­ria­li­en: Geschlech­ter­ver­hält­nis­se
URL:https://8maerz.at/veranstaltung/online-ausstellungen-der-oesterreichischen-mediathek/
LOCATION:Online\, Wien\, Österreich
END:VEVENT
BEGIN:VEVENT
DTSTART;TZID=Europe/Vienna:20210308T070000
DTEND;TZID=Europe/Vienna:20210308T235900
DTSTAMP:20260424T035501
CREATED:20210303T214524Z
LAST-MODIFIED:20210303T214601Z
UID:10003831-1615186800-1615247940@8maerz.at
SUMMARY:Radio ORANGE 94.0 Spezialprogramm zum 8. März
DESCRIPTION:Radio ORANGE 94.0 Schwerpunktprogramm zum 8. März\n8.3.2021\, ganz­tä­gig – ab 7:00 bis Mitternacht\non air auf UKW 94.0 und online auf o94.at \nZum inter­na­tio­na­len femi­nis­ti­scher Kampf­tag am 8. März gibt es auch die­ses Jahr wie­der ein Spe­zi­al­pro­gramm bei Radio ORANGE 94.0. Es geht um Mäd­chen­ra­dio und Radio­ver­net­zung\, Bünd­nis­se und Quo­ten\, Arbeits­welt und Wahl­recht\, Sexua­li­tät und Selbst­be­stim­mung\, Freiheitskämpfer_innen und Held_innen\, Kindergärtner_innen und Stadtplaner_innen\, Sub­ver­si­ves Hand­ar­bei­ten und Musik\, femin­in­i­ty und que­er­ness\, Fei­ern und Demons­trie­ren und noch vie­les mehr – ab 7:00 on air. \nEinen Über­blick über das gesam­te Pro­gram gibt es hier: https://o94.at/programm/programm-uebersicht?datum=2021–03-08
URL:https://8maerz.at/veranstaltung/radio-orange-spezialprogramm-zum-8-maerz/
LOCATION:Online\, Wien\, Österreich
END:VEVENT
BEGIN:VEVENT
DTSTART;TZID=Europe/Vienna:20210308T170000
DTEND;TZID=Europe/Vienna:20210308T190000
DTSTAMP:20260424T035501
CREATED:20210307T173644Z
LAST-MODIFIED:20210307T173805Z
UID:10003837-1615222800-1615230000@8maerz.at
SUMMARY:Online-Führungen: "Große Autorinnen. Große Visionen."
DESCRIPTION:08.03.2021 Lite­ra­tur­mu­se­um\, Ariadne \nAm 8. März ist inter­na­tio­na­ler Frau­en­tag. Aus die­sem Anlass gibt es gleich zwei kos­ten­lo­se Online-Füh­run­gen im Lite­ra­tur­mu­se­um: „Ent­de­cke­rin­nen und Auf­de­cke­rin­nen“ stellt bekann­te und weni­ger bekann­te Schrift­stel­le­rin­nen in der Dau­er­aus­stel­lung vor\, „Frau­en schrei­ben Zukunft“ rückt die Autorin­nen in der aktu­el­len Son­der­aus­stel­lung „Uto­pien und Apo­ka­lyp­sen“ ins Zen­trum. Dar­über hin­aus lädt die Öster­rei­chi­sche Natio­nal­bi­blio­thek am Sonn­tag\, 7. März bei frei­em Ein­tritt ins Lite­ra­tur­mu­se­um\, um sich anhand der aus­ge­stell­ten Ori­gi­na­le Anre­gun­gen für Lek­tü­ren zum Frau­en­tag zu holen. \n» Hier geht es zur Anmel­dung für die Füh­rung zur Dau­er­aus­stel­lung um 17 Uhr \n» Hier geht es zur Anmel­dung für die Füh­rung zur Son­der­aus­stel­lung um 18 Uhr \nfraueninbewegung.onb.ac.at \n 
URL:https://8maerz.at/veranstaltung/online-fuehrungen-grose-autorinnen-grose-visionen/
LOCATION:Online\, Wien\, Österreich
ORGANIZER;CN="%C3%96sterreichische Nationalbibliothek":MAILTO:onb@onb.ac.at
END:VEVENT
BEGIN:VEVENT
DTSTART;TZID=Europe/Vienna:20210308T180000
DTEND;TZID=Europe/Vienna:20210308T210000
DTSTAMP:20260424T035501
CREATED:20210303T230321Z
LAST-MODIFIED:20210303T230418Z
UID:10003587-1615226400-1615237200@8maerz.at
SUMMARY:Frau des Jahres 2021 - Petra Kißlinger
DESCRIPTION:Die Grü­nen Leo­pold­stadt fei­ern wie jedes Jahr am inter­na­tio­na­len Frau­en­tag die Frau des Jah­res der Leopoldstadt! \nDie­ses Jahr ist die Frau des Jah­res Petra Kiß­lin­ger\, bekannt als DJ p.K.one\, die auch als Super­markt­mit­ar­bei­te­rin arbei­tet. Als Kul­tur­schaf­fen­de und in einem „sys­tem­re­le­van­ten Job“ tätig\, ist sie von den Fol­gen der Pan­de­mie dop­pelt betroffen. \nDie­ses Jahr fin­det das Fest pan­de­mie­be­ding online statt.\nUnter ande­rem erwar­tet dich Musik der quee­ren Kult­band Pop:sch. \nWenn du mehr über Petra Kiß­lin­ger wis­sen möch­test –​ ein Por­trät fin­dest du in der neu­en Aus­ga­be der Zei­tung Grün 2​​​: https://leopoldstadt.gruene.at/zeitung-gruen‑2/gruen‑2–2021‑1
URL:https://8maerz.at/veranstaltung/frau-des-jahres-2021-petra-kisslinger/
LOCATION:Online\, Wien\, Österreich
END:VEVENT
BEGIN:VEVENT
DTSTART;TZID=Europe/Vienna:20210309T190000
DTEND;TZID=Europe/Vienna:20210309T200000
DTSTAMP:20260424T035501
CREATED:20210307T162437Z
LAST-MODIFIED:20210307T162524Z
UID:10003591-1615316400-1615320000@8maerz.at
SUMMARY:Online-Lesung aus den Vulvina Monologen
DESCRIPTION:„Wie eine Kriegerin – frisch und blutig aus der Schlacht“\nLesung zwei­er Tex­te aus den Vul­vina Mono­lo­gen anläss­lich des Inter­na­tio­na­len Frauen*kampftages\nVeranstalter*innen: Das Kol­lek­tiv V‑MUSKEL\nDatum: 9. März\, 19:00 – 19:40 via Zoom \nZoom Mee­ting:\nhttps://us04web.zoom.us/j/78942774001?pwd=eEgwOEtxTnR3cVZmNWg1YStIU2N6UT09 \nMee­ting ID: 789 4277 4001\nPass­code: CXyG9Y \nDas Pro­jekt „Vul­vina Mono­lo­ge“ ver­steht sich als Aktua­li­sie­rung von Eve Ens­lers Stück „The Vagi­na Mono­lo­gues“ aus dem Jahr 1998 mit spe­zi­el­lem Fokus auf die aktu­el­le Situa­ti­on jun­ger Frau­en* in Wien. Wir erar­bei­te­ten einen Text\, der unter­schied­li­che Per­spek­ti­ven auf die Fra­ge ver­sam­melt\, wie jun­ge Frau­en* in Wien heu­te die Bezie­hung zum eige­nen Kör­per erle­ben\, wel­che Hür­den und Chan­cen sie im All­tag wahr­neh­men. The­men\, die in den „Vul­vina Mono­lo­gen“ auf­ge­grif­fen wer­den\, sind die Sprach­lo­sig­keit rund um die „Vagi­na“ und die „Vul­va“\, sexua­li­sier­te und gen­der­be­zo­ge­ne Gewalt\, die aktu­el­le frauen*politische Lage in Öster­reich v. a. mit Hin­blick auf den Gewalt­schutz sowie damit zusam­men­hän­gen­de The­men\, die die Lebens­wirk­lich­keit von Frau­en* in Wien heu­te prä­gen\, z. B. Kör­per­bil­der\, Selbst­be­stim­mung\, Por­no­gra­phie\, Sexis­mus\, Frau­en-Gesund­heit etc.\nUmge­setzt wur­de das Pro­jekt von einer Grup­pe jun­ger moti­vier­ter Frau­en*\, die in den Berei­chen Lite­ra­tur\, Phi­lo­so­phie\, Kul­tur\, Bil­dung\, Sozia­les\, Frau­en­po­li­tik und femi­nis­ti­sche Arbeit sowie Akti­vis­mus tätig sind und unter dem Kol­lek­tiv­na­men V‑MUSKEL auf­tre­ten. Unser Ziel ist es\, durch die gewähl­ten künst­le­ri­schen Mit­tel Sprech-Tabus in Bezug auf weib­li­che* Inti­mi­tät auf­zu­bre­chen und unser Publi­kum für die­se The­men zu sen­si­bi­li­sie­ren. Dar­in sehen wir einen wich­ti­gen Bei­trag zur Prä­ven­ti­on gen­der­be­zo­ge­ner Gewalt und zur För­de­rung von Frauen*-Selbstbestimmung. \nNun wol­len wir im Rah­men des Inter­na­tio­na­len Frau­en­kampf­ta­ges zwei der durch die „Vul­vina Mono­lo­ge“ auf­ge­wor­fen The­men\, näm­lich Tabus um Mens­trua­ti­on und Sexis­men im All­tag erneut anspre­chen\, in Form einer Online-Lesung am 9. März 2021 um 19:00 (vor­aus­sicht­li­ches Ende 19:40).\nDie Teil­nah­me ist kostenfrei.
URL:https://8maerz.at/veranstaltung/online-lesung-aus-den-vulvina-monologen/
LOCATION:Online\, Wien\, Österreich
END:VEVENT
BEGIN:VEVENT
DTSTART;TZID=Europe/Vienna:20210310T170000
DTEND;TZID=Europe/Vienna:20210310T190000
DTSTAMP:20260424T035502
CREATED:20210307T172938Z
LAST-MODIFIED:20210307T173036Z
UID:10003836-1615395600-1615402800@8maerz.at
SUMMARY:Salon der offenen Geheimnisse: "Neuer Materialismus\, feministische Praktiken"
DESCRIPTION:Salon der offenen Secrets/Geheimnisse – SOS: „Neuer Materialismus\, feministische Praktiken“\nmit Karin Rei­sin­ger\, Patri­cia J. Reis\, Taguhi Toro­syan\, Ste­fa­nie Wuschitz\, Bar­ba­ra Huber und Kari­na Jarrett \nWann: 10.3.2021\, 17:00\nAnmel­dung unter: fgd@akbild.ac.at \n„Was sind Open Secrets? Der sprich­wört­li­che Ele­fant im Raum? Klatsch und Tratsch? Öffent­lich zen­sier­te und stig­ma­ti­sier­te The­men? All das\, aber nicht aus­schließ­lich. Wir defi­nie­ren Open Secrets als sehr situ­ier­te Nische für ver­kör­per­te Erfah­run­gen\, Wis­sen und Spaß – am Frau­sein*\, an der Über­win­dung von Bina­ri­tä­ten mit/durch/in Kunst\, Tech­no­lo­gien\, Inge­nieur- und Mate­ri­al­wis­sen­schaf­ten und an der Ver­bin­dung unter­ein­an­der auf die uner­war­tets­te und lebens­be­ja­hen­de Weise.“ \nMit die­ser Online Dis­kus­si­on wird die Ver­an­stal­tungs­rei­he 100 Jah­re – Sie* kam und blieb“ im Som­mer­se­mes­ter fortgesetzt.
URL:https://8maerz.at/veranstaltung/salon-der-offenen-geheimnisse-neuer-materialismus-feministische-praktiken/
LOCATION:Online\, Wien\, Österreich
END:VEVENT
BEGIN:VEVENT
DTSTART;TZID=Europe/Vienna:20210310T190000
DTEND;TZID=Europe/Vienna:20210314T235900
DTSTAMP:20260424T035502
CREATED:20210128T213146Z
LAST-MODIFIED:20210128T213146Z
UID:10003802-1615402800-1615766340@8maerz.at
SUMMARY:Tricky Women/Tricky Realities 2021
DESCRIPTION:20 Jah­re Tri­cky Women/Tricky Realities\nInter­na­tio­nal Ani­ma­ti­on Film Festival \nWir fei­ern 20 Jah­re Tri­cky Women/Tricky Rea­li­ties. 20 Jah­re lei­den­schaft­li­ches Enga­ge­ment für die Sicht­bar­keit von Animationsfilmkünstler*innen. Mit­te Febru­ar 2021 ver­öf­fent­li­chen wir das Fes­ti­val­pro­gramm auf www.trickywomen.at. Stay tuned! \nWe cele­bra­te 20 years of Tri­cky Women/Tricky Rea­li­ties – 20 years of pas­sio­na­te com­mit­ment to the visi­bi­li­ty of fema­le* ani­ma­ti­on artists in the world. Our fest­vi­al pro­gram will be online in the midd­le of febru­ary at www.trickywomen.at \n#trickywomentrickyrealities2021\n#wome­nin­ani­ma­ti­on
URL:https://8maerz.at/veranstaltung/tricky-women-tricky-realities-2021/
LOCATION:Online\, Wien\, Österreich
END:VEVENT
BEGIN:VEVENT
DTSTART;TZID=Europe/Vienna:20210316T170000
DTEND;TZID=Europe/Vienna:20210316T190000
DTSTAMP:20260424T035502
CREATED:20210308T192758Z
LAST-MODIFIED:20230107T180024Z
UID:10003838-1615914000-1615921200@8maerz.at
SUMMARY:Theaterprojekt für Jugendliche: #PlayingMyOwnGender
DESCRIPTION:Hast du genug davon\, dass ande­re dir sagen wie du dich als Bur­sche* oder Mäd­chen* ver­hal­ten sollst? Magst du dich mit ande­ren Jugend­li­chen krea­tiv dar­über aus­tau­schen woher die­se gan­zen Geschlech­ter­rol­len kom­men und was ihr dage­gen tun könnt? Hast du Lust auf etwas Neu­es und willst online Thea­ter spielen? \nThea­ter im Lock­down? Ja\, es geht! Schal­te dei­ne (Laptop/Handy)-Kamera ein und wir öff­nen für dich einen vir­tu­el­len\, spiel­freu­di­gen Raum für Thea­ter­pro­ben rund um das The­ma Geschlech­ter­rol- len. Gemein­sam mit ande­ren Jugend­li­chen erar­bei­test du ein inter­ak­ti­ves Stück. Dabei könnt ihr her- aus­for­dern­de Situa­tio­nen aus eurem ech­ten Leben auf der (online-)Bühne zei­gen. Dein Publi­kum hat bei der Auf­füh­rung die Mög­lich­keit\, in die Sze­ne ein­zu­stei­gen und selbst aus­zu­pro­bie­ren\, wie man die Situa­ti­on beein­flus­sen und ver­än­dern kann. Du brauchst kei­ne Vor­er­fah­rung mit Theater! \nImmer Diens­tags von 17–19 Uhr ab 16.3. (7 Ter­mi­ne). Die Work­shops sind kos­ten­los! 🙂 Anmel­dung per Email an linda.raule@tdu-wien.at\nWenn du mehr wis­sen möch­test\, dann schreib oder ruf an:\nSophie: 0680⁄2245487\, Lin­da: 0670⁄2042911\, linda.raule@tdu-wien.at. \nDie Ver­an­stal­tung fin­det im Rah­men des EU-Pro­jekts Rhi­zo­me against Pola­riza­ti­on statt: https://rap.education/
URL:https://8maerz.at/veranstaltung/theaterprojekt-fuer-jugendliche-playing-my-own-gender/2021-03-16/
LOCATION:Online\, Wien\, Österreich
END:VEVENT
BEGIN:VEVENT
DTSTART;TZID=Europe/Vienna:20210323T170000
DTEND;TZID=Europe/Vienna:20210323T190000
DTSTAMP:20260424T035502
CREATED:20210308T192758Z
LAST-MODIFIED:20230107T180024Z
UID:10003839-1616518800-1616526000@8maerz.at
SUMMARY:Theaterprojekt für Jugendliche: #PlayingMyOwnGender
DESCRIPTION:Hast du genug davon\, dass ande­re dir sagen wie du dich als Bur­sche* oder Mäd­chen* ver­hal­ten sollst? Magst du dich mit ande­ren Jugend­li­chen krea­tiv dar­über aus­tau­schen woher die­se gan­zen Geschlech­ter­rol­len kom­men und was ihr dage­gen tun könnt? Hast du Lust auf etwas Neu­es und willst online Thea­ter spielen? \nThea­ter im Lock­down? Ja\, es geht! Schal­te dei­ne (Laptop/Handy)-Kamera ein und wir öff­nen für dich einen vir­tu­el­len\, spiel­freu­di­gen Raum für Thea­ter­pro­ben rund um das The­ma Geschlech­ter­rol- len. Gemein­sam mit ande­ren Jugend­li­chen erar­bei­test du ein inter­ak­ti­ves Stück. Dabei könnt ihr her- aus­for­dern­de Situa­tio­nen aus eurem ech­ten Leben auf der (online-)Bühne zei­gen. Dein Publi­kum hat bei der Auf­füh­rung die Mög­lich­keit\, in die Sze­ne ein­zu­stei­gen und selbst aus­zu­pro­bie­ren\, wie man die Situa­ti­on beein­flus­sen und ver­än­dern kann. Du brauchst kei­ne Vor­er­fah­rung mit Theater! \nImmer Diens­tags von 17–19 Uhr ab 16.3. (7 Ter­mi­ne). Die Work­shops sind kos­ten­los! 🙂 Anmel­dung per Email an linda.raule@tdu-wien.at\nWenn du mehr wis­sen möch­test\, dann schreib oder ruf an:\nSophie: 0680⁄2245487\, Lin­da: 0670⁄2042911\, linda.raule@tdu-wien.at. \nDie Ver­an­stal­tung fin­det im Rah­men des EU-Pro­jekts Rhi­zo­me against Pola­riza­ti­on statt: https://rap.education/
URL:https://8maerz.at/veranstaltung/theaterprojekt-fuer-jugendliche-playing-my-own-gender/2021-03-23/
LOCATION:Online\, Wien\, Österreich
END:VEVENT
BEGIN:VEVENT
DTSTART;TZID=Europe/Vienna:20210328T143000
DTEND;TZID=Europe/Vienna:20210328T190000
DTSTAMP:20260424T035502
CREATED:20210311T172607Z
LAST-MODIFIED:20210311T172607Z
UID:10003849-1616941800-1616958000@8maerz.at
SUMMARY:street art workshop
DESCRIPTION:street art workshop\nDatum und Uhr­zeit: 28.3.2021 von 14:30–19.00\nOrt: mee­ting point @ donau­ka­nal ‚zona anti­fa pie­ce‘ at friedensbrücke \nFLINTA*-only! coll­ec­ti­ve street­art work­shop donaukanal\nwear masks and keep distance! \nplea­se regis­ter via mail: radsisters@riseup.net\nmehr Infos hier
URL:https://8maerz.at/veranstaltung/street-art-workshop/
LOCATION:Friedensbrücke\, Wien\, Wien\, 1200\, Österreich
END:VEVENT
BEGIN:VEVENT
DTSTART;TZID=Europe/Vienna:20210330T170000
DTEND;TZID=Europe/Vienna:20210330T190000
DTSTAMP:20260424T035502
CREATED:20210308T192758Z
LAST-MODIFIED:20230107T180024Z
UID:10003840-1617123600-1617130800@8maerz.at
SUMMARY:Theaterprojekt für Jugendliche: #PlayingMyOwnGender
DESCRIPTION:Hast du genug davon\, dass ande­re dir sagen wie du dich als Bur­sche* oder Mäd­chen* ver­hal­ten sollst? Magst du dich mit ande­ren Jugend­li­chen krea­tiv dar­über aus­tau­schen woher die­se gan­zen Geschlech­ter­rol­len kom­men und was ihr dage­gen tun könnt? Hast du Lust auf etwas Neu­es und willst online Thea­ter spielen? \nThea­ter im Lock­down? Ja\, es geht! Schal­te dei­ne (Laptop/Handy)-Kamera ein und wir öff­nen für dich einen vir­tu­el­len\, spiel­freu­di­gen Raum für Thea­ter­pro­ben rund um das The­ma Geschlech­ter­rol- len. Gemein­sam mit ande­ren Jugend­li­chen erar­bei­test du ein inter­ak­ti­ves Stück. Dabei könnt ihr her- aus­for­dern­de Situa­tio­nen aus eurem ech­ten Leben auf der (online-)Bühne zei­gen. Dein Publi­kum hat bei der Auf­füh­rung die Mög­lich­keit\, in die Sze­ne ein­zu­stei­gen und selbst aus­zu­pro­bie­ren\, wie man die Situa­ti­on beein­flus­sen und ver­än­dern kann. Du brauchst kei­ne Vor­er­fah­rung mit Theater! \nImmer Diens­tags von 17–19 Uhr ab 16.3. (7 Ter­mi­ne). Die Work­shops sind kos­ten­los! 🙂 Anmel­dung per Email an linda.raule@tdu-wien.at\nWenn du mehr wis­sen möch­test\, dann schreib oder ruf an:\nSophie: 0680⁄2245487\, Lin­da: 0670⁄2042911\, linda.raule@tdu-wien.at. \nDie Ver­an­stal­tung fin­det im Rah­men des EU-Pro­jekts Rhi­zo­me against Pola­riza­ti­on statt: https://rap.education/
URL:https://8maerz.at/veranstaltung/theaterprojekt-fuer-jugendliche-playing-my-own-gender/2021-03-30/
LOCATION:Online\, Wien\, Österreich
END:VEVENT
END:VCALENDAR