BEGIN:VCALENDAR
VERSION:2.0
PRODID:-//8. März - ECPv6.15.20//NONSGML v1.0//EN
CALSCALE:GREGORIAN
METHOD:PUBLISH
X-ORIGINAL-URL:https://8maerz.at
X-WR-CALDESC:Veranstaltungen für 8. März
REFRESH-INTERVAL;VALUE=DURATION:PT1H
X-Robots-Tag:noindex
X-PUBLISHED-TTL:PT1H
BEGIN:VTIMEZONE
TZID:UTC
BEGIN:STANDARD
TZOFFSETFROM:+0000
TZOFFSETTO:+0000
TZNAME:UTC
DTSTART:20180101T000000
END:STANDARD
END:VTIMEZONE
BEGIN:VEVENT
DTSTART;TZID=UTC:20190206T100000
DTEND;TZID=UTC:20190206T120000
DTSTAMP:20260425T234807
CREATED:20190121T182151Z
LAST-MODIFIED:20190121T182151Z
UID:10003322-1549447200-1549454400@8maerz.at
SUMMARY:Rrriot 2019: Programmpräsentation
DESCRIPTION:Pres­se­kon­fe­renz zum RRRIOT 2019  \nDas RRRIOT Fes­ti­val wird zwei! Im Rah­men des femi­nis­ti­schen Pro­gramm­fes­ti­vals gibt es wie­der eine Woche lang rund 70 unter­schied­li­che Kul­tur­ver­an­stal­tun­gen – von Per­for­man­ces über Stadt­spa­zier­gän­ge\, Aus­stel­lun­gen bis hin zu dis­kur­si­ven Panels. Unter dem Mot­to Com­mu­ni­ty und mit einem Fokus auf die Bri­git­ten­au beschäf­ti­gen sich die Fes­ti­val- Programmpartner*innen mit der Sicht­bar­keit von Frau­en* im Kul­tur­be­reich\, Empower­ment und mit Gerech­tig­keits- und Gesell­schafts­fra­gen\, die alle etwas angehen. \nFace­book Event: Rrri­ot Fes­ti­val 2019 \nPrä­sen­ta­ti­on der Pro­gramm­schwer- und höhe­punk­te in den Kunst­raum Nie­der­oes­terrreich am 6.2.2019 um 10.00 Uhr.\nAnmel­dung unter https://goo.gl/forms/TzOuZkdmpog8MKWJ3\noder per E‑Mail an presse@riotfestival.at
URL:https://8maerz.at/veranstaltung/rrriot-2019-programmpraesentation/
LOCATION:Kunstraum Niederoesterreich\, Herrengasse 13\, Wien\, Wien\, 1010\, Österreich
ORGANIZER;CN="Rrriot Festival":MAILTO:hello@riotfestival.at
GEO:48.2101378;16.3652306
X-APPLE-STRUCTURED-LOCATION;VALUE=URI;X-ADDRESS=Kunstraum Niederoesterreich Herrengasse 13 Wien Wien 1010 Österreich;X-APPLE-RADIUS=500;X-TITLE=Herrengasse 13:geo:16.3652306,48.2101378
END:VEVENT
BEGIN:VEVENT
DTSTART;TZID=UTC:20190216T180000
DTEND;TZID=UTC:20190216T230000
DTSTAMP:20260425T234807
CREATED:20190217T212412Z
LAST-MODIFIED:20190217T212412Z
UID:10003455-1550340000-1550358000@8maerz.at
SUMMARY:100 jahre in 100 minuten : auftakt !
DESCRIPTION:100 jahre in 100 minuten\nfest / ver­net­zung / zusam­men­kunft / aus­tau­schen / kennenlernen … \n100 jah­re in 100 minu­ten nimmt 100 jah­re frau­en­wahl­recht zum anlass\, um in einem inhalt­li­chen zeit­raf­fer durch die letz­ten 100 jah­re zu strei­fen\, mit beson­de­rem augen­merk auf die ent­wick­lung der rech­te und rea­li­tä­ten von frau­en*\, trans\, Inter* und nicht binä­ren men­schen. 100 jah­re wirft fra­gen auf\, reflek­tiert\, zieht zwi­schen­bi­lan­zen\, schafft kon­stel­la­tio­nen zwi­schen ver­gan­gen­heit\, gegen­wart und zukunft\, stellt sich in bezug zu uto­pien\, will mög­lich­keits­räu­me öff­nen\, dis­kus­sio­nen anre­gen und sich in den öffent­li­chen dis­kurs einschreiben. \nPro­gramm :\n# 18:00 – 18:30 – Gemein­sa­mes Ankommen\n# 18:30 – Prä­sen­ta­ti­on des Pro­jek­tes „100 Jah­re in 100 Minuten“\n# Tisch­ge­sprä­che – 30 Minu­ten Gesprä­che in kur­zen Dis­kus­si­ons­run­den zum Pro­jekt und aktu­el­ler gesell­schaft­li­cher Entwicklung \nAb 20h infor­mel­ler Teil des Abends mit Pro­jek­tio­nen\, Musik\, Speis ( vegan/vegetarisch/… ) und Trank.
URL:https://8maerz.at/veranstaltung/100-jahre-in-100-minuten-auftakt/
LOCATION:Erbsenfabrik im Brick‑5\, Herklotzgasse 21\, Wien\, Wien\, 1150\, Österreich
GEO:48.1897167;16.3343395
X-APPLE-STRUCTURED-LOCATION;VALUE=URI;X-ADDRESS=Erbsenfabrik im Brick‑5 Herklotzgasse 21 Wien Wien 1150 Österreich;X-APPLE-RADIUS=500;X-TITLE=Herklotzgasse 21:geo:16.3343395,48.1897167
END:VEVENT
BEGIN:VEVENT
DTSTART;TZID=UTC:20190219T170000
DTEND;TZID=UTC:20190219T230000
DTSTAMP:20260425T234807
CREATED:20190217T212914Z
LAST-MODIFIED:20190217T213045Z
UID:10003456-1550595600-1550617200@8maerz.at
SUMMARY:Flawless Slam - Feminist Poetry Slam
DESCRIPTION:Feminist Poetry Slam und Workshop\n\nKoope­ra­ti­on mit text­strom Poet­ry Slam \n17:00 Work­shop | 20:00 Poet­ry Slam\nLGBT\, Femi­nis­mus und Lie­be in einem Gedicht\, we can hand­le it cau­se we woke up like this!\nDei­ne Büh­ne\, dein Text\, dein Mikro. \nAnmel­dung zum Work­shop / für einen Platz on stage: textstrom@gmail.com\nVon und mit: Mie­ze Medu­sa & Yasmo \nPreis: € 10 / € 5\nKar­ten: karten@kosmostheater.at
URL:https://8maerz.at/veranstaltung/flawless-slam-feminist-poetry-slam/
LOCATION:KosmosTheater\, Siebensterngasse 42\, Wien\, 1070
GEO:48.2023843;16.3514542
X-APPLE-STRUCTURED-LOCATION;VALUE=URI;X-ADDRESS=KosmosTheater Siebensterngasse 42 Wien 1070;X-APPLE-RADIUS=500;X-TITLE=Siebensterngasse 42:geo:16.3514542,48.2023843
END:VEVENT
END:VCALENDAR