BEGIN:VCALENDAR
VERSION:2.0
PRODID:-//8. März - ECPv6.15.20//NONSGML v1.0//EN
CALSCALE:GREGORIAN
METHOD:PUBLISH
X-WR-CALNAME:8. März
X-ORIGINAL-URL:https://8maerz.at
X-WR-CALDESC:Veranstaltungen für 8. März
REFRESH-INTERVAL;VALUE=DURATION:PT1H
X-Robots-Tag:noindex
X-PUBLISHED-TTL:PT1H
BEGIN:VTIMEZONE
TZID:Europe/Vienna
BEGIN:DAYLIGHT
TZOFFSETFROM:+0100
TZOFFSETTO:+0200
TZNAME:CEST
DTSTART:20190331T010000
END:DAYLIGHT
BEGIN:STANDARD
TZOFFSETFROM:+0200
TZOFFSETTO:+0100
TZNAME:CET
DTSTART:20191027T010000
END:STANDARD
BEGIN:DAYLIGHT
TZOFFSETFROM:+0100
TZOFFSETTO:+0200
TZNAME:CEST
DTSTART:20200329T010000
END:DAYLIGHT
BEGIN:STANDARD
TZOFFSETFROM:+0200
TZOFFSETTO:+0100
TZNAME:CET
DTSTART:20201025T010000
END:STANDARD
BEGIN:DAYLIGHT
TZOFFSETFROM:+0100
TZOFFSETTO:+0200
TZNAME:CEST
DTSTART:20210328T010000
END:DAYLIGHT
BEGIN:STANDARD
TZOFFSETFROM:+0200
TZOFFSETTO:+0100
TZNAME:CET
DTSTART:20211031T010000
END:STANDARD
END:VTIMEZONE
BEGIN:VEVENT
DTSTART;TZID=Europe/Vienna:20200309T180000
DTEND;TZID=Europe/Vienna:20200309T220000
DTSTAMP:20260426T030517
CREATED:20200209T001609Z
LAST-MODIFIED:20200209T004518Z
UID:10003655-1583776800-1583791200@8maerz.at
SUMMARY:Hear Me Roar – Female Creators Festival
DESCRIPTION:Hear Me Roar – Female Creators Festival\nA week to cele­bra­te fema­le crea­tors! For Inter­na­tio­nal Women’s Day\, we are pre­sen­ting a mix­tu­re of dif­fe­rent types of art\, all with one com­mon deno­mi­na­tor: they were crea­ted by fema­le artists. \n07.03.2020 – Hear MY Birth: The offi­ci­al launch of the festival\n08.03.2020 – Hear My Sto­ry Part 1: An evening of staged sce­nes and monologues\n09.03.2020 – Hear My Music: An evening of clas­si­cal music\n10.03.2020 – Hear My Slam: Poet­ry Slam\n11.03.2020 – Hear My Laugh: Stand Up Comedy\n12.03.2020 – Hear My Song: An evening of music from con­tem­po­ra­ry artists\n13.03.2020 – Hear My Sto­ry: Two short plays to con­clude the festival \nTickets: openhousetheatre.at/story/hear-me-roar-2020
URL:https://8maerz.at/veranstaltung/hear-me-roar-female-creators-festival/2020-03-09/
LOCATION:Spektakel\, Hamburgerstraße 14\, Wien\, 1050
GEO:48.1957049;16.356046
X-APPLE-STRUCTURED-LOCATION;VALUE=URI;X-ADDRESS=Spektakel Hamburgerstraße 14 Wien 1050;X-APPLE-RADIUS=500;X-TITLE=Hamburgerstraße 14:geo:16.356046,48.1957049
END:VEVENT
BEGIN:VEVENT
DTSTART;TZID=Europe/Vienna:20200310T180000
DTEND;TZID=Europe/Vienna:20200310T220000
DTSTAMP:20260426T030518
CREATED:20200209T001609Z
LAST-MODIFIED:20200209T004518Z
UID:10003656-1583863200-1583877600@8maerz.at
SUMMARY:Hear Me Roar – Female Creators Festival
DESCRIPTION:Hear Me Roar – Female Creators Festival\nA week to cele­bra­te fema­le crea­tors! For Inter­na­tio­nal Women’s Day\, we are pre­sen­ting a mix­tu­re of dif­fe­rent types of art\, all with one com­mon deno­mi­na­tor: they were crea­ted by fema­le artists. \n07.03.2020 – Hear MY Birth: The offi­ci­al launch of the festival\n08.03.2020 – Hear My Sto­ry Part 1: An evening of staged sce­nes and monologues\n09.03.2020 – Hear My Music: An evening of clas­si­cal music\n10.03.2020 – Hear My Slam: Poet­ry Slam\n11.03.2020 – Hear My Laugh: Stand Up Comedy\n12.03.2020 – Hear My Song: An evening of music from con­tem­po­ra­ry artists\n13.03.2020 – Hear My Sto­ry: Two short plays to con­clude the festival \nTickets: openhousetheatre.at/story/hear-me-roar-2020
URL:https://8maerz.at/veranstaltung/hear-me-roar-female-creators-festival/2020-03-10/
LOCATION:Spektakel\, Hamburgerstraße 14\, Wien\, 1050
GEO:48.1957049;16.356046
X-APPLE-STRUCTURED-LOCATION;VALUE=URI;X-ADDRESS=Spektakel Hamburgerstraße 14 Wien 1050;X-APPLE-RADIUS=500;X-TITLE=Hamburgerstraße 14:geo:16.356046,48.1957049
END:VEVENT
BEGIN:VEVENT
DTSTART;TZID=Europe/Vienna:20200311T180000
DTEND;TZID=Europe/Vienna:20200311T220000
DTSTAMP:20260426T030518
CREATED:20200209T001609Z
LAST-MODIFIED:20200209T004518Z
UID:10003657-1583949600-1583964000@8maerz.at
SUMMARY:Hear Me Roar – Female Creators Festival
DESCRIPTION:Hear Me Roar – Female Creators Festival\nA week to cele­bra­te fema­le crea­tors! For Inter­na­tio­nal Women’s Day\, we are pre­sen­ting a mix­tu­re of dif­fe­rent types of art\, all with one com­mon deno­mi­na­tor: they were crea­ted by fema­le artists. \n07.03.2020 – Hear MY Birth: The offi­ci­al launch of the festival\n08.03.2020 – Hear My Sto­ry Part 1: An evening of staged sce­nes and monologues\n09.03.2020 – Hear My Music: An evening of clas­si­cal music\n10.03.2020 – Hear My Slam: Poet­ry Slam\n11.03.2020 – Hear My Laugh: Stand Up Comedy\n12.03.2020 – Hear My Song: An evening of music from con­tem­po­ra­ry artists\n13.03.2020 – Hear My Sto­ry: Two short plays to con­clude the festival \nTickets: openhousetheatre.at/story/hear-me-roar-2020
URL:https://8maerz.at/veranstaltung/hear-me-roar-female-creators-festival/2020-03-11/
LOCATION:Spektakel\, Hamburgerstraße 14\, Wien\, 1050
GEO:48.1957049;16.356046
X-APPLE-STRUCTURED-LOCATION;VALUE=URI;X-ADDRESS=Spektakel Hamburgerstraße 14 Wien 1050;X-APPLE-RADIUS=500;X-TITLE=Hamburgerstraße 14:geo:16.356046,48.1957049
END:VEVENT
BEGIN:VEVENT
DTSTART;TZID=Europe/Vienna:20200312T180000
DTEND;TZID=Europe/Vienna:20200312T220000
DTSTAMP:20260426T030518
CREATED:20200209T001609Z
LAST-MODIFIED:20200209T004518Z
UID:10003658-1584036000-1584050400@8maerz.at
SUMMARY:Hear Me Roar – Female Creators Festival
DESCRIPTION:Hear Me Roar – Female Creators Festival\nA week to cele­bra­te fema­le crea­tors! For Inter­na­tio­nal Women’s Day\, we are pre­sen­ting a mix­tu­re of dif­fe­rent types of art\, all with one com­mon deno­mi­na­tor: they were crea­ted by fema­le artists. \n07.03.2020 – Hear MY Birth: The offi­ci­al launch of the festival\n08.03.2020 – Hear My Sto­ry Part 1: An evening of staged sce­nes and monologues\n09.03.2020 – Hear My Music: An evening of clas­si­cal music\n10.03.2020 – Hear My Slam: Poet­ry Slam\n11.03.2020 – Hear My Laugh: Stand Up Comedy\n12.03.2020 – Hear My Song: An evening of music from con­tem­po­ra­ry artists\n13.03.2020 – Hear My Sto­ry: Two short plays to con­clude the festival \nTickets: openhousetheatre.at/story/hear-me-roar-2020
URL:https://8maerz.at/veranstaltung/hear-me-roar-female-creators-festival/2020-03-12/
LOCATION:Spektakel\, Hamburgerstraße 14\, Wien\, 1050
GEO:48.1957049;16.356046
X-APPLE-STRUCTURED-LOCATION;VALUE=URI;X-ADDRESS=Spektakel Hamburgerstraße 14 Wien 1050;X-APPLE-RADIUS=500;X-TITLE=Hamburgerstraße 14:geo:16.356046,48.1957049
END:VEVENT
BEGIN:VEVENT
DTSTART;TZID=Europe/Vienna:20200313T180000
DTEND;TZID=Europe/Vienna:20200313T220000
DTSTAMP:20260426T030518
CREATED:20200209T001609Z
LAST-MODIFIED:20200209T004518Z
UID:10003659-1584122400-1584136800@8maerz.at
SUMMARY:Hear Me Roar – Female Creators Festival
DESCRIPTION:Hear Me Roar – Female Creators Festival\nA week to cele­bra­te fema­le crea­tors! For Inter­na­tio­nal Women’s Day\, we are pre­sen­ting a mix­tu­re of dif­fe­rent types of art\, all with one com­mon deno­mi­na­tor: they were crea­ted by fema­le artists. \n07.03.2020 – Hear MY Birth: The offi­ci­al launch of the festival\n08.03.2020 – Hear My Sto­ry Part 1: An evening of staged sce­nes and monologues\n09.03.2020 – Hear My Music: An evening of clas­si­cal music\n10.03.2020 – Hear My Slam: Poet­ry Slam\n11.03.2020 – Hear My Laugh: Stand Up Comedy\n12.03.2020 – Hear My Song: An evening of music from con­tem­po­ra­ry artists\n13.03.2020 – Hear My Sto­ry: Two short plays to con­clude the festival \nTickets: openhousetheatre.at/story/hear-me-roar-2020
URL:https://8maerz.at/veranstaltung/hear-me-roar-female-creators-festival/2020-03-13/
LOCATION:Spektakel\, Hamburgerstraße 14\, Wien\, 1050
GEO:48.1957049;16.356046
X-APPLE-STRUCTURED-LOCATION;VALUE=URI;X-ADDRESS=Spektakel Hamburgerstraße 14 Wien 1050;X-APPLE-RADIUS=500;X-TITLE=Hamburgerstraße 14:geo:16.356046,48.1957049
END:VEVENT
BEGIN:VEVENT
DTSTART;TZID=Europe/Vienna:20200314T120000
DTEND;TZID=Europe/Vienna:20200314T180000
DTSTAMP:20260426T030518
CREATED:20200229T221230Z
LAST-MODIFIED:20200311T194428Z
UID:10003759-1584187200-1584208800@8maerz.at
SUMMARY:ABSAGE: Flohmarkt mit Frauen* beraten Frauen*
DESCRIPTION:Die Ver­an­stal­tung wur­de abge­sagt bzw. verschoben. \nDu willst fri­schen Wind in Dei­nen Klei­der­schrank brin­gen und dabei etwas Gutes tun? Du inter­es­sierst Dich für Frau­en­power und willst ger­ne Gleich­ge­sinn­te ken­nen­ler­nen? Dann komm vorbei!\nFrau­en* Bera­ten Frau­en* fei­ert 40 Jah­re und lädt zum Schlen­dern\, Stö­bern und Plau­dern auf dem Floh­markt ein!\nVer­kau­fe Dei­ne alte Klei­dung\, lass Dich von neu­en Styl­es inspi­rie­ren und genie­ße lecke­ren Kuchen zu chil­li­ger Soul Music. \nDas erwar­tet Dich:\nFashion\nSnacks & Drinks\nMusi­cal Guest: Air of Jas­mi­ne (You­Tube: https://youtu.be/sszpmijRrMs\, Insta­gram: @air.of.jasmine)\nExklu­si­ves Inter­view mit Frau­en* bera­ten Frauen*\nInter­es­san­te neue Bekannt­schaf­ten und net­te Gespräche \nAnmel­dung für einen Ver­kaufs­stand unter: yougogirl.flohmarkt@gmail.com\n(ein Teil der Erlö­se wird an den Ver­ein gespendet) \nAnrei­se:\nOskar-Mor­gen­stern-Platz 1\, 1. Stock\, Men­sa Roß­au­er­län­de (U4)\nSchot­ten­ring (U2\, U4\, 1\, 31\, 3A)\nObe­re Donau­stra­ße (31)
URL:https://8maerz.at/veranstaltung/flohmarkt-mit-frauen-beraten-frauen/
LOCATION:Uni Wien Mensa\, Oskar-Morgenstern-Platz 1\, Wien\, Wien\, 1090\, Österreich
END:VEVENT
END:VCALENDAR