BEGIN:VCALENDAR
VERSION:2.0
PRODID:-//8. März - ECPv6.15.20//NONSGML v1.0//EN
CALSCALE:GREGORIAN
METHOD:PUBLISH
X-WR-CALNAME:8. März
X-ORIGINAL-URL:https://8maerz.at
X-WR-CALDESC:Veranstaltungen für 8. März
REFRESH-INTERVAL;VALUE=DURATION:PT1H
X-Robots-Tag:noindex
X-PUBLISHED-TTL:PT1H
BEGIN:VTIMEZONE
TZID:Europe/Vienna
BEGIN:DAYLIGHT
TZOFFSETFROM:+0100
TZOFFSETTO:+0200
TZNAME:CEST
DTSTART:20190331T010000
END:DAYLIGHT
BEGIN:STANDARD
TZOFFSETFROM:+0200
TZOFFSETTO:+0100
TZNAME:CET
DTSTART:20191027T010000
END:STANDARD
BEGIN:DAYLIGHT
TZOFFSETFROM:+0100
TZOFFSETTO:+0200
TZNAME:CEST
DTSTART:20200329T010000
END:DAYLIGHT
BEGIN:STANDARD
TZOFFSETFROM:+0200
TZOFFSETTO:+0100
TZNAME:CET
DTSTART:20201025T010000
END:STANDARD
BEGIN:DAYLIGHT
TZOFFSETFROM:+0100
TZOFFSETTO:+0200
TZNAME:CEST
DTSTART:20210328T010000
END:DAYLIGHT
BEGIN:STANDARD
TZOFFSETFROM:+0200
TZOFFSETTO:+0100
TZNAME:CET
DTSTART:20211031T010000
END:STANDARD
END:VTIMEZONE
BEGIN:VEVENT
DTSTART;TZID=Europe/Vienna:20200305T183000
DTEND;TZID=Europe/Vienna:20200305T233000
DTSTAMP:20260425T195045
CREATED:20200208T140755Z
LAST-MODIFIED:20200303T200109Z
UID:10003634-1583433000-1583451000@8maerz.at
SUMMARY:ABGESAGT! Frauenfest "Trau dich! Frauenstimmen gegen Gewalt"
DESCRIPTION:Die Ver­an­stal­tung wur­de lei­der abgesagt. \nDer Titel ver­weist dar­auf\, dass Frau­en Gemein­sam­kei­ten und viel­fäl­ti­ge Stim­men haben. Frau­en sind mit­ein­an­der durch die weib­li­che Iden­ti­tät über die Gren­zen unter­schied­li­cher Sozia­li­sie­run­gen\, Kul­tu­ren\, per­sön­li­chen Geschich­ten und Erfah­run­gen hin­weg mit­ein­an­der ver­bun­den: Gleich­zei­tig haben wir auf­grund von unter­schied­li­chen Posi­tio­nen\, Res­sour­cen und Inter­es­sen eine Plu­ra­li­tät an Stimmen.\nEs wird auch die­ses Jahr ein bun­tes Fest mit vie­len Künst­le­rin­nen aus unter­schied­li­chen Län­dern\, einer Mode­show\, Lesun­gen und Lebens­ge­schich­ten von star­ken Frau­en geben. \nTeil­neh­men­de Künstlerinnen:\nAse­man Zein­lou – Gesang\, Farsi/Deutsch\nPaläs­ti­nen­si­sche Folk­lo­re\, dabke\nWag­ma Rah­man & Sari­na Rah­man – Musik\, Afghanistan\nMayas Alk­ha­tib & Banan Sak­ba­ni – Gesang und Musik\, Syrien\nMar­zia Alemi\, Afgha­ni­stan & Son­ja Sie­gert – Gesang und Lesung\nKoma\, Rap­pe­rin\, Kurd. Völker\nMara­ca­tu Nos­sa Luz\, Lateinamerika\nMara­ca­tu Caxin­guelê\, Lateinamerika\nDuaa Ras­ho – Lesung\, Syrien \nMode­show\, Paläs­ti­na und Afrika\nInter­na­tio­na­les Buffet \nEin­tritt frei.
URL:https://8maerz.at/veranstaltung/frauenfest-trau-dich-frauenstimmen-gegen-gewalt/
LOCATION:VHS Döbling\, Gatterburggasse 2a\, Wien\, 1190
GEO:48.2389799;16.3500379
X-APPLE-STRUCTURED-LOCATION;VALUE=URI;X-ADDRESS=VHS Döbling Gatterburggasse 2a Wien 1190;X-APPLE-RADIUS=500;X-TITLE=Gatterburggasse 2a:geo:16.3500379,48.2389799
END:VEVENT
BEGIN:VEVENT
DTSTART;TZID=Europe/Vienna:20200306T180000
DTEND;TZID=Europe/Vienna:20200306T220000
DTSTAMP:20260425T195045
CREATED:20200127T161233Z
LAST-MODIFIED:20200229T203121Z
UID:10003618-1583517600-1583532000@8maerz.at
SUMMARY:Hietzinger Frauentag 2020
DESCRIPTION:Hietzinger Frauentag\nMusi­ka­li­scher Bei­trag der Singer/Songwriterin Syan­nah: „Born to inspire“ \nFrank­ti­ons­über­grei­fen­de Ver­an­stal­tung der Bezirks­rä­tin­nen der SPÖ\, der Grü­nen und der VHS Hiet­zing\,  Dr. Robert Streibel \nWann? Frei­tag\, 6. März 2020\, 18:00 Sekt­emp­fang\, 18:30 Beginn\nWo? Gro­ßer Saal der VHS Hiet­zing\, 1130 Wien\, Hof­wie­sen­gas­se 48 \nSyan­nah\nDurch ihre gefühl­vol­le und ehr­li­che Art\, die sich auch in ihrer Musik wider­spie­gelt\, schafft es die Künst­le­rin\, ihre Zuhö­rer immer wie­der auf ganz beson­de­re Wei­se zu berüh­ren und ihnen zu zei­gen\, dass wir alle nur Men­schen sind und dass es im Leben nicht dar­um geht\, per­fekt zu sein\, son­dern dar­um\, ein­fach man selbst zu sein. \nRah­men­pro­gramm:\nBuf­fet\, gestal­tet von den Orga­ni­sa­to­rin­nen und Dimit­ris Papaoikonomou\nBücher­tisch der Ober St. Vei­ter Buch­hand­lung\, Eli­sa­beth Glaeser\nIgor\, Flücht­lings­pro­jekt der VHS Hiet­zing\, prä­sen­tiert sei­ne Arbeit und ver­kauft Genähtes.\nGemüt­li­cher Aus­klang bei Talk tog­e­ther und Tanz \nGeför­dert von:\nBasis.Kultur.Wien // Kul­tur­ver­ein Hiet­zing // Wien Kul­tur // VHS Hietzing
URL:https://8maerz.at/veranstaltung/hietzinger-frauentag-2020/
LOCATION:VHS Hietzing\, Hofwiesengasse 48\, Wien\, 1130
GEO:48.1704596;16.286833
X-APPLE-STRUCTURED-LOCATION;VALUE=URI;X-ADDRESS=VHS Hietzing Hofwiesengasse 48 Wien 1130;X-APPLE-RADIUS=500;X-TITLE=Hofwiesengasse 48:geo:16.286833,48.1704596
END:VEVENT
BEGIN:VEVENT
DTSTART;TZID=Europe/Vienna:20200307T160000
DTEND;TZID=Europe/Vienna:20200307T235900
DTSTAMP:20260425T195045
CREATED:20200224T215250Z
LAST-MODIFIED:20200224T215319Z
UID:10003698-1583596800-1583625540@8maerz.at
SUMMARY:8. MÄRZstraßenFEST
DESCRIPTION:Die März­stra­ße ist die ein­zi­ge Stra­ße Wiens\, die nach einer Revo­lu­ti­on benannt ist. Zum inter­na­tio­na­len Frau­en­tag ver­wan­deln wir die März­stra­ße in die „8.Märzstraße“ und holen die femi­nis­ti­sche Revo­lu­ti­on nach Rudolfsheim-Fünfhaus!\nIn 5 Loka­len ent­lang der März­stra­ße gibt es anläss­lich des Welt­frau­en­ta­ges Kon­zer­te & Musik. Dabei wer­den Spen­den für den Ver­ein „Sophie“ gesammelt. \nWar­um „SOPHIE“?\nDas SOPHIE-Bera­tungs­Zen­trum für Sex­ar­bei­te­rin­nen ist eine Bera­tungs­stel­le der Volks­hil­fe Wien. SOPHIE bie­tet Frau­en in der Sex­ar­beit Unter­stüt­zung\, wenn die­se gebraucht wird. Geprägt ist die Arbeit von einem akzep­tie­ren­den Ansatz. \nWas ist der Weltfrauentag?\nDer 8. März wird jedes Jahr als inter­na­tio­na­ler Frau­en­tag began­gen. Er erin­nert an die Gleich­be­rech­ti­gung zwi­schen Mann und Frau sowie die Erlan­gung des Wahl­rechts für Frau­en und wur­de 1911 erst­mals gefeiert. \nPROGRAMM: \nSprit­zer­stand:\n16 bis 20 Uhr Sprit­Zer­stand der Sek­ti­on Z im Reit­hof­fer Park.\nBevor es in die Loka­le geht\, gibt es ein Warm-Up der Sek­ti­on Z im Reit­hof­fer­park – mit freund­li­cher Geträn­ke­spen­de des Cafe Cafe SAN MARCO Vien­na. Spen­den für „SOPHIE“ kön­nen vor Ort über­ge­ben werden. \n******************************************************************\nFlæg­ship Rudolfs­heim – März­stra­ße 25 – ab 20:00\nDas Akku­s­tik-Duo Lorenz+The Machi­ne spielt auf Cajon und Gitar­re die Bes­te Par­ty­mu­sik aus den 90ern.\nSpen­de: Ein Teil des Umsat­zes wird gespendet. \n******************************************************************\nExil in der März­stra­ße – März­stra­ße 66 – ab 19:00\nMusic by fema­le Sin­gers only.\nSpen­de: 20% des Net­to­um­sat­zes gehen an den „SOPHIE.“ \n******************************************************************\nBLUE TOMATO – März­stra­ße Ecke Wurm­ser­gas­se 21 – ab 20:30\nKon­zert „Duo 4675“\nBea­te Wie­sin­ger\, Kon­tra­bass\, Stimme\nAstrid Wie­sin­ger\, Saxo­pho­ne\, Syn­th\, Stimme \n„Unkon­ven­tio­nell\, unklas­sisch und unka­te­go­ri­sier­bar sind die wohl drei pas­sends­ten Adjek­ti­ve\, mit denen man den Sound des Duo 4675 am bes­ten beschrei­ben kann. Das Geschwis­ter­paar Astrid und Bea­te Wie­sin­ger tut hör­bar genau das\, was es will\, es ver­lässt die aus­ge­tre­te­nen musi­ka­li­schen Pfa­de und ver­wirk­licht mit Bass und Saxo­fon einen Jazz­klang\, der sich auf eine erfri­schend ande­re Art und Wei­se erschließt. Sti­lis­tisch schöp­fen die aus Ober­ös­ter­reich stam­men­den Musi­ke­rin­nen\, die die Post­leit­zahl ihres Hei­mat­or­tes Wei­bern zum Band­na­men gemacht haben\, aus dem Vol­len\, sie zie­hen die Linie auf wun­der­bar schrä­ge Wei­se vom Jazz über den Blues bis hin zum Pop. In den Stü­cken des Zwei­er­ge­spanns groovt es\nmäch­tig\, mal auf wun­der­bar melo­di­sche Art\, dann wie­der gänz­lich in frei­er Form. Es ist ein stän­di­ges\, kon­trast­rei­ches Hin und Her zwi­schen den Gegen­sät­zen\, wel­ches das Duo zu sei­nem Pro­gramm macht und das letzt­lich auch für den\nspan­nungs­ge­la­de­nen musi­ka­li­schen Bogen sorgt.“ \nBeginn 20h30\, Ein­tritt 12\,-\nSpen­de: 10 % des Umsat­zes wer­den an den „SOPHIE“ gespendet. \n******************************************************************\nDas Augus­tin – März­stra­ße 67 – ab 19:00\nEman­zen Tan­zen – open mic Night der SJNÖ. Die Büh­ne gehört jun­gen Frau­en\, die Stand Up Come­dy machen\, sin­gen\, tan­zen\, musizieren.\nSpen­de: Es wer­den Hut­spen­den für „SOPHIE“ gesammelt. \n******************************************************************\nCafé Ama­de­us – März­stra­ße 4 – ab 20:30\nKon­zert ANGé­li­ca Rimol­di und Ihre Gitar­ren – Tan­go Argen­ti­no mit der Tan­go­s­än­ge­rin Angé­li­ca Rimoldi.\nSpen­de: Das Cafe Ama­de­us unter­stützt „SOPHIE“ mit einer Spende.
URL:https://8maerz.at/veranstaltung/8-maerz-strassen-fest/
LOCATION:Märzstraße\, Märzstraße\, Wien\, Wien\, 1150\, Österreich
END:VEVENT
BEGIN:VEVENT
DTSTART;TZID=Europe/Vienna:20200307T180000
DTEND;TZID=Europe/Vienna:20200307T220000
DTSTAMP:20260425T195045
CREATED:20200209T001609Z
LAST-MODIFIED:20200209T004518Z
UID:10003653-1583604000-1583618400@8maerz.at
SUMMARY:Hear Me Roar – Female Creators Festival
DESCRIPTION:Hear Me Roar – Female Creators Festival\nA week to cele­bra­te fema­le crea­tors! For Inter­na­tio­nal Women’s Day\, we are pre­sen­ting a mix­tu­re of dif­fe­rent types of art\, all with one com­mon deno­mi­na­tor: they were crea­ted by fema­le artists. \n07.03.2020 – Hear MY Birth: The offi­ci­al launch of the festival\n08.03.2020 – Hear My Sto­ry Part 1: An evening of staged sce­nes and monologues\n09.03.2020 – Hear My Music: An evening of clas­si­cal music\n10.03.2020 – Hear My Slam: Poet­ry Slam\n11.03.2020 – Hear My Laugh: Stand Up Comedy\n12.03.2020 – Hear My Song: An evening of music from con­tem­po­ra­ry artists\n13.03.2020 – Hear My Sto­ry: Two short plays to con­clude the festival \nTickets: openhousetheatre.at/story/hear-me-roar-2020
URL:https://8maerz.at/veranstaltung/hear-me-roar-female-creators-festival/2020-03-07/
LOCATION:Spektakel\, Hamburgerstraße 14\, Wien\, 1050
GEO:48.1957049;16.356046
X-APPLE-STRUCTURED-LOCATION;VALUE=URI;X-ADDRESS=Spektakel Hamburgerstraße 14 Wien 1050;X-APPLE-RADIUS=500;X-TITLE=Hamburgerstraße 14:geo:16.356046,48.1957049
END:VEVENT
BEGIN:VEVENT
DTSTART;TZID=Europe/Vienna:20200308T180000
DTEND;TZID=Europe/Vienna:20200308T210000
DTSTAMP:20260425T195045
CREATED:20200307T220838Z
LAST-MODIFIED:20200307T220838Z
UID:10003782-1583690400-1583701200@8maerz.at
SUMMARY:Konzert: Ina Regen | Internationaler Frauentag 2020
DESCRIPTION:17:00 Uhr Einlass\n18:00 Uhr Beginn\n(20:45 Uhr vor­aus­sicht­li­ches Ende) \nIna Regen • Inter­na­tio­na­ler Frau­en­tag 2020\nUNGEWÖHNLICH SELBSTVERSTÄNDLICH\n————————————————————-\nDie Künst­le­rin Ina Regen lädt am Inter­na­tio­na­len Frau­en­tag 2020 zu einem Abend ins Wie­ner Kon­zert­haus. Unter dem Titel „SIE“ wird eine Aus­wahl sehr unter­schied­li­cher öster­rei­chi­scher Künst­le­rin­nen Lie­der und Gedan­ken auf die Büh­ne bringen.\nZu den bereits bestä­tig­ten Gäs­ten zäh­len die Aus­tro­po­ple­gen­de Mari­an­ne Mendt\, das Kult­duo Wie­ner Blond\, Musi­cal-Star Ana Mil­va Gomes\, Soul­stim­me LYLIT und Poet­ry-Slam­me­rin Yas­mo sowie die Publi­kums­lieb­lin­ge Bir­git Denk\, Moni­ka Ball­wein oder MARINA & THE KATS.\nFrisch mit dabei: 5/8erl in Ehr’n und Eva-Maria Marold \nMehr Infor­ma­tio­nen sie­he hier.
URL:https://8maerz.at/veranstaltung/konzert-ina-regen-internationaler-frauentag-2020/
LOCATION:Wiener Konzerthaus\, Lothringerstraße 20\, Wien\, Wien\, 1030\, Österreich
END:VEVENT
BEGIN:VEVENT
DTSTART;TZID=Europe/Vienna:20200308T180000
DTEND;TZID=Europe/Vienna:20200308T220000
DTSTAMP:20260425T195045
CREATED:20200209T001609Z
LAST-MODIFIED:20200209T004518Z
UID:10003654-1583690400-1583704800@8maerz.at
SUMMARY:Hear Me Roar – Female Creators Festival
DESCRIPTION:Hear Me Roar – Female Creators Festival\nA week to cele­bra­te fema­le crea­tors! For Inter­na­tio­nal Women’s Day\, we are pre­sen­ting a mix­tu­re of dif­fe­rent types of art\, all with one com­mon deno­mi­na­tor: they were crea­ted by fema­le artists. \n07.03.2020 – Hear MY Birth: The offi­ci­al launch of the festival\n08.03.2020 – Hear My Sto­ry Part 1: An evening of staged sce­nes and monologues\n09.03.2020 – Hear My Music: An evening of clas­si­cal music\n10.03.2020 – Hear My Slam: Poet­ry Slam\n11.03.2020 – Hear My Laugh: Stand Up Comedy\n12.03.2020 – Hear My Song: An evening of music from con­tem­po­ra­ry artists\n13.03.2020 – Hear My Sto­ry: Two short plays to con­clude the festival \nTickets: openhousetheatre.at/story/hear-me-roar-2020
URL:https://8maerz.at/veranstaltung/hear-me-roar-female-creators-festival/2020-03-08/
LOCATION:Spektakel\, Hamburgerstraße 14\, Wien\, 1050
GEO:48.1957049;16.356046
X-APPLE-STRUCTURED-LOCATION;VALUE=URI;X-ADDRESS=Spektakel Hamburgerstraße 14 Wien 1050;X-APPLE-RADIUS=500;X-TITLE=Hamburgerstraße 14:geo:16.356046,48.1957049
END:VEVENT
END:VCALENDAR