BEGIN:VCALENDAR
VERSION:2.0
PRODID:-//8. März - ECPv6.15.20//NONSGML v1.0//EN
CALSCALE:GREGORIAN
METHOD:PUBLISH
X-ORIGINAL-URL:https://8maerz.at
X-WR-CALDESC:Veranstaltungen für 8. März
REFRESH-INTERVAL;VALUE=DURATION:PT1H
X-Robots-Tag:noindex
X-PUBLISHED-TTL:PT1H
BEGIN:VTIMEZONE
TZID:Europe/Vienna
BEGIN:DAYLIGHT
TZOFFSETFROM:+0100
TZOFFSETTO:+0200
TZNAME:CEST
DTSTART:20230326T010000
END:DAYLIGHT
BEGIN:STANDARD
TZOFFSETFROM:+0200
TZOFFSETTO:+0100
TZNAME:CET
DTSTART:20231029T010000
END:STANDARD
BEGIN:DAYLIGHT
TZOFFSETFROM:+0100
TZOFFSETTO:+0200
TZNAME:CEST
DTSTART:20240331T010000
END:DAYLIGHT
BEGIN:STANDARD
TZOFFSETFROM:+0200
TZOFFSETTO:+0100
TZNAME:CET
DTSTART:20241027T010000
END:STANDARD
BEGIN:DAYLIGHT
TZOFFSETFROM:+0100
TZOFFSETTO:+0200
TZNAME:CEST
DTSTART:20250330T010000
END:DAYLIGHT
BEGIN:STANDARD
TZOFFSETFROM:+0200
TZOFFSETTO:+0100
TZNAME:CET
DTSTART:20251026T010000
END:STANDARD
END:VTIMEZONE
BEGIN:VEVENT
DTSTART;TZID=Europe/Vienna:20240301T090000
DTEND;TZID=Europe/Vienna:20240301T160000
DTSTAMP:20260424T193446
CREATED:20240127T220456Z
LAST-MODIFIED:20240127T222218Z
UID:10004090-1709283600-1709308800@8maerz.at
SUMMARY:5. Fachtagung für Frauen*Netzwerke
DESCRIPTION:Datum:  1. März 2024 | 09:00 – 16:00 Uhr\nThe­ma: „Ver­net­zen. Inspi­rie­ren. Sichtbarkeit.“ \nOnline-Vor­trä­ge & Workshops:\nWork­shop 1 | Inspi­ra­ti­on zur Team- und Mitgliederförderung\nMit Moni­ka Herbstrith-Lappe\nPrak­ti­sche Tipps für Team­stär­kung und Mitgliederwachstum \nWork­shop 2 | Erfolg­rei­che Good-Prac­ti­ce-Bei­spie­le aus ehren­amt­li­chen Frauen*Netzwerken\nMit Bei­trä­gen von FRAU iDA und FELIN_female lea­ders initiatives\nErfah­rungs­aus­tausch und Wei­ter­ent­wick­lung von Netzwerken \nWork­shop 3 | Good-Prac­ti­ce-Bei­spie­le aus Firmen-Frauen*Netzwerken\nMit Bei­trä­gen von Wie­ner Lini­en und FACC AG\nDis­kus­si­ons­raum für Fra­gen und Antworten \nWork­shop 4 | Künst­li­che Intel­li­genz (KI) und ChatGPT im Vereinsleben\nMit Bar­ba­ra Oberrauter-Zabransky\nInno­va­ti­ve Ein­satz­mög­lich­kei­ten von KI in Frauen*Netzwerken \nAnmel­dung hier: https://fachtagung-frauennetzwerke.at/ \nOffen für Gestal­te­rin­nen\, Mana­ge­rin­nen\, New­co­me­rin­nen\, Grün­de­rin­nen von Frauen*Vereinen/Organisationen und deren Stakeholderinnen. \nDas NPO Frau­en­netz­werk ist Mit­ver­an­stal­te­rin der Fachtagung. \nKli­ma­schutz­mi­nis­te­ri­um | Mrs.Sporty | NPO Frau­en­netz­werk | Frau im Fokus | Wimen \nSujet © NPO Frauennetzwerk
URL:https://8maerz.at/veranstaltung/5-fachtagung-fuer-frauennetzwerke/
LOCATION:Online\, Wien\, Österreich
ATTACH;FMTTYPE=image/jpeg:https://8maerz.at/wp-content/uploads/sites/20/2024/01/Fachtagung-Frauennetzwerke-2024.jpg
END:VEVENT
END:VCALENDAR