BEGIN:VCALENDAR
VERSION:2.0
PRODID:-//8. März - ECPv6.15.20//NONSGML v1.0//EN
CALSCALE:GREGORIAN
METHOD:PUBLISH
X-ORIGINAL-URL:https://8maerz.at
X-WR-CALDESC:Veranstaltungen für 8. März
REFRESH-INTERVAL;VALUE=DURATION:PT1H
X-Robots-Tag:noindex
X-PUBLISHED-TTL:PT1H
BEGIN:VTIMEZONE
TZID:Europe/Vienna
BEGIN:DAYLIGHT
TZOFFSETFROM:+0100
TZOFFSETTO:+0200
TZNAME:CEST
DTSTART:20230326T010000
END:DAYLIGHT
BEGIN:STANDARD
TZOFFSETFROM:+0200
TZOFFSETTO:+0100
TZNAME:CET
DTSTART:20231029T010000
END:STANDARD
BEGIN:DAYLIGHT
TZOFFSETFROM:+0100
TZOFFSETTO:+0200
TZNAME:CEST
DTSTART:20240331T010000
END:DAYLIGHT
BEGIN:STANDARD
TZOFFSETFROM:+0200
TZOFFSETTO:+0100
TZNAME:CET
DTSTART:20241027T010000
END:STANDARD
BEGIN:DAYLIGHT
TZOFFSETFROM:+0100
TZOFFSETTO:+0200
TZNAME:CEST
DTSTART:20250330T010000
END:DAYLIGHT
BEGIN:STANDARD
TZOFFSETFROM:+0200
TZOFFSETTO:+0100
TZNAME:CET
DTSTART:20251026T010000
END:STANDARD
END:VTIMEZONE
BEGIN:VEVENT
DTSTART;TZID=Europe/Vienna:20240222T173000
DTEND;TZID=Europe/Vienna:20240222T190000
DTSTAMP:20260424T161244
CREATED:20240210T213957Z
LAST-MODIFIED:20240210T214035Z
UID:10004120-1708623000-1708628400@8maerz.at
SUMMARY:Kuratorinnenführung: Darker\, Lighter\, Puffy\, Flat.
DESCRIPTION:Füh­rung\, 22.2.2024\, 17:30 Uhr\n\n\nMuse­ums­quar­tier\n\n\n\n\n\n\n\n\nLau­ra Amann\, Kura­to­rin der Aus­stel­lung\, führt durch Dar­ker\, Ligh­ter\, Puffy\, Flat. \nWir bit­ten um vor­he­ri­ge Anmel­dung unter besucherservice@kunsthallewien.at oder direkt an der Kas­sa der Kunst­hal­le Wien Muse­ums­quar­tier. Die Teilnehmer*innenzahl ist begrenzt. \nDie Füh­rung ist kos­ten­los und fin­det auf Eng­lisch statt. \n\n\nDie Aus­stel­lung Dar­ker\, Ligh­ter\, Puffy\, Flat befasst sich mit dem The­ma Brüs­te und der Fra­ge\, war­um sie immer noch Gegen­stand zahl­rei­cher Skan­da­le und Aus­ein­an­der­set­zun­gen zu sein schei­nen. War­um gilt es als unschick­lich\, wenn Frau­en sich am Swim­ming­pool oben ohne zei­gen? War­um ist es anstö­ßig\, in der Öffent­lich­keit die Brust zu geben\, oder gar – Ach­tung! – ein Tier zu stil­len? War­um ist es eine Nach­rich­ten­mel­dung wert\, wenn jemand grö­ße­re Brüs­te\, klei­ne­re Brüs­te oder gar kei­ne Brüs­te haben möch­te? War­um reden wir immer noch über Brüste?
URL:https://8maerz.at/veranstaltung/kuratorinnenfuehrung-darker-lighter-puffy-flat/
LOCATION:MuseumsQuartier\, Museumsplatz 1\, Wien\, 1070
GEO:48.2026499;16.3591421
X-APPLE-STRUCTURED-LOCATION;VALUE=URI;X-ADDRESS=MuseumsQuartier Museumsplatz 1 Wien 1070;X-APPLE-RADIUS=500;X-TITLE=Museumsplatz 1:geo:16.3591421,48.2026499
END:VEVENT
BEGIN:VEVENT
DTSTART;TZID=Europe/Vienna:20240223T150000
DTEND;TZID=Europe/Vienna:20240223T170000
DTSTAMP:20260424T161244
CREATED:20240210T220619Z
LAST-MODIFIED:20240210T220619Z
UID:10004126-1708700400-1708707600@8maerz.at
SUMMARY:Ausstellungsbesuch: Renate Bertlmann. Fragile Obsessionen.
DESCRIPTION:Rena­te Bertl­mann ist eine der wesent­li­chen Prot­ago­nis­tin­nen der öster­rei­chi­schen femi­nis­ti­schen Avant­gar­de. Bertl­manns radi­ka­le\, iro­nisch-pro­vo­ka­ti­ve Arbei­ten unter­wan­dern gesell­schaft­li­che Zuschrei­bun­gen und Ste­reo­ty­pe von Geschlecht\, Weib­lich­keit und Männ­lich­keit und adres­sie­ren dabei die Kampf­zo­ne des weib­li­chen Kör­pers eben­so wie Ambi­va­len­zen von Lust und Schmerz\, Begeh­ren\, Dis­zi­pli­nie­rung\, Zärt­lich­keit und Ver­wund­bar­keit. Ihr Werk zeich­net eine gro­ße Expe­ri­men­tier­freu­de in einer Viel­falt von Medi­en und Mate­ria­li­en aus. \nMax. 20 Teil­neh­me­rin­nen (first come\, first serve)\nOrt: Bel­ve­de­re 21 (Arse­nal­str. 1\, 1030 Wien) \nDer Ein­tritt ist von den Teil­neh­me­rin­nen selbst zu über­neh­men (vor Ort: Regu­lär € 11\,00 (digi­tal € 9\,30) Senior*innen ab 65 € 8\,00 (digi­tal € 6\,90)\, Stu­die­ren­de unter 26 € 8\,00 (digi­tal € 6\,90). Nähe­re Infor­ma­tio­nen zu den Ein­tritts­prei­sen sowie dem Online­shop sind unter https://www.belvedere.at/tickets zu finden. \nDie Kos­ten für die Füh­rung über­nimmt die Frauenhetz.\nDie Füh­rung ist für Frauen. \nAnmel­dung bis spä­tes­tens Mon­tag\, 19. Febru­ar 12 Uhr\, an pr@frauenhetz.at
URL:https://8maerz.at/veranstaltung/ausstellungsbesuch-renate-bertlmann-fragile-obsessionen/
LOCATION:Belvedere 21\, Arsenalstraße 1\, Wien\, Wien\, 1030\, Österreich
ORGANIZER;CN="Frauenhetz - feministische Bildung%2C Kultur und Politik":MAILTO:office@frauenhetz.at
END:VEVENT
END:VCALENDAR