BEGIN:VCALENDAR
VERSION:2.0
PRODID:-//8. März - ECPv6.15.20//NONSGML v1.0//EN
CALSCALE:GREGORIAN
METHOD:PUBLISH
X-ORIGINAL-URL:https://8maerz.at
X-WR-CALDESC:Veranstaltungen für 8. März
REFRESH-INTERVAL;VALUE=DURATION:PT1H
X-Robots-Tag:noindex
X-PUBLISHED-TTL:PT1H
BEGIN:VTIMEZONE
TZID:Europe/Vienna
BEGIN:DAYLIGHT
TZOFFSETFROM:+0100
TZOFFSETTO:+0200
TZNAME:CEST
DTSTART:20230326T010000
END:DAYLIGHT
BEGIN:STANDARD
TZOFFSETFROM:+0200
TZOFFSETTO:+0100
TZNAME:CET
DTSTART:20231029T010000
END:STANDARD
BEGIN:DAYLIGHT
TZOFFSETFROM:+0100
TZOFFSETTO:+0200
TZNAME:CEST
DTSTART:20240331T010000
END:DAYLIGHT
BEGIN:STANDARD
TZOFFSETFROM:+0200
TZOFFSETTO:+0100
TZNAME:CET
DTSTART:20241027T010000
END:STANDARD
BEGIN:DAYLIGHT
TZOFFSETFROM:+0100
TZOFFSETTO:+0200
TZNAME:CEST
DTSTART:20250330T010000
END:DAYLIGHT
BEGIN:STANDARD
TZOFFSETFROM:+0200
TZOFFSETTO:+0100
TZNAME:CET
DTSTART:20251026T010000
END:STANDARD
END:VTIMEZONE
BEGIN:VEVENT
DTSTART;TZID=Europe/Vienna:20240215T173000
DTEND;TZID=Europe/Vienna:20240215T190000
DTSTAMP:20260424T144935
CREATED:20240210T213608Z
LAST-MODIFIED:20240210T214100Z
UID:10004119-1708018200-1708023600@8maerz.at
SUMMARY:Führung: Brüste – Ein Perspektivwechsel
DESCRIPTION:Füh­rung\, 15.2.2024\, 17:30 Uhr\nMuseumsquartier\nJeden ers­ten und drit­ten Don­ners­tag des Monats um 17:30 Uhr könnt ihr die Aus­stel­lung Dar­ker\, Ligh­ter\, Puffy\, Flat mit unse­ren Kunstvermittler*innen ent­de­cken und über die Zusam­men­hän­ge und Hin­ter­grün­de der aus­ge­stell­ten Wer­ke diskutieren. \nDie Füh­run­gen sind kos­ten­los und fin­den in deut­scher Spra­che statt. \nMit: Caro­la Fuchs • Andrea Hubin • Michae­la Lan­kes • Micha­el Sim­ku • Daliah Tou­ré • Mar­tin Walkner \nDie Grup­pen­aus­stel­lung Dar­ker\, Ligh­ter\, Puffy\, Flat zeigt Wer­ke\, dar­un­ter meh­re­re neue Auf­trags­ar­bei­ten\, von inter­na­tio­na­len Künstler*innen\, die sich mit den viel­fäl­ti­gen Bedeu­tun­gen der Brust in der Geschich­te der Kunst\, aber auch in Gesell­schaft und Kul­tur ins­ge­samt aus­ein­an­der­set­zen. Zu sehen sind Arbei­ten\, die sich im Span­nungs­feld der vie­len ein­an­der wider­spre­chen­den – und manch­mal heuch­le­ri­schen – wie auch sinn­li­chen und spie­le­ri­schen Per­spek­ti­ven auf Brüs­te bewegen. \nWar­um reden wir immer noch über Brüs­te und war­um lösen sie Zen­sur und Debat­ten aus? Wir wol­len mit euch über Brüs­te spre­chen\, denn ganz gleich\, wel­che indi­vi­du­el­len Erfah­run­gen wir mit ihnen machen: Wir alle haben sie.
URL:https://8maerz.at/veranstaltung/fuehrung-brueste-ein-perspektivwechsel/
LOCATION:MuseumsQuartier\, Museumsplatz 1\, Wien\, 1070
GEO:48.2026499;16.3591421
X-APPLE-STRUCTURED-LOCATION;VALUE=URI;X-ADDRESS=MuseumsQuartier Museumsplatz 1 Wien 1070;X-APPLE-RADIUS=500;X-TITLE=Museumsplatz 1:geo:16.3591421,48.2026499
END:VEVENT
BEGIN:VEVENT
DTSTART;TZID=Europe/Vienna:20240215T180000
DTEND;TZID=Europe/Vienna:20240215T193000
DTSTAMP:20260424T144935
CREATED:20240211T200658Z
LAST-MODIFIED:20240211T201113Z
UID:10004140-1708020000-1708025400@8maerz.at
SUMMARY:Fat Acceptance: Brigitte Theißl im Gespräch mit Ina Holub
DESCRIPTION:Am 15.2. ist Our Bodies im Tanz­quar­tier Wien: Bri­git­te Theißl im Gespräch mit Ina Holub zu Fat Acceptance \nDicke_fette Men­schen erfah­ren in sämt­li­chen Lebens­be­rei­chen Dis­kri­mi­nie­rung\, etwa in der Arbeits­welt und im Gesund­heits­sys­tem. Seit Jahr­zehn­ten kämpft die Fat-Accep­tance-Bewe­gung gegen Hass\, Dis­kri­mi­nie­rung und gesell­schaft­li­che Nor­men\, die Kör­per auf­grund des Gewichts bewer­ten. Auch wenn Fat-Accep­tance in Kunst und Pop­kul­tur längst The­ma ist\, wer­den dicke_fette Per­so­nen immer noch als „ande­re“ mar­kiert und erfah­ren Ablehnung. \nIm Our-Bodies-Talk spricht Bri­git­te Theißl mit Künst­le­rin und Akti­vis­tin Ina Holub über Schön­heits­nor­men\, mehr­fach mar­gi­na­li­sier­te Per­so­nen in der Kul­tur und que­er­fe­mi­nis­ti­sche Kämpfe. \nIna Holub ist eine que­e­re Fat-Accep­tance- und Body-Posi­ti­vi­ty-Akti­vis­tin und Teil von Karin Chengs Kiki House of Dive. Sie gibt Voguing-Kur­se für mehr­ge­wich­ti­ge und que­e­re Per­so­nen und setzt sich in Vor­trä­gen\, Arti­keln und auf Insta­gram für mehr­fach mar­gi­na­li­sier­te Men­schen ein. \nBri­git­te Theißl ist Mit­ar­bei­te­rin bei Our Bodies\, lei­ten­de Redak­teu­rin beim femi­nis­ti­schen Maga­zin an.schläge und freie Journalistin. \nWann: Do.\, 15. Febru­ar\, 18 Uhr\nWo: Tanz­quar­tier Wien Studios\nEin­tritt frei \nFoto © Han­na Fasching
URL:https://8maerz.at/veranstaltung/fat-acceptance-gespraech/
LOCATION:Tanzquartier Wien\, Museumsplatz 1\, Wien\, 1070
ATTACH;FMTTYPE=image/jpeg:https://8maerz.at/wp-content/uploads/sites/20/2024/02/Fat-acceptance_15-02-2024.jpg
END:VEVENT
END:VCALENDAR