BEGIN:VCALENDAR
VERSION:2.0
PRODID:-//8. März - ECPv6.15.17.1//NONSGML v1.0//EN
CALSCALE:GREGORIAN
METHOD:PUBLISH
X-WR-CALNAME:8. März
X-ORIGINAL-URL:https://8maerz.at
X-WR-CALDESC:Veranstaltungen für 8. März
REFRESH-INTERVAL;VALUE=DURATION:PT1H
X-Robots-Tag:noindex
X-PUBLISHED-TTL:PT1H
BEGIN:VTIMEZONE
TZID:Europe/Vienna
BEGIN:DAYLIGHT
TZOFFSETFROM:+0100
TZOFFSETTO:+0200
TZNAME:CEST
DTSTART:20230326T010000
END:DAYLIGHT
BEGIN:STANDARD
TZOFFSETFROM:+0200
TZOFFSETTO:+0100
TZNAME:CET
DTSTART:20231029T010000
END:STANDARD
BEGIN:DAYLIGHT
TZOFFSETFROM:+0100
TZOFFSETTO:+0200
TZNAME:CEST
DTSTART:20240331T010000
END:DAYLIGHT
BEGIN:STANDARD
TZOFFSETFROM:+0200
TZOFFSETTO:+0100
TZNAME:CET
DTSTART:20241027T010000
END:STANDARD
BEGIN:DAYLIGHT
TZOFFSETFROM:+0100
TZOFFSETTO:+0200
TZNAME:CEST
DTSTART:20250330T010000
END:DAYLIGHT
BEGIN:STANDARD
TZOFFSETFROM:+0200
TZOFFSETTO:+0100
TZNAME:CET
DTSTART:20251026T010000
END:STANDARD
END:VTIMEZONE
BEGIN:VEVENT
DTSTART;TZID=Europe/Vienna:20240307T150000
DTEND;TZID=Europe/Vienna:20240307T180000
DTSTAMP:20260422T091857
CREATED:20240305T222245Z
LAST-MODIFIED:20240305T222245Z
UID:10004186-1709823600-1709834400@8maerz.at
SUMMARY:#RiotDontDiet – Widerständige Gesundheitsförderung gegen Schönheitsdruck und Body Shaming
DESCRIPTION:Gesund­heits­för­de­rung im Gespräch \nOrt: Dach­saal der Wie­ner Ura­nia\, 1010 Wien\, Ura­ni­a­stra­ße 1\nTer­min: Do\, 7. März 2024 15:00 Uhr-18:00 Uhr \nWäh­rend die einen die „digi­ta­le Revo­lu­ti­on“ aus­ru­fen\, sor­gen sich ande­re ange­sichts von Hass im Netz\, Body Shaming und mit Fil­tern opti­mier­ten Gesich­tern und Kör­pern um ihre psy­chi­sche und phy­si­sche Unver­sehrt­heit – und die ihrer Lie­ben. Immer uner­reich­ba­re­re Stan­dards und neue tech­no­lo­gi­sche Mög­lich­kei­ten der Schön­heits­ar­beit sor­gen für immer grö­ße­ren Druck und Scham. \nIm Vor­trag erar­bei­ten wir\, wie wir das trans­for­ma­ti­ve Poten­zi­al der Scham nüt­zen kön­nen\, um kol­lek­tiv Wider­stand zu leis­ten\, gesell­schaft­li­chen Wan­del her­vor­zu­ru­fen und uns indi­vi­du­ell mit dem Ekli­gen und Häss­li­chen in uns zu ver­söh­nen. So schwer uns das auch fal­len mag in einer Gesell­schaft\, in der mit exklu­si­ver Schön­heit und unse­ren Unsi­cher­hei­ten Pro­duk­te ver­kauft wer­den und Kon­trol­le aus­ge­übt wird. Mit Medi­en­kom­pe­tenz\, Sys­tem­kri­tik und der für sich zurück­er­ober­ten Scham kön­nen alle ler­nen\, sich gesund\, ver­netzt und wider­stän­dig durch on/offline Rea­li­tä­ten zu bewe­gen\, dem Body Shaming zum Trotz. \nEin The­ma\, das – nicht nur im Rah­men der Frau­en­wo­che der Stadt Wien – zu einer ange­reg­ten und anre­gen­den Dis­kus­si­on ein­lädt. Dafür steht Eli­sa­beth Lech­ner selbst­ver­ständ­lich im Anschluss an den Vor­trag gern zur Ver­fü­gung. Und die Gesprä­che wer­den wohl auch beim abschlie­ßen­den klei­nen Imbiss nicht abreißen. \nBit­te um Ihre Anmel­dung bis 29.02.2024 unter: eveeno.com/286451393
URL:https://8maerz.at/veranstaltung/riotdontdiet-widerstaendige-gesundheitsfoerderung-gegen-schoenheitsdruck-und-body-shaming/
LOCATION:VHS Urania\, Uraniastraße 1\, Wien\, 1010
GEO:48.2115461;16.3838887
X-APPLE-STRUCTURED-LOCATION;VALUE=URI;X-ADDRESS=VHS Urania Uraniastraße 1 Wien 1010;X-APPLE-RADIUS=500;X-TITLE=Uraniastraße 1:geo:16.3838887,48.2115461
END:VEVENT
BEGIN:VEVENT
DTSTART;TZID=Europe/Vienna:20240307T173000
DTEND;TZID=Europe/Vienna:20240307T190000
DTSTAMP:20260422T091857
CREATED:20240210T214537Z
LAST-MODIFIED:20240210T214537Z
UID:10004122-1709832600-1709838000@8maerz.at
SUMMARY:Führung: Let's talk boobs
DESCRIPTION:Füh­rung\, 7.3.2024\, 17:30 Uhr\nMuseumsquartier\nJeden ers­ten und drit­ten Don­ners­tag des Monats um 17:30 Uhr könnt ihr die Aus­stel­lung Dar­ker\, Ligh­ter\, Puffy\, Flat mit unse­ren Kunstvermittler*innen ent­de­cken und über die Zusam­men­hän­ge und Hin­ter­grün­de der aus­ge­stell­ten Wer­ke diskutieren. \nDie Füh­run­gen sind kos­ten­los und fin­den in deut­scher Spra­che statt. \nMit: Caro­la Fuchs • Andrea Hubin • Michae­la Lan­kes • Micha­el Sim­ku • Daliah Tou­ré • Mar­tin Walkner \nDie Grup­pen­aus­stel­lung Dar­ker\, Ligh­ter\, Puffy\, Flat zeigt Wer­ke\, dar­un­ter meh­re­re neue Auf­trags­ar­bei­ten\, von inter­na­tio­na­len Künstler*innen\, die sich mit den viel­fäl­ti­gen Bedeu­tun­gen der Brust in der Geschich­te der Kunst\, aber auch in Gesell­schaft und Kul­tur ins­ge­samt aus­ein­an­der­set­zen. Zu sehen sind Arbei­ten\, die sich im Span­nungs­feld der vie­len ein­an­der wider­spre­chen­den – und manch­mal heuch­le­ri­schen – wie auch sinn­li­chen und spie­le­ri­schen Per­spek­ti­ven auf Brüs­te bewegen. \nWar­um reden wir immer noch über Brüs­te und war­um lösen sie Zen­sur und Debat­ten aus? Wir wol­len mit euch über Brüs­te spre­chen\, denn ganz gleich\, wel­che indi­vi­du­el­len Erfah­run­gen wir mit ihnen machen: Wir alle haben sie.
URL:https://8maerz.at/veranstaltung/fuehrung-lets-talk-boobs/
LOCATION:MuseumsQuartier\, Museumsplatz 1\, Wien\, 1070
GEO:48.2026499;16.3591421
X-APPLE-STRUCTURED-LOCATION;VALUE=URI;X-ADDRESS=MuseumsQuartier Museumsplatz 1 Wien 1070;X-APPLE-RADIUS=500;X-TITLE=Museumsplatz 1:geo:16.3591421,48.2026499
END:VEVENT
BEGIN:VEVENT
DTSTART;TZID=Europe/Vienna:20240315T200000
DTEND;TZID=Europe/Vienna:20240315T220000
DTSTAMP:20260422T091857
CREATED:20240210T212216Z
LAST-MODIFIED:20240210T212216Z
UID:10004117-1710532800-1710540000@8maerz.at
SUMMARY:What the hell is LUVOS? (Gastspiel)
DESCRIPTION:WHAT THE HELL IS LUVOS?\nGast­spiel der edit­ta braun company\nBeginn: Fr\, 15. Mrz. 2024 | 20:00 \nIn fast 40 Jah­ren als Cho­reo­gra­fin und Tän­ze­rin hat Edit­ta Braun mit LUVOS eine ganz eige­ne Form weib­li­chen Kör­pe­ril­lu­si­ons­thea­ters ent­wi­ckelt. In sechs Tanz­stü­cken in Sze­ne gesetzt\, wur­de der Stil welt­weit gezeigt und unter­rich­tet. Das Kos­mos Thea­ter zeigt nun eine abend­fül­len­de Hom­mage dazu: Live auf der Büh­ne wird das LUVOS-Gesamt­kunst­werk HYDRÁOS zu sehen sein\, eine lyri­sche Phan­ta­sie über die Evo­lu­ti­on\, die Sehen und Den­ken vom Anthro­po­zen­tris­mus zu befrei­en versucht. \nAnschlie­ßend zei­gen wir den Film LUVOS MIGRATIONS\, der bereits viel­fach auf inter­na­tio­na­len Fes­ti­vals ver­tre­ten war. Ein Artist-Talk und der kur­ze Doku­men­ta­ti­ons­film WHAT THE HELL IS LUVOS? über die Geschich­te der LUVOS-Ästhe­tik run­den das Pro­gramm ab. \nCho­reo­gra­fie\, künst­le­ri­sche Lei­tung: Edit­ta Braun | Kom­po­si­ti­on\, Arran­ge­ments: Thier­ry Zaboitz­eff | Licht­de­sign: Tho­mas Hinterberger \nTanz: Sonia Bor­ko­wicz\, Weng-Teng Choi-But­tin­ger\, Simo­na Štangová
URL:https://8maerz.at/veranstaltung/what-the-hell-is-luvos-gastspiel/
LOCATION:KosmosTheater\, Siebensterngasse 42\, Wien\, 1070
GEO:48.2023843;16.3514542
X-APPLE-STRUCTURED-LOCATION;VALUE=URI;X-ADDRESS=KosmosTheater Siebensterngasse 42 Wien 1070;X-APPLE-RADIUS=500;X-TITLE=Siebensterngasse 42:geo:16.3514542,48.2023843
END:VEVENT
BEGIN:VEVENT
DTSTART;TZID=Europe/Vienna:20240321T173000
DTEND;TZID=Europe/Vienna:20240321T190000
DTSTAMP:20260422T091857
CREATED:20240210T214737Z
LAST-MODIFIED:20240210T214737Z
UID:10004123-1711042200-1711047600@8maerz.at
SUMMARY:Führung: Boobs. Shifting the gaze
DESCRIPTION:Füh­rung\, 21.3.2024\, 17:30 Uhr\nMuseumsquartier\nJeden ers­ten und drit­ten Don­ners­tag des Monats um 17:30 Uhr könnt ihr die Aus­stel­lung Dar­ker\, Ligh­ter\, Puffy\, Flat mit unse­ren Kunstvermittler*innen ent­de­cken und über die Zusam­men­hän­ge und Hin­ter­grün­de der aus­ge­stell­ten Wer­ke diskutieren. \nDie Füh­run­gen sind kos­ten­los und fin­den in deut­scher Spra­che statt. \nMit: Caro­la Fuchs • Andrea Hubin • Michae­la Lan­kes • Micha­el Sim­ku • Daliah Tou­ré • Mar­tin Walkner \nDie Grup­pen­aus­stel­lung Dar­ker\, Ligh­ter\, Puffy\, Flat zeigt Wer­ke\, dar­un­ter meh­re­re neue Auf­trags­ar­bei­ten\, von inter­na­tio­na­len Künstler*innen\, die sich mit den viel­fäl­ti­gen Bedeu­tun­gen der Brust in der Geschich­te der Kunst\, aber auch in Gesell­schaft und Kul­tur ins­ge­samt aus­ein­an­der­set­zen. Zu sehen sind Arbei­ten\, die sich im Span­nungs­feld der vie­len ein­an­der wider­spre­chen­den – und manch­mal heuch­le­ri­schen – wie auch sinn­li­chen und spie­le­ri­schen Per­spek­ti­ven auf Brüs­te bewegen. \nWar­um reden wir immer noch über Brüs­te und war­um lösen sie Zen­sur und Debat­ten aus? Wir wol­len mit euch über Brüs­te spre­chen\, denn ganz gleich\, wel­che indi­vi­du­el­len Erfah­run­gen wir mit ihnen machen: Wir alle haben sie.
URL:https://8maerz.at/veranstaltung/fuehrung-boobs-shifting-the-gaze/
LOCATION:MuseumsQuartier\, Museumsplatz 1\, Wien\, 1070
GEO:48.2026499;16.3591421
X-APPLE-STRUCTURED-LOCATION;VALUE=URI;X-ADDRESS=MuseumsQuartier Museumsplatz 1 Wien 1070;X-APPLE-RADIUS=500;X-TITLE=Museumsplatz 1:geo:16.3591421,48.2026499
END:VEVENT
END:VCALENDAR