BEGIN:VCALENDAR
VERSION:2.0
PRODID:-//8. März - ECPv6.15.20//NONSGML v1.0//EN
CALSCALE:GREGORIAN
METHOD:PUBLISH
X-ORIGINAL-URL:https://8maerz.at
X-WR-CALDESC:Veranstaltungen für 8. März
REFRESH-INTERVAL;VALUE=DURATION:PT1H
X-Robots-Tag:noindex
X-PUBLISHED-TTL:PT1H
BEGIN:VTIMEZONE
TZID:Europe/Vienna
BEGIN:DAYLIGHT
TZOFFSETFROM:+0100
TZOFFSETTO:+0200
TZNAME:CEST
DTSTART:20190331T010000
END:DAYLIGHT
BEGIN:STANDARD
TZOFFSETFROM:+0200
TZOFFSETTO:+0100
TZNAME:CET
DTSTART:20191027T010000
END:STANDARD
BEGIN:DAYLIGHT
TZOFFSETFROM:+0100
TZOFFSETTO:+0200
TZNAME:CEST
DTSTART:20200329T010000
END:DAYLIGHT
BEGIN:STANDARD
TZOFFSETFROM:+0200
TZOFFSETTO:+0100
TZNAME:CET
DTSTART:20201025T010000
END:STANDARD
BEGIN:DAYLIGHT
TZOFFSETFROM:+0100
TZOFFSETTO:+0200
TZNAME:CEST
DTSTART:20210328T010000
END:DAYLIGHT
BEGIN:STANDARD
TZOFFSETFROM:+0200
TZOFFSETTO:+0100
TZNAME:CET
DTSTART:20211031T010000
END:STANDARD
END:VTIMEZONE
BEGIN:VEVENT
DTSTART;TZID=Europe/Vienna:20200317T183000
DTEND;TZID=Europe/Vienna:20200317T203000
DTSTAMP:20260423T214327
CREATED:20200307T224851Z
LAST-MODIFIED:20200316T175559Z
UID:10003788-1584469800-1584477000@8maerz.at
SUMMARY:ABSAGE: A question of dimension – Installation von Sibylle Gieselmann
DESCRIPTION:Titel­bild: Sibyl­le Gie­sel­mann / Heros / 120 x 80 cm / Öl auf Leinwand\nI A ques­ti­on of dimen­si­on I\nInstal­la­ti­on Red Car­pet Showroom\n16. März – 15. April 2020\nU‑Bahnpassage Karls­platz\, Über­gangs­be­reich U1-U2-U4\n1010 Wien \nEröff­nung: Mari­na Han­ke\, Abge­ord­ne­te zum Wie­ner Land­tag & Vor­sit­zen­de der Wie­ner SPÖ-Frauen \n“Die Instal­la­ti­on „a ques­ti­on of dimen­si­on“ stellt die Fra­ge nach dem Maß\, also der Grö­ße\, dem Umfang\, dem Gewicht usw. Ob etwas groß oder klein ist\, mes­sen wir an der eige­nen Kör­per­grö­ße und im ver­glei­chen von ver­wand­ten Dingen.\nIrri­ta­ti­on taucht dann auf\, wenn Grö­ßen in Rela­ti­on zuein­an­der schein­bar nicht stimmen.\nEin harm­lo­ser Pin­sel wird zur Bedro­hung\, wenn er\, rie­sig groß\, auf eine schla­fen­de Frau zu stür­zen scheint.\nDie Dimen­sio­nen eines Kör­pers kön­nen dann irri­tie­rend wir­ken\, wenn sie von unse­rer Seh­ge­wohn­heit abwei­chen oder dem gän­gi­gen Schön­heits­ide­al nicht ent­spre­chen. Wobei sich hier die Fra­ge stellt wann wird ein Kör­per als schön\, oder gera­de­zu ide­al wahrgenommen?” \nSibyl­le Gie­sel­mann ist Gewin­ne­rin des 3. ega Frauen*Kunst Awards 2019. \nwei­te­re Infos zur Künst­le­rin: http://www.sibyllegieselmann.com
URL:https://8maerz.at/veranstaltung/a-question-of-dimension-installation/
LOCATION:U‑Bahn Passage Karlsplatz\, Karlplatz\, Wien\, Wien\, 1010\, Österreich
END:VEVENT
END:VCALENDAR