BEGIN:VCALENDAR
VERSION:2.0
PRODID:-//8. März - ECPv6.15.20//NONSGML v1.0//EN
CALSCALE:GREGORIAN
METHOD:PUBLISH
X-WR-CALNAME:8. März
X-ORIGINAL-URL:https://8maerz.at
X-WR-CALDESC:Veranstaltungen für 8. März
REFRESH-INTERVAL;VALUE=DURATION:PT1H
X-Robots-Tag:noindex
X-PUBLISHED-TTL:PT1H
BEGIN:VTIMEZONE
TZID:Europe/Vienna
BEGIN:DAYLIGHT
TZOFFSETFROM:+0100
TZOFFSETTO:+0200
TZNAME:CEST
DTSTART:20190331T010000
END:DAYLIGHT
BEGIN:STANDARD
TZOFFSETFROM:+0200
TZOFFSETTO:+0100
TZNAME:CET
DTSTART:20191027T010000
END:STANDARD
BEGIN:DAYLIGHT
TZOFFSETFROM:+0100
TZOFFSETTO:+0200
TZNAME:CEST
DTSTART:20200329T010000
END:DAYLIGHT
BEGIN:STANDARD
TZOFFSETFROM:+0200
TZOFFSETTO:+0100
TZNAME:CET
DTSTART:20201025T010000
END:STANDARD
BEGIN:DAYLIGHT
TZOFFSETFROM:+0100
TZOFFSETTO:+0200
TZNAME:CEST
DTSTART:20210328T010000
END:DAYLIGHT
BEGIN:STANDARD
TZOFFSETFROM:+0200
TZOFFSETTO:+0100
TZNAME:CET
DTSTART:20211031T010000
END:STANDARD
END:VTIMEZONE
BEGIN:VEVENT
DTSTART;TZID=Europe/Vienna:20200313T150000
DTEND;TZID=Europe/Vienna:20200314T220000
DTSTAMP:20260424T232519
CREATED:20200110T214710Z
LAST-MODIFIED:20200311T190007Z
UID:10003596-1584111600-1584223200@8maerz.at
SUMMARY:ABSAGE: Rosa Luxemburg Konferenz 2020
DESCRIPTION:Die Ver­an­stal­tung wur­de abgesagt. \nBereits zum drit­ten Mal fin­det am 13./14. März 2020 die Rosa Luxem­burg Kon­fe­renz – AT in Wien statt. Unter dem Mot­to „Rosa for Future“ wol­len wir auf­zei­gen\, dass unse­re Welt nur dann eine Zukunft hat\, wenn wir die Bewe­gun­gen für Kli­ma- und Umwelt­schutz mit jener für sozia­le Gerech­tig­keit ver­bin­den. Die Ret­tung unse­res Pla­ne­ten und den Fort­be­stand der Mensch­heit muss ver­knüpft wer­den mit dem Kampf gegen Aus­beu­tung\, Krieg und für ein gutes Leben für alle! \nÜber­all wo man hin­blickt\, auf allen Kon­ti­nen­ten\, bro­delt es. Von Chi­le bis Frank­reich\, von Boli­vi­en bis zum Iran – trotz aller Unter­schie­de zei­gen die aktu­el­len Mas­sen­de­mons­tra­tio­nen auf\, dass sich die Men­schen mit dem kapi­ta­lis­ti­schen Sys­tem nicht län­ger abfin­den wol­len\, weil es nur weni­ge bevor­zugt und so vie­le an ihrer Ent­wick­lung hindert. \nRosa Luxem­burg (1871 – 1919) war davon über­zeugt\, dass die herr­schen­de Ord­nung auf Sand gebaut ist und wir uns vom Joch des Kapi­ta­lis­mus befrei­en und für eine lebens­wer­te Zukunft kämp­fen müs­sen. Auf der III. Rosa Luxem­burg Kon­fe­renz in der VHS Hiet­zing wol­len wir zwei Tage lang Ana­ly­sen\, Erfah­run­gen und Stra­te­gien für den Kampf um eine bes­se­re Welt diskutieren. \nNeben dem zen­tra­len The­ma „Öko­lo­gie & Klas­sen­kampf“ wird es – wie jedes Jahr – die Mög­lich­keit geben\, dass sich Initia­ti­ven & Orga­ni­sa­tio­nen mit Info­ti­schen und/oder Work­shops zu unter­schied­li­chen The­men betei­li­gen (Hier geht´s zur Anmel­dung: https://www.rosaluxemburgkonferenz.at/anmeldung). \nAlle Infos zur Kon­fe­renz auf www.rosaluxemburgkonferenz.at\nTickets: www.rosaluxemburgkonferenz.at/tickets\nNews­let­ter: www.rosaluxemburgkonferenz.at/newsletter
URL:https://8maerz.at/veranstaltung/rosa-luxemburg-konferenz-2020/
LOCATION:VHS Hietzing\, Hofwiesengasse 48\, Wien\, 1130
GEO:48.1704596;16.286833
X-APPLE-STRUCTURED-LOCATION;VALUE=URI;X-ADDRESS=VHS Hietzing Hofwiesengasse 48 Wien 1130;X-APPLE-RADIUS=500;X-TITLE=Hofwiesengasse 48:geo:16.286833,48.1704596
END:VEVENT
END:VCALENDAR