BEGIN:VCALENDAR
VERSION:2.0
PRODID:-//8. März - ECPv6.15.17.1//NONSGML v1.0//EN
CALSCALE:GREGORIAN
METHOD:PUBLISH
X-WR-CALNAME:8. März
X-ORIGINAL-URL:https://8maerz.at
X-WR-CALDESC:Veranstaltungen für 8. März
REFRESH-INTERVAL;VALUE=DURATION:PT1H
X-Robots-Tag:noindex
X-PUBLISHED-TTL:PT1H
BEGIN:VTIMEZONE
TZID:Europe/Vienna
BEGIN:DAYLIGHT
TZOFFSETFROM:+0100
TZOFFSETTO:+0200
TZNAME:CEST
DTSTART:20240331T010000
END:DAYLIGHT
BEGIN:STANDARD
TZOFFSETFROM:+0200
TZOFFSETTO:+0100
TZNAME:CET
DTSTART:20241027T010000
END:STANDARD
BEGIN:DAYLIGHT
TZOFFSETFROM:+0100
TZOFFSETTO:+0200
TZNAME:CEST
DTSTART:20250330T010000
END:DAYLIGHT
BEGIN:STANDARD
TZOFFSETFROM:+0200
TZOFFSETTO:+0100
TZNAME:CET
DTSTART:20251026T010000
END:STANDARD
BEGIN:DAYLIGHT
TZOFFSETFROM:+0100
TZOFFSETTO:+0200
TZNAME:CEST
DTSTART:20260329T010000
END:DAYLIGHT
BEGIN:STANDARD
TZOFFSETFROM:+0200
TZOFFSETTO:+0100
TZNAME:CET
DTSTART:20261025T010000
END:STANDARD
END:VTIMEZONE
BEGIN:VEVENT
DTSTART;TZID=Europe/Vienna:20250107T130000
DTEND;TZID=Europe/Vienna:20250228T170000
DTSTAMP:20260421T153545
CREATED:20250102T152156Z
LAST-MODIFIED:20250102T152528Z
UID:10004206-1736254800-1740762000@8maerz.at
SUMMARY:Austellung: Zivilcourage bei Partnergewalt und häuslicher Gewalt
DESCRIPTION:Was unter­schei­det einen nor­ma­len Bezie­hungs­streit von Part­ner­ge­walt? War­um ver­las­sen von Gewalt betrof­fe­ne Frau­en ihre Part­ner nicht ein­fach? Was kann ich tun\, wenn ich in mei­ner Umge­bung Gewalt wahr­neh­me? Die­se und vie­le wei­te­re Fra­gen beant­wor­tet die Aus­stel­lung „Zivil­cou­ra­ge bei Part­ner­ge­walt und häus­li­cher Gewalt“ von StoP – Stadt­tei­le ohne Partnergewalt.  \nIn sechs künst­le­risch gestal­te­ten Roll-ups infor­mie­ren das Gemein­we­sen-ori­en­tier­te Gewalt­prä­ven­ti­ons­pro­jekt StoP und die Illus­tra­to­rin Sil­ke Mül­ler über Gewalt an Frau­en. Dabei geben sie auch wert­vol­le Tipps\, wie man in brenz­li­gen Situa­tio­nen Zivil­cou­ra­ge zei­gen kann. Denn jede*r kann: Was sagen. Was tun. \nStoP freut sich sehr über die Koope­ra­ti­on mit dem Herz-Jesu-Kran­ken­haus\, das die Aus­stel­lung „Zivil­cou­ra­ge bei Part­ner­ge­walt und häus­li­cher Gewalt“ im Jän­ner und Febru­ar 2025 präsentiert.
URL:https://8maerz.at/veranstaltung/austellung-zivilcourage-bei-partnergewalt-und-haeuslicher-gewalt/
LOCATION:Herz-Jesu-Krankenhaus\, Baumgasse 20a\, Wien\, 1030\, Österreich
END:VEVENT
BEGIN:VEVENT
DTSTART;TZID=Europe/Vienna:20250219T173000
DTEND;TZID=Europe/Vienna:20250219T203000
DTSTAMP:20260421T153545
CREATED:20250102T153214Z
LAST-MODIFIED:20250102T153214Z
UID:10004207-1739986200-1739997000@8maerz.at
SUMMARY:Workshop: Werde Multiplikator*in gegen häusliche Gewalt!
DESCRIPTION:Du möch­test etwas gegen Gewalt an Frau­en tun\, aber weißt nicht wie?\nDu möch­test wis­sen\, wie du Betrof­fe­ne am bes­ten unter­stüt­zen kannst?\nDu möch­test mehr über die Hin­ter­grün­de von (häus­li­cher) Gewalt erfahren? \nKomm zum Work­shop von StoP und wer­de Multiplikator*in gegen häus­li­che Gewalt! \nStoP zeigt dir:\nMög­lich­kei­ten\, wie du dich gegen häus­li­che Gewalt ein­set­zen kannst.\nWie du vor­ge­hen kannst\, wenn du in dei­nem Umfeld Gewalt vermutest.\nWas du in einer (aku­ten) Gewalt­si­tua­ti­on tun kannst.\nWie du die Zivil­cou­ra­ge in dei­ner Nach­bar­schaft stär­ken kannst.\n…und noch vie­les mehr! \nOrt und Zeit:\n19. & 20. Febru­ar 2025 | 17.30 bis 20.30\nStoP-Büro\, Favo­ri­ten­stra­ße 29–31\, Top 2\, 1040 Wien \nAnmel­dun­gen unter: office@stop-partnergewalt.at\nTeil­nah­me kostenlos!
URL:https://8maerz.at/veranstaltung/workshop-werde-multiplikatorin-gegen-haeusliche-gewalt/2025-02-19/
LOCATION:StoP – Stadtteile ohne Partnergewalt\, Favoritenstraße 29-31\, Top 2\, Wien\, 1040\, Österreich
END:VEVENT
BEGIN:VEVENT
DTSTART;TZID=Europe/Vienna:20250220T173000
DTEND;TZID=Europe/Vienna:20250220T203000
DTSTAMP:20260421T153545
CREATED:20250102T153214Z
LAST-MODIFIED:20250102T153214Z
UID:10004208-1740072600-1740083400@8maerz.at
SUMMARY:Workshop: Werde Multiplikator*in gegen häusliche Gewalt!
DESCRIPTION:Du möch­test etwas gegen Gewalt an Frau­en tun\, aber weißt nicht wie?\nDu möch­test wis­sen\, wie du Betrof­fe­ne am bes­ten unter­stüt­zen kannst?\nDu möch­test mehr über die Hin­ter­grün­de von (häus­li­cher) Gewalt erfahren? \nKomm zum Work­shop von StoP und wer­de Multiplikator*in gegen häus­li­che Gewalt! \nStoP zeigt dir:\nMög­lich­kei­ten\, wie du dich gegen häus­li­che Gewalt ein­set­zen kannst.\nWie du vor­ge­hen kannst\, wenn du in dei­nem Umfeld Gewalt vermutest.\nWas du in einer (aku­ten) Gewalt­si­tua­ti­on tun kannst.\nWie du die Zivil­cou­ra­ge in dei­ner Nach­bar­schaft stär­ken kannst.\n…und noch vie­les mehr! \nOrt und Zeit:\n19. & 20. Febru­ar 2025 | 17.30 bis 20.30\nStoP-Büro\, Favo­ri­ten­stra­ße 29–31\, Top 2\, 1040 Wien \nAnmel­dun­gen unter: office@stop-partnergewalt.at\nTeil­nah­me kostenlos!
URL:https://8maerz.at/veranstaltung/workshop-werde-multiplikatorin-gegen-haeusliche-gewalt/2025-02-20/
LOCATION:StoP – Stadtteile ohne Partnergewalt\, Favoritenstraße 29-31\, Top 2\, Wien\, 1040\, Österreich
END:VEVENT
END:VCALENDAR