BEGIN:VCALENDAR
VERSION:2.0
PRODID:-//8. März - ECPv6.15.20//NONSGML v1.0//EN
CALSCALE:GREGORIAN
METHOD:PUBLISH
X-WR-CALNAME:8. März
X-ORIGINAL-URL:https://8maerz.at
X-WR-CALDESC:Veranstaltungen für 8. März
REFRESH-INTERVAL;VALUE=DURATION:PT1H
X-Robots-Tag:noindex
X-PUBLISHED-TTL:PT1H
BEGIN:VTIMEZONE
TZID:Europe/Vienna
BEGIN:DAYLIGHT
TZOFFSETFROM:+0100
TZOFFSETTO:+0200
TZNAME:CEST
DTSTART:20230326T010000
END:DAYLIGHT
BEGIN:STANDARD
TZOFFSETFROM:+0200
TZOFFSETTO:+0100
TZNAME:CET
DTSTART:20231029T010000
END:STANDARD
BEGIN:DAYLIGHT
TZOFFSETFROM:+0100
TZOFFSETTO:+0200
TZNAME:CEST
DTSTART:20240331T010000
END:DAYLIGHT
BEGIN:STANDARD
TZOFFSETFROM:+0200
TZOFFSETTO:+0100
TZNAME:CET
DTSTART:20241027T010000
END:STANDARD
BEGIN:DAYLIGHT
TZOFFSETFROM:+0100
TZOFFSETTO:+0200
TZNAME:CEST
DTSTART:20250330T010000
END:DAYLIGHT
BEGIN:STANDARD
TZOFFSETFROM:+0200
TZOFFSETTO:+0100
TZNAME:CET
DTSTART:20251026T010000
END:STANDARD
END:VTIMEZONE
BEGIN:VEVENT
DTSTART;TZID=Europe/Vienna:20240215T180000
DTEND;TZID=Europe/Vienna:20240416T180000
DTSTAMP:20260424T161744
CREATED:20240214T194659Z
LAST-MODIFIED:20240214T194659Z
UID:10004143-1708020000-1713290400@8maerz.at
SUMMARY:Ausstellung: FRAU* schafft Raum
DESCRIPTION:2. Aus­stel­lung von FRAU* schafft Raum \n„du hebst dich du stampfst es bricht“\nvon Danie­la Trinkl und Rachel J. Müller \nVer­nis­sa­ge: 15.02.2024\, 18:00 Uhr\nAus­stel­lungs­dau­er: 16.02.–16.04.2024 \nFemi­zi­de hin­ter­las­sen Lücken\, Ohn­machts­ge­füh­le und Sprach­lo­sig­keit. Aber es ent­steht noch etwas in uns. Die Ris­se sind da. Sie blei­ben. Aber in den Ris­sen tut sich was. \nDanie­la Trinkl und Rachel J. Mül­ler spü­ren die­sem Etwas nach\, das sich neben Schmerz\, Angst und Bewusst­sein für Gefahr – aber auch Wut – ein­ge­nis­tet hat. In der Begeg­nung von Skulp­tur und Spra­che schaf­fen sie Raum für die­ses Dazwi­schen. Es ent­wi­ckelt eine Kraft\, es brei­tet sich aus\, es spen­det wie ein Talis­man Trost und vor allem Mut. Die Künst­le­rin­nen schaf­fen im Dia­log von Objekt und Sound ein Spiel mit Kon­trast und Dyna­mik\, zei­gen\, dass zwi­schen den Ris­sen ein Nähr­bo­den ent­steht für Wehr­haf­tig­keit\, Soli­da­ri­tät und Empowerment. \nDas Hör­stück\, von dem ein Aus­schnitt in der Aus­stel­lung zu hören ist\, basiert auf Rachel J. Mül­lers Büh­nen­stück „TABAK oder war­um Sie mit dem Frau­en mor­den auf­hö­ren soll­ten“ und wur­de von der Autorin in Koope­ra­ti­on mit der Kom­po­nis­tin Mari­on Lud­wig erarbeitet.
URL:https://8maerz.at/veranstaltung/ausstellung-frau-schafft-raum/
LOCATION:FRAU* schafft raum – Erinnerungsort & Feministischer Kunstraum gegen Gewalt an Frauen*\, Nußdorfer Straße 4\, Wien\, 1090
END:VEVENT
BEGIN:VEVENT
DTSTART;VALUE=DATE:20240301
DTEND;VALUE=DATE:20240330
DTSTAMP:20260424T161744
CREATED:20240306T204524Z
LAST-MODIFIED:20240306T210843Z
UID:10004187-1709251200-1711756799@8maerz.at
SUMMARY:StoP - Stadtteile ohne Partnergewalt zum 8. März
DESCRIPTION:Mit Land­stra­ße\, Wie­den\, Mar­ga­re­ten\, Maria­hilf\, Favo­ri­ten\, Sim­me­ring\, Meid­ling\, Pen­zing und Her­nals gibt es ins­ge­samt neun Bezir­ke in Wien\, in denen das Kon­zept von StoP – Stadt­tei­le ohne Part­ner­ge­walt umge­setzt wird.  \n\n\n\n\nTer­mi­ne von StoP – Stadt­tei­le ohne Part­ner­ge­walt rund um den 8. März \n\n\n\n\nUm uns ken­nen­zu­ler­nen\, aus­zu­tau­schen und zusam­men aktiv zu blei­ben hat StoP auch rund um den 8. März 2024 diver­se Akti­vi­tä­ten geplant\, wo du mit­ma­chen kannst. Gemein­sam kön­nen wir mehr bewe­gen – wer­de aktiv bei StoP und hilf mit\, häus­li­che Gewalt\, Part­ner­ge­walt und Femi­zi­de zu verhindern! \n\n\n\n\nÜber­sicht und Details zu den Ver­an­stal­tun­gen hier zum Down­load: PDF und im Kalen­der von StoP auf stop-partnergewalt.at. \n\n\n\n\n\n\n\n\nSocial Media: Fol­ge stop.wien auf Face­book und Insta­gram und ver­pas­se kei­ne Details mehr! \nSujet © StoP
URL:https://8maerz.at/veranstaltung/stop-stadtteile-ohne-partnergewalt-zum-8-maerz/
ATTACH;FMTTYPE=image/png:https://8maerz.at/wp-content/uploads/sites/20/2024/03/StoP_zum_8maerz.png
END:VEVENT
BEGIN:VEVENT
DTSTART;TZID=Europe/Vienna:20240301T100000
DTEND;TZID=Europe/Vienna:20240301T110000
DTSTAMP:20260424T161744
CREATED:20240227T183842Z
LAST-MODIFIED:20240227T183842Z
UID:10004156-1709287200-1709290800@8maerz.at
SUMMARY:#Schreitag: Aktion gegen Femizide
DESCRIPTION:Die­ser Frei­tag\, 01.03. ist SCHREITAG. \nGemein­sam gehen wir auf die Stra­ße und pro­tes­tie­ren schrei­end gegen Femi­zi­de. Zieht euch Trau­er­klei­dung an\, nehmt Tril­ler­pfei­fen und Töp­fe mit. Lasst uns gemein­sam laut werden! \nOrt: Mino­ri­ten­platz\, Wien\nUhr­zeit: von 10 bis 11 Uhr \nver­an­stal­tet vom Öster­rei­chi­schen Frau­en­ring (ÖFR) \n#schrei­tag #schrei­en­gegen­fe­mi­zi­de #lau­ter­frei­tag #frei­ta­gist­schrei­tag #niu­na­menos #gegen­fe­mi­zi­de #auf­schrei \nSujet ©️ Pia Stei­ner\, Öster­rei­chi­scher Frauenring
URL:https://8maerz.at/veranstaltung/schreitag-aktion-gegen-femizide/
LOCATION:Minoritenplatz\, Minoritenplatz\, Wien\, Wien\, 1010\, Österreich
ATTACH;FMTTYPE=image/png:https://8maerz.at/wp-content/uploads/sites/20/2024/02/schreitag-frauenring_01-03-2024.png
END:VEVENT
BEGIN:VEVENT
DTSTART;TZID=Europe/Vienna:20240304T180000
DTEND;TZID=Europe/Vienna:20240304T200000
DTSTAMP:20260424T161744
CREATED:20240207T170119Z
LAST-MODIFIED:20240207T170119Z
UID:10004097-1709575200-1709582400@8maerz.at
SUMMARY:2. Fem*Talk Vienna - A Feminist Future
DESCRIPTION:Herz­li­che Ein­la­dung zum 𝐳𝐰𝐞𝐢𝐭𝐞𝐧 𝐅𝐄𝐌* 𝐓𝐚𝐥𝐤 𝐕𝐢𝐞𝐧𝐧𝐚 – 𝐀 𝐅𝐞𝐦𝐢𝐧𝐢𝐬𝐭 𝐅𝐮𝐭𝐮𝐫𝐞! \nZusam­men mit Politiker:innen und Expert:innen aus der Zivil­ge­sell­schaft wol­len wir uns aus­tau­schen und aktiv an Ver­än­de­rung beteiligen! \nKein Vor­trag von oben her­ab\, son­dern geball­te femi­nis­ti­sche Power – mit Dir im Gespräch. \n𝐌𝐨𝐧𝐢𝐤𝐚 𝐕𝐚𝐧𝐚 (Dele­ga­ti­ons­lei­te­rin der öst. Grü­nen im Euro­päi­schen Parlament)\n𝐉𝐮𝐝𝐢𝐭𝐡 𝐏𝐮̈𝐡𝐫𝐢𝐧𝐠𝐞𝐫 (Stadt­rä­tin und Par­tei­vor­sit­zen­de Grü­ne Wien)\n𝐋𝐞𝐧𝐚 𝐒𝐜𝐡𝐢𝐥𝐥𝐢𝐧𝐠 (Grü­ne Spit­zen­kan­di­da­tin EU-Wahl 2024\, tbc)\n𝐌𝐞𝐫𝐢 𝐃𝐢𝐬𝐨𝐬𝐤𝐢 (NR-Abg.\, Vor­sit­zen­de der Grü­nen Frau­en Österreich)\n𝐕𝐢𝐜𝐤𝐲 𝐒𝐩𝐢𝐞𝐥𝐦𝐚𝐧𝐧 (Land­tags­abg.\, Grü­ne Frau­en Wien)\n𝐀𝐥𝐥𝐢𝐚𝐧𝐳 𝐠𝐞𝐰𝐚𝐥𝐭𝐟𝐫𝐞𝐢 𝐥𝐞𝐛𝐞𝐧 (tbc)\n𝐃𝐢𝐞 𝐍𝐚𝐜𝐡𝐛𝐚𝐫𝐢𝐧𝐧𝐞𝐧 (tbc) \nDie­ses Jahr ste­hen eini­ge wich­ti­ge Wah­len bevor – bün­deln wir unse­re Kräf­te gegen Rechts und erhe­ben wir unse­re Stim­men gegen den reak­tio­nä­ren Back­lash und für eine fem­ins­ti­sche Zukunft! \nWann und wo?\n𝐌𝐨𝐧𝐭𝐚𝐠\, 𝟒.𝟑.𝟐𝟎𝟐𝟒 𝐚𝐛 𝟏𝟖 𝐔𝐡𝐫\n𝐕𝐨𝐥𝐤𝐬𝐤𝐮𝐧𝐝𝐞𝐦𝐮𝐬𝐞𝐮𝐦 𝐖𝐢𝐞𝐧\, Laudon­gas­se 15–19\, 1080 Wien\nAnmel­dung via Event­bri­te \nEs freu­en sich auf Euch\nMoni Vana und Judith Pühringer \nSujet © Die Grünen 
URL:https://8maerz.at/veranstaltung/2-femtalk-vienna-a-feminist-future/
LOCATION:Volkskundemuseum\, Laudongasse 15–19\, Wien\, Wien\, 1080\, Österreich
ATTACH;FMTTYPE=image/jpeg:https://8maerz.at/wp-content/uploads/sites/20/2024/02/FemTalk-Vienna-Gruene.jpeg
GEO:48.2132052;16.3506473
X-APPLE-STRUCTURED-LOCATION;VALUE=URI;X-ADDRESS=Volkskundemuseum Laudongasse 15–19 Wien Wien 1080 Österreich;X-APPLE-RADIUS=500;X-TITLE=Laudongasse 15–19:geo:16.3506473,48.2132052
END:VEVENT
BEGIN:VEVENT
DTSTART;TZID=Europe/Vienna:20240306T173000
DTEND;TZID=Europe/Vienna:20240306T203000
DTSTAMP:20260424T161744
CREATED:20240115T211728Z
LAST-MODIFIED:20240115T212342Z
UID:10004051-1709746200-1709757000@8maerz.at
SUMMARY:Eine von Drei - Gegen Gewalt an Frauen handeln
DESCRIPTION:Datum und Uhr­zeit: 6.3.2024\, 17:30–20:30\nOrt: WIENX­TRA-Insti­tut für Frei­zeit­päd­ago­gik\, Albert­gas­se 35/II (im Hof)\, 1080 Wien \nMitt­ler­wei­le ist jede drit­te Frau in Öster­reich im Lau­fe ihres Lebens von Gewalt betrof­fen. Im Rah­men die­ser Ver­an­stal­tung wer­den gemein­sam ver­schie­de­ne Gewalt­for­men erar­bei­tet\, Ein­bli­cke in das öster­rei­chi­sche Gewalt­schutz­ge­setz und die his­to­ri­sche Ent­wick­lung von Frau­en­rech­ten gege­ben. Wei­ters beschäf­ti­gen wir uns mit dem The­ma Kon­sens in der Sexua­li­tät\, der Fra­ge\, wie Gewalt­be­trof­fe­ne unter­stützt wer­den kön­nen und wel­ches gesell­schaft­li­che und poli­ti­sche Han­deln Gewalt vor­beu­gen kann. Multiplikator*innen der Kin­der- und Jugend­ar­beit sol­len durch die­se Ver­an­stal­tung ein Basis­wis­sen erhal­ten\, um in ihren Ein­rich­tun­gen ent­spre­chend han­deln zu können. \nZiel­grup­pe: Wei­ter­bil­dung für Multiplikator*innen\, die mit Kin­dern und Jugend­li­chen arbeiten\nver­an­stal­tet von: WIENX­TRA-Insti­tut für Freizeitpädagogik \nAnmel­dung: bis 22.2.2024 unter https://www.wienxtra.at/ifp/event/34588/\nmax. Teilnehmer*innenzahl: 20
URL:https://8maerz.at/veranstaltung/eine-von-drei-gegen-gewalt-an-frauen-handeln/
LOCATION:WIENXTRA-Institut für Freizeitpädagogik\, Albertgasse 35/II\, Wien\, 1080\, Österreich
END:VEVENT
BEGIN:VEVENT
DTSTART;TZID=Europe/Vienna:20240307T090000
DTEND;TZID=Europe/Vienna:20240307T100000
DTSTAMP:20260424T161744
CREATED:20240305T215926Z
LAST-MODIFIED:20240305T220046Z
UID:10004182-1709802000-1709805600@8maerz.at
SUMMARY:Öffentliche Pressekonferenz des Österreichischen Frauenrings
DESCRIPTION:Im Super­wahl­jahr 2024 ste­hen in Öster­reich rich­tungs­wei­sen­de Ent­schei­dun­gen bevor\, rich­tungs­wei­send auch für die Frau­en­po­li­tik. Das neh­men wir zum Anlass\, um gemein­sam mit unse­ren Mit­glieds­or­ga­ni­sa­tio­nen unse­re frau­en­po­li­ti­schen For­de­run­gen an eine künf­ti­ge Bun­des­re­gie­rung zu formulieren. \nKlar ist: Es braucht eine femi­nis­ti­sche Frau­en­po­li­tik mit Weit­blick\, die sowohl jeg­li­che Angrif­fe auf hart erkämpf­te Errun­gen­schaf­ten abwehrt als auch kon­ti­nu­ier­lich dar­an arbei­tet\, das Leben von Frau­en zu ver­bes­sern. Das muss das Selbst­ver­ständ­nis einer neu­en Regie­rung nach der Natio­nal­rats­wahl 2024 sein. Bei die­ser Pres­se­kon­fe­renz kom­men auch Exper­tin­nen für Sex­ar­beit und Migra­ti­on zu Wort. \nRed­ne­rin­nen:\nKlau­dia Frie­ben\, Vor­sit­zen­de Öster­rei­chi­scher Frauenring\nMag.a Maria Rösslhu­mer\, Gewalt­schutz­ex­per­tin\, stv. Vor­sit­zen­de Öster­rei­chi­scher Frauenring\nAndrea Czak\, MA\, gf. Obfrau Ver­ein Femi­nis­ti­sche Alleinerziehrinnen\nSte­fa­ni Doy­n­o­va\, MA BA\, Ein­rich­tungs­lei­te­rin SOPHIE Bera­tungs­zen­trum für Sexarbeiterinnen*\nMag.a Maria Cele­s­te Tor­to­sa\, stv. Lei­te­rin LEFÖ\, Bera­tungs­stel­le für Migran­tin­nen von LEFÖ \nMedienvertreter*innen sind herz­lich willkommen. \nÖffent­li­che Pres­se­kon­fe­renz Öster­rei­chi­scher Frauenring\nDatum: 07.03.2024\, 09:00 Uhr\nOrt: Ball­haus­platz \, 1010 Wien \, Österreich \nRück­fra­gen & Kontakt:\nKlau­dia Frieben\nVor­sit­zen­de des Öster­rei­chi­schen Frauenrings\noffice@frauenring.at\nTel. 0664–6145800 \nOTS des Frauenrings
URL:https://8maerz.at/veranstaltung/oeffentliche-pressekonferenz-des-oesterreichischen-frauenrings/
LOCATION:Ballhausplatz\, Ballhausplatz\, 1010\, Wien\, Österreich
GEO:48.2082817;16.3638789
X-APPLE-STRUCTURED-LOCATION;VALUE=URI;X-ADDRESS=Ballhausplatz Ballhausplatz 1010 Wien Österreich;X-APPLE-RADIUS=500;X-TITLE=Ballhausplatz:geo:16.3638789,48.2082817
END:VEVENT
BEGIN:VEVENT
DTSTART;TZID=Europe/Vienna:20240308T160000
DTEND;TZID=Europe/Vienna:20240308T201500
DTSTAMP:20260424T161744
CREATED:20240217T155023Z
LAST-MODIFIED:20240217T155110Z
UID:10004146-1709913600-1709928900@8maerz.at
SUMMARY:Offenes Rathaus zum Internationalen Frauentag
DESCRIPTION:Bera­tungs­an­ge­bo­te\, Kon­zer­te und Füh­run­gen für Frauen \nTer­min: 8. März 2024 von 16 bis 20.15 Uhr; Ein­lass ab 15.30 Uhr\nOrt: 1.\, Rat­haus\, Ein­gang Lich­ten­fels­gas­se 2\nDie gesam­te Ver­an­stal­tung kann bei frei­em Ein­tritt besucht werden. \nJedes Jahr fin­det im Rat­haus rund um den Inter­na­tio­na­len Frau­en­tag am 8. März ein umfang­rei­ches Pro­gramm statt. Auch 2024 kön­nen sich Frau­en und Mäd­chen Infor­ma­tio­nen und Bera­tung zu Wei­ter­bil­dung\, Frau­en­po­li­tik\, Gewalt­schutz und vie­len ande­ren The­men holen. \nAnge­bo­ten wer­den Füh­run­gen durch das Rat­haus mit spe­zi­fi­schem Frau­en­fo­kus sowie zum bar­rie­re­frei­en Aus­stel­lungs­mo­dul. Für Müt­ter gibt es spe­zi­el­le Ser­vice­an­ge­bo­te wie Abstell­plät­ze für Kin­der­wä­gen und Kin­der­be­treu­ung. Zum Abschluss fin­den Kon­zer­te in der Volks­hal­le des Rat­hau­ses statt. \nPro­gramm: \nFest­saal:\nMes­se mit Info­stän­den: Frau­en und Mäd­chen kön­nen sich Infor­ma­tio­nen und Bera­tung zu Wei­ter­bil­dung\, Frau­en­po­li­tik\, Gewalt­schutz und vie­len ande­ren The­men holen \nNord­buf­fet:\nKinderbetreuung\nKin­der­freun­de Wien – Offe­ne Mitmach-Station\nLounge mit Sitz­mög­lich­kei­ten und Kinderwagenabstellplatz \nStein­saal II:\nFotobox\n„Die Brut­pfle­ge­rin­nen“ und Geral­di­ne Mas­sing – Instal­la­ti­on Gleichstellungsmonitor \nWap­pen­saal:\nMes­se mit Info­stän­den: Frau­en und Mäd­chen kön­nen sich Infor­ma­tio­nen und Bera­tung zu Wei­ter­bil­dung\, Frau­en­po­li­tik\, Gewalt­schutz und vie­len ande­ren The­men holen \nRaum 317:\nMes­se mit Infoständen \nRaum 319:\nVerkaufsbuffet \nVolks­hal­le:\nBar­rie­re­frei­es Ausstellungsmodul\nStem­pel­pass-Rät­sel­ral­lye inklu­si­ve Verlosung \nKon­zer­te:\n18.30 Uhr: Load Fai­led & Stranded\n19.30 Uhr: Mira Lu Kovacs \nArka­den­hof:\nPio­nie­rin­nen­ga­le­rie „Wien. Stadt der gro­ßen Töch­ter“ mit 2 neu­en Pionierinnen\n15 bis 19 Uhr: Impf­bus des Gesund­heits­diensts (MA 15)\nFrau­en­po­li­ti­sche Rathausführungen \nFüh­rung Wege der Frau­en durchs Rathaus\nWann: 17 bis 18.30 Uhr\nTreff­punkt: Stadt­in­fo (Begrü­ßung durch Gemeinderätinnen) \nFüh­rung Bar­rie­re­frei­es Ausstellungsmodul\nWann: 17.30 bis 18.15 Uhr\nTreff­punkt in der Volkshalle
URL:https://8maerz.at/veranstaltung/offenes-rathaus-zum-internationalen-frauentag/
LOCATION:Rathaus\, Friedrich-Schmidt-Platz 1\, Wien\, 1010
GEO:48.2109437;16.3565084
X-APPLE-STRUCTURED-LOCATION;VALUE=URI;X-ADDRESS=Rathaus Friedrich-Schmidt-Platz 1 Wien 1010;X-APPLE-RADIUS=500;X-TITLE=Friedrich-Schmidt-Platz 1:geo:16.3565084,48.2109437
END:VEVENT
BEGIN:VEVENT
DTSTART;TZID=Europe/Vienna:20240308T170000
DTEND;TZID=Europe/Vienna:20240308T190000
DTSTAMP:20260424T161744
CREATED:20240304T202828Z
LAST-MODIFIED:20240304T204214Z
UID:10004174-1709917200-1709924400@8maerz.at
SUMMARY:PERSONA NON GRATA - Filmvorführung im Votivkino
DESCRIPTION:Ein­la­dung anläss­lich des Inter­na­tio­na­len Frauentags:\nPERSONA NON GRATA\nFilm­vor­füh­rung im Votiv­ki­no am Frei­tag\, 8.3.2023\, um 17h – Ein­tritt frei \nFür eine Ex-Ski­renn­läu­fe­rin war eigent­lich alles ver­ges­sen\, die Gespens­ter der Ver­gan­gen­heit gebannt. Doch dann folg­te ein Schick­sals­schlag den ande­ren und es war Zeit\, den alten Dämo­nen ins Gesicht zu sehen und sie für immer ans Tages­licht zu holen. \nPERSONA NON GRATA basiert auf der wah­ren Geschich­te von Ex-Ski­renn­läu­fe­rin Nico­la Wer­de­nigg\, die 2017 mit einem Arti­kel im Der Stan­dard erst­mals schwe­re Miss­stän­de wäh­rend ihrer Zeit als Ski­fah­re­rin auf­deck­te und mit ihrem Bericht über sexua­li­sier­te Gewalt und sys­te­ma­ti­schem Macht­miss­brauch eine Me-Too-Wel­le im öster­rei­chi­schen Ski­sport auslöste. \nIm Anschluss an die Filmvorführung:\nPodi­ums­ge­spräch mit Nico­la Werdenigg\nund der Vize­prä­si­den­tin des Euro­päi­schen Par­la­ments\, Eve­lyn Regner\nMode­ra­ti­on: Nou­ra Maan (derstandard.at). \nAnmel­dung erbe­ten unter vienna.europarl.europa.eu
URL:https://8maerz.at/veranstaltung/persona-non-grata-filmvorfuehrung-im-votivkino/
LOCATION:Votivkino\, Währinger Straße 12\, Wien\, 1090
GEO:48.2167778;16.3600738
X-APPLE-STRUCTURED-LOCATION;VALUE=URI;X-ADDRESS=Votivkino Währinger Straße 12 Wien 1090;X-APPLE-RADIUS=500;X-TITLE=Währinger Straße 12:geo:16.3600738,48.2167778
END:VEVENT
BEGIN:VEVENT
DTSTART;TZID=Europe/Vienna:20240308T170000
DTEND;TZID=Europe/Vienna:20240308T220000
DTSTAMP:20260424T161744
CREATED:20240301T224935Z
LAST-MODIFIED:20240301T224935Z
UID:10004159-1709917200-1709935200@8maerz.at
SUMMARY:Demo - Internationaler Feministischer Kampftag 2024
DESCRIPTION:Demo und Kund­ge­bung zum Inter­na­tio­na­len Femi­nis­ti­schen Kampf­tag am 8. März 2024 \n17:00 Start der Kund­ge­bung ehem. Columbusplatz\n18:00 Demo­zug beginnt\n19:00 Ankunft ehem. Karlsplatz\n22:00 Ende der Kund­ge­bung und Auflösung \nDie Demo ist offen für alle Geschlechter!\nRede­bei­trä­ge wer­den mit ÖGS übersetzt! \nEine star­ke femi­nis­ti­sche Bewe­gung ist wich­ti­ger denn je. Des­halb gehen wir zum inter­na­tio­na­len femi­nis­ti­schen Kampf­tag zusam­men auf die Stra­ße! Wir kämp­fen für eine Welt frei von patri­ar­cha­ler Gewalt\, in der FLINTA* selbst­be­stimmt und gleich­be­rech­tigt leben können. \nWir gehen auf die Stra­ße\, weil wir in Öster­reich und in ganz Euro­pa mit der Gefahr eines wie­der erstar­ken­den Faschis­mus kon­fron­tiert sind\, der die Auto­no­mie und Sicher­heit von FLINTA* bedroht.\nWir gehen auf die Stra­ße gegen die patri­ar­cha­le Gewalt\, der FLINTA* – ins­be­son­de­re FLINTA* of Colour und migran­ti­sche FLINTA* – que­e­re Men­schen und Sexarbeiter*innen tag­täg­lich aus­ge­setzt sind.\nWir gehen auf die Stra­ße\, weil unse­re Arbeit immer noch nicht gerecht bezahlt und gesell­schaft­lich aner­kannt wird.\nAm 8. März tra­gen wir unse­re For­de­run­gen gemein­sam auf die Straße! \nDemo and ral­ly for the Inter­na­tio­nal Femi­nist Day on March 8\, 2024 \n17:00 Start of the ral­ly for­mer Columbusplatz\n18:00 Demo pro­ces­si­on begins\n19:00 Arri­val at for­mer Karlsplatz\n22:00 End of the ral­ly and dispersal \nThe demons­tra­ti­on is open to all genders!\nSpee­ches will be trans­la­ted with ÖGS! \nA strong femi­nist move­ment is more important than ever. That’s why we’­re taking to the streets tog­e­ther on Inter­na­tio­nal Femi­nist Day! We are fight­ing for a world free of patri­ar­chal vio­lence\, in which FLINTA* can live self-deter­mi­ned and equal lives. \nWe are taking to the streets becau­se in Aus­tria and throug­hout Euro­pe we are con­fron­ted with the dan­ger of a resur­gent fascism that threa­tens the auto­no­my and secu­ri­ty of FLINTA*.\nWe are taking to the streets against the patri­ar­chal vio­lence that FLINTA* – espe­ci­al­ly FLINTA* of Color and migrant FLINTA* – que­er peo­p­le and sex workers are sub­jec­ted to on a dai­ly basis.\nWe are taking to the streets becau­se our work is still not fair­ly paid and soci­al­ly recognized.\nOn March 8\, we will take our demands to the streets together! \nSujet © @cort_ina\nAuf­ruf­text: Take Back the Streets
URL:https://8maerz.at/veranstaltung/demo-internationaler-feministischer-kampftag-2024/
LOCATION:Columbusplatz\, Columbusplatz\, Wien\, 1100
ATTACH;FMTTYPE=image/jpeg:https://8maerz.at/wp-content/uploads/sites/20/2024/03/Sujet_TBTS-2024.jpeg
END:VEVENT
BEGIN:VEVENT
DTSTART;TZID=Europe/Vienna:20240313T093000
DTEND;TZID=Europe/Vienna:20240313T160000
DTSTAMP:20260424T161744
CREATED:20240304T210522Z
LAST-MODIFIED:20240304T210744Z
UID:10004178-1710322200-1710345600@8maerz.at
SUMMARY:Fachtagung: Menschen am Limit: Gewalt in der Arbeitswelt als Spiegel unserer Gesellschaft und was wir dagegen tun können
DESCRIPTION:FACHTAGUNG am 13. März 2024 von 9.30 bis 16.00 Uhr\, ÖGB- und Gewerk­schafts­haus Cata­ma­ran\, Ver­an­stal­tungs­saal Wil­hel­mi­ne Moik\, Johann-Böhm-Platz 1\, 1020 Wien \nTabu­the­ma Gewalt – Wir geben Gewalt im Job kei­ne Chance! \nImmer mehr Kolleg*innen erle­ben bei ihrer Arbeit Gewalt\, Beläs­ti­gung und Dis­kri­mi­nie­rung. Viel­leicht auch kein Wun­der\, schließ­lich lösen Krie­ge\, Teue­rung und Kli­ma­kri­se exis­ten­zi­el­le Ängs­te aus und brin­gen vie­le Men­schen ans Limit. Gewalt hat vie­le Gesich­ter. Auch die For­men von Gewalt im Job sind unter­schied­lich. Wir wol­len die Ursa­chen ver­ste­hen sowie Hand­lungs­mög­lich­kei­ten und Lösungs­an­sät­ze erörtern. \nBei der Ver­an­stal­tung wol­len die AK Wien\, die Gewerk­schaf­ten vida und GPA zusam­men mit dem WEISSEN RING mehr Bewusst­sein für das The­ma schaf­fen\, aber auch kon­kre­te Infor­ma­ti­ons- und Ser­vice­leis­tun­gen auf­zei­gen. Wir hof­fen\, dass du nie mit Gewalt an dei­nem Arbeits­platz kon­fron­tiert bist! Für den Fall des Fal­les ist es aber sinn­voll\, auf sol­che Situa­tio­nen vor­be­rei­tet zu sein. \nDatum: Mitt­woch\, 13. März 2024\nZeit: 9:30 Uhr bis 16:00 Uhr (Check-In 08:30 bis 16:00 Uhr)\nOrt: Gewerk­schafts­haus Cata­ma­ran\, 1020 Wien\, Johann-Böhm-Platz 1\nVer­an­stal­tungs­saal Wil­hel­mi­ne Moik \nPro­gramm sie­he hier. \nZiel­grup­pen:\nBetriebsrät*innen\, Jugendvertrauensrät*innen\, Behin­der­ten­ver­trau­ens­per­so­nen\, Sicher­heits­ver­trau­ens­per­so­nen\, Füh­rungs­kräf­te und inter­es­sier­te Kolleg*innen \nAnmel­dung bis spä­tes­tens 11. März 2024 \nper Tele­fon: 01  534 44–79032\nper E‑Mail: veranstaltung@vida.at\nper Online-For­mu­lar: www.vida.at/gewalttagung \nArbeit­neh­me­rIn­nen­schutz\, Diver­si­tät und\nPro­jekt­lei­tung Tat­ort Arbeitsplatz\nGib der Gewalt im Job kei­ne Chance\nJohann-Böhm-Platz 1\, 1020 Wien\nÖGB ZVR-Num­mer: 576439352\nTel: + 43 1 – 53 444 – 79 032 \nhttp://www.tatortarbeitsplatz.at\nhttp://www.vida.at
URL:https://8maerz.at/veranstaltung/fachtagung-gewalt-in-der-arbeitswelt/
LOCATION:ÖGB Catamaran\, Johann-Böhm-Platz 1\, Wien\, Wien\, 1020\, Österreich
ORGANIZER;CN="Gewerkschaft vida":MAILTO:https://www.vida.at/
END:VEVENT
BEGIN:VEVENT
DTSTART;TZID=Europe/Vienna:20240313T170000
DTEND;TZID=Europe/Vienna:20240313T200000
DTSTAMP:20260424T161744
CREATED:20240303T214658Z
LAST-MODIFIED:20240303T214658Z
UID:10004168-1710349200-1710360000@8maerz.at
SUMMARY:Workshop: Warnsignale in Beziehungen erkennen und handeln
DESCRIPTION:Work­shop am Mitt­woch\, 13. März 2024\, von 17:00 – 20:00 \nWarn­si­gna­le in Bezie­hun­gen erken­nen und handeln \nWas kön­nen Anzei­chen von Gewalt in der Bezie­hung sein? Part­ner­ge­walt ent­steht nicht von heu­te auf mor­gen. Es ist ein schlei­chen­der Pro­zess\, der fast unmerk­lich mit Klei­nig­kei­ten beginnt. Daher ist es wich­tig die ers­ten Warn­si­gna­le zu erken­nen\, um recht­zei­tig Unter­stüt­zung anbie­ten zu kön­nen! Wir bespre­chen die For­men von Gewalt\, Warn­si­gna­le und Zivil­cou­ra­ge bei Gewalt in der Nachbarschaft. \nDer Work­shop wird durch­ge­führt von Ste­fa­nie Bern­ho­fer (Stop – Stadt­tei­le ohne Part­ner­ge­walt – Landstraße) \nOrt: Frau­en­bil­dungs­stät­te Frau­en­hetz\, Unte­re Weiß­ge­ber­str. 41\, 1030\, Wien \nDie Ver­an­stal­tung ist eine Koope­ra­ti­on zwi­schen dem Ver­ein Frau­en­hetz und StoP – Stadt­tei­le ohne Partnergewalt. \nDie Ver­an­stal­tung ist offen für alle.
URL:https://8maerz.at/veranstaltung/workshop-warnsignale-in-beziehungen-erkennen-und-handeln/
LOCATION:Frauenhetz\, Untere Weißgerberstraße 41\, Wien\, 1030
ORGANIZER;CN="Frauenhetz - feministische Bildung%2C Kultur und Politik":MAILTO:office@frauenhetz.at
GEO:48.2084854;16.3946163
X-APPLE-STRUCTURED-LOCATION;VALUE=URI;X-ADDRESS=Frauenhetz Untere Weißgerberstraße 41 Wien 1030;X-APPLE-RADIUS=500;X-TITLE=Untere Weißgerberstraße 41:geo:16.3946163,48.2084854
END:VEVENT
BEGIN:VEVENT
DTSTART;TZID=Europe/Vienna:20240314T193000
DTEND;TZID=Europe/Vienna:20240314T213000
DTSTAMP:20260424T161744
CREATED:20240303T210913Z
LAST-MODIFIED:20240303T210913Z
UID:10004163-1710444600-1710451800@8maerz.at
SUMMARY:Feministischer Filmabend: Persona non grata
DESCRIPTION:Herz­li­che Ein­la­dung zum kos­ten­lo­sen femi­nis­ti­schen Kino­abend am 14.3. im Admi­ral Kino. \nAnläss­lich des Inter­na­tio­na­len Frau­en­kampf­tags zei­gen wir den Film „Per­so­na non gra­ta“ über Macht­miss­brauch im Ski­sport und über Nico­la Wer­de­niggs Geschichte.\nIm Anschluss gibt es eine Podi­ums­dis­kus­si­on zum Film und zum The­ma Macht­miss­brauch – mit Nico­la Wer­de­nigg\, Regis­seur Anto­nin Svo­bo­da und Frau­en­spre­che­rin der Grü­nen Wien Vik­to­ria Spielmann. \nBegrü­ßung: Isa­bel­le Uhl (Bezirksvorsteher-Stv.in Neubau)\nMode­ra­ti­on: Lena Köh­ler (Bezirksvorsteher-Stv.in Josefstadt) \nDatum: Don­ners­tag\, 14.3.2024\nUhr­zeit: Film­be­ginn um 19:30 (Ein­lass ab 19:00)\nOrt: Admi­ral Kino\, Burg­gas­se 119\, 1070 Wien \nDer Ein­tritt ist gratis!\nWir bit­ten um Anmel­dung unter kassa@admiralkino.at\nWir freu­en uns auf euer Kommen! \nZum Film:\nFür eine Ex-Ski­renn­läu­fe­rin war eigent­lich alles ver­ges­sen\, die Gespens­ter der Ver­gan­gen­heit gebannt. Doch dann folg­te ein Schick­sals­schlag den ande­ren und es war Zeit\, den alten Dämo­nen ins Gesicht zu sehen und sie für immer ans Tages­licht zu holen. Eine Befrei­ungs­ge­schich­te nach wah­ren Bege­ben­hei­ten. Ein Film über eine bemer­kens­wer­te Frau.\nPERSONA NON GRATA basiert auf der wah­ren Geschich­te von Ex-Ski­renn­läu­fe­rin Nico­la Wer­de­nigg\, die 2017 mit einem Arti­kel im Der Stan­dard erst­mals schwe­re Miss­stän­de wäh­rend ihrer Zeit als Ski­fah­re­rin auf­deck­te und mit ihrem Bericht über sexua­li­sier­te Gewalt und sys­te­ma­ti­schem Macht­miss­brauch eine Me-Too-Wel­le im öster­rei­chi­schen Ski­sport aus­lös­te. Der Wie­ner Regis­seur Anto­nin Svo­bo­da fik­tio­na­li­siert die Geschich­te und besetzt die Haupt­rol­le mit Ger­ti Drassl als Ex-Ski­renn­läu­fe­rin Andrea Weingartner. \nSujet © Die Grünen
URL:https://8maerz.at/veranstaltung/feministischer-filmabend-persona-non-grata-2/
LOCATION:Admiralkino\, Burggasse 119\, Wien\, Wien\, 1070\, Österreich
ATTACH;FMTTYPE=image/jpeg:https://8maerz.at/wp-content/uploads/sites/20/2024/03/persona-non-grata_14-03_2029_Gruene.jpeg
GEO:48.2041565;16.338749
X-APPLE-STRUCTURED-LOCATION;VALUE=URI;X-ADDRESS=Admiralkino Burggasse 119 Wien Wien 1070 Österreich;X-APPLE-RADIUS=500;X-TITLE=Burggasse 119:geo:16.338749,48.2041565
END:VEVENT
BEGIN:VEVENT
DTSTART;TZID=Europe/Vienna:20240316T100000
DTEND;TZID=Europe/Vienna:20240317T190000
DTSTAMP:20260424T161744
CREATED:20240131T212819Z
LAST-MODIFIED:20240131T213141Z
UID:10004092-1710583200-1710702000@8maerz.at
SUMMARY:Wen Do Grundkurs - gegen Sexismus handeln
DESCRIPTION:Work­shop: Wen Do Grund­kurs – gegen Sexis­mus handeln \nDatum+Uhrzeit: 16./17. März 2024\, Sa/So 10–19h\nOrt: Wien\, Bekannt­ga­be bei Anmeldung \nWEN DO-femi­nis­ti­sche Selbst­ver­tei­di­gung von und für Frau­en und Mäd­chen. WEN DO ist kein Sport und erfor­dert kei­ne spe­zi­el­len kör­per­li­chen Vor­aus­set­zun­gen. Wen Do ist für alle Frau­en zugäng­lich\, die als Mädchen/Frau auf­wach­sen und als Frau/Lesbe in die­ser Gesell­schaft leben\, unab­hän­gig von öko­no­mi­schen Mög­lich­kei­ten und unter­schied­li­chen kör­per­li­chen\, emo­tio­na­len und men­ta­len Fähig­kei­ten. Eine Grund­la­ge von Wen Do ist\, sich der Sozia­li­sa­ti­on als Frau und der sozia­len Posi­ti­on als Frau in die­ser Gesell­schaft bewusst zu wer­den\, sie kri­tisch zu hin­ter­fra­gen\, uns mit unse­ren unter­schied­li­chen Erfah­run­gen\, Fähig­kei­ten und Lebens­be­din­gun­gen aus­ein­an­der­zu­set­zen und Hand­lungs­mög­lich­kei­ten zu erwei­tern. Ziel von Wen Do ist es patri­ar­cha­le Herr­schafts­ver­hält­nis­se zu bekämp­fen und femi­nis­ti­sche Stra­te­gien gegen sexis­ti­sche und sexu­el­le Gewalt zu entwickeln. \nAnmel­dung bis 8.3.2024 per Email: wendo.wien@gmx.at \nWei­te­re Informationen:\nKon­takt und Anmel­dung per E‑Mail: wendo.wien@gmx.at\nwei­te­re Infor­ma­tio­nen: http://www.wendo-wien.at/
URL:https://8maerz.at/veranstaltung/wen-do-grundkurs-gegen-sexismus-handeln/
END:VEVENT
BEGIN:VEVENT
DTSTART;TZID=Europe/Vienna:20240319T190000
DTEND;TZID=Europe/Vienna:20240319T210000
DTSTAMP:20260424T161744
CREATED:20240228T204829Z
LAST-MODIFIED:20240228T205016Z
UID:10004157-1710874800-1710882000@8maerz.at
SUMMARY:Filmabend: Persona non grata
DESCRIPTION:Komm vor­bei zum Film­abend der Grü­nen Pen­zing – die­ses Mal mit dem Film „Per­so­na Non Grata“: \nDer Film erzählt die Geschich­te von Nico­la Wer­de­nigg und ihrem Ein­satz gegen Macht­miss­brauch im Ski­sport. Sie sprach 2017 erst­mals über schwe­re Miss­stän­de wäh­rend ihrer Zeit als Ski­fah­re­rin und lös­te damit eine Me-Too-Wel­le im öster­rei­chi­schen Ski­sport aus.\n \nAnschlie­ßen­de Dis­kus­si­on mit Nico­la Werdenigg\nMode­ra­ti­on: Anne­lie­se Käst­ner-Hej­da\, Klub­ob­frau der Grü­nen Penzing \nZum Film: \nFür eine Ex-Ski­renn­läu­fe­rin war eigent­lich alles ver­ges­sen\, die Gespens­ter der Ver­gan­gen­heit gebannt. Doch dann folg­te ein Schick­sals­schlag den ande­ren und es war Zeit\, den alten Dämo­nen ins Gesicht zu sehen und sie für immer ans Tages­licht zu holen. Eine Befrei­ungs­ge­schich­te nach wah­ren Bege­ben­hei­ten. Ein Film über eine bemer­kens­wer­te Frau.\nPERSONA NON GRATA basiert auf der wah­ren Geschich­te von Ex-Ski­renn­läu­fe­rin Nico­la Wer­de­nigg\, die 2017 mit einem Arti­kel im Der Stan­dard erst­mals schwe­re Miss­stän­de wäh­rend ihrer Zeit als Ski­fah­re­rin auf­deck­te und mit ihrem Bericht über sexua­li­sier­te Gewalt und sys­te­ma­ti­schem Macht­miss­brauch eine Me-Too-Wel­le im öster­rei­chi­schen Ski­sport aus­lös­te. Der Wie­ner Regis­seur Anto­nin Svo­bo­da fik­tio­na­li­siert die Geschich­te und besetzt die Haupt­rol­le mit Ger­ti Drassl als Ex-Ski­renn­läu­fe­rin Andrea Weingartner. \nSujet © Die Grü­nen Penzing
URL:https://8maerz.at/veranstaltung/filmabend-persona-non-grata/
LOCATION:Breitenseer Lichtspiele\, Breitenseerstraße 21\, Wien\, Wien\, 1140\, Österreich
ATTACH;FMTTYPE=image/jpeg:https://8maerz.at/wp-content/uploads/sites/20/2024/02/persona-non-grata_19-03-2024.jpeg
END:VEVENT
END:VCALENDAR