BEGIN:VCALENDAR
VERSION:2.0
PRODID:-//8. März - ECPv6.15.17.1//NONSGML v1.0//EN
CALSCALE:GREGORIAN
METHOD:PUBLISH
X-ORIGINAL-URL:https://8maerz.at
X-WR-CALDESC:Veranstaltungen für 8. März
REFRESH-INTERVAL;VALUE=DURATION:PT1H
X-Robots-Tag:noindex
X-PUBLISHED-TTL:PT1H
BEGIN:VTIMEZONE
TZID:Europe/Vienna
BEGIN:DAYLIGHT
TZOFFSETFROM:+0100
TZOFFSETTO:+0200
TZNAME:CEST
DTSTART:20200329T010000
END:DAYLIGHT
BEGIN:STANDARD
TZOFFSETFROM:+0200
TZOFFSETTO:+0100
TZNAME:CET
DTSTART:20201025T010000
END:STANDARD
BEGIN:DAYLIGHT
TZOFFSETFROM:+0100
TZOFFSETTO:+0200
TZNAME:CEST
DTSTART:20210328T010000
END:DAYLIGHT
BEGIN:STANDARD
TZOFFSETFROM:+0200
TZOFFSETTO:+0100
TZNAME:CET
DTSTART:20211031T010000
END:STANDARD
BEGIN:DAYLIGHT
TZOFFSETFROM:+0100
TZOFFSETTO:+0200
TZNAME:CEST
DTSTART:20220327T010000
END:DAYLIGHT
BEGIN:STANDARD
TZOFFSETFROM:+0200
TZOFFSETTO:+0100
TZNAME:CET
DTSTART:20221030T010000
END:STANDARD
END:VTIMEZONE
BEGIN:VEVENT
DTSTART;TZID=Europe/Vienna:20210318T180000
DTEND;TZID=Europe/Vienna:20210318T200000
DTSTAMP:20260421T071412
CREATED:20210314T142731Z
LAST-MODIFIED:20210314T142731Z
UID:10003852-1616090400-1616097600@8maerz.at
SUMMARY:"Krisenmeisterinnen" - Round Table der Zivilgesellschaft
DESCRIPTION:Unter dem Titel „Kri­sen­meis­te­rin­nen“ steht die aktu­el­le Früh­jahrs­kam­pa­gne der Wie­ner SPÖ-Frau­en zum Inter­na­tio­na­len Frau­en­tag am 8. März. Nach einem Jahr Coro­na-Pan­de­mie ist es ein ganz beson­ders denk­wür­di­ger Frau­en­tag\, denn das ver­gan­ge­ne Jahr hat vor allem eines mehr als deut­lich gezeigt: wie weit wir von ech­ter Gleich­stel­lung von Frau­en und Män­nern tat­säch­lich ent­fernt sind. Unge­fragt und unbe­zahlt tra­gen Frau­en unse­re Gesell­schaft und bezah­len dafür einen hohen Preis. Es ist aller­höchs­te Zeit\, dass sich dies end­lich ändert. \nIn einer so schwe­ren Zeit ist es wie­der die Zivil­ge­sell­schaft\, die oft­mals ihre Unter­stüt­zung anbie­tet. Vor allem Frau­en sind es\, die sich in eben die­sen so wich­ti­gen Zei­ten in Ver­ei­nen und Hilfs­or­ga­ni­sa­tio­nen aber auch ganz ein­fach pri­vat enga­gie­ren. Sie sind auch dies­mal die Meis­te­rin­nen der Kri­se. Sie bewe­gen und ver­bes­sern die Gesellschaft. \nDazu laden die SPÖ-Frau­en zu einem Round Table am\, 18.3.2021\, um 18.00 Uhr. Die­ser fin­det auf­grund der der­zei­ti­gen Situa­ti­on online statt. \nWann: Don­ners­tag\, 18.03.2021\, 18.00 bis 20.00 Uhr\nLink: https://zoom.us/j/92844698101?pwd=VStGV0JUbTJCV25CKzhkQmIwU0dHdz09 \nVer­bind­li­che Anmel­dung per E‑Mail an: office@ega.wien. \nDie Teil­neh­me­rin­nen­zahl ist beschränkt. \nMehr Infos zur Kam­pa­gne der Wie­ner SPÖ Frau­en auf: https://www.spoe-frauen.wien
URL:https://8maerz.at/veranstaltung/krisenmeisterinnen-round-table-der-zivilgesellschaft/
LOCATION:Online\, Wien\, Österreich
END:VEVENT
BEGIN:VEVENT
DTSTART;TZID=Europe/Vienna:20210318T180000
DTEND;TZID=Europe/Vienna:20210318T200000
DTSTAMP:20260421T071412
CREATED:20210314T143321Z
LAST-MODIFIED:20210314T143321Z
UID:10003853-1616090400-1616097600@8maerz.at
SUMMARY:Der Klagsverband diskutiert: Über Gleichstellung reden
DESCRIPTION:Der Klagsverband diskutiert: Über Gleichstellung reden\n18. März 2021\, 18.00 Uhr auf Zoom \nFür den Auf­takt unse­rer Dis­kus­si­ons­rei­he „Der Klags­ver­band dis­ku­tiert“ im Jahr 2021 haben wir ein The­ma aus­ge­sucht\, das uns über die engen Gren­zen des Gleich­stel­lungs- und Anti­dis­kri­mi­nie­rungs­rechts hin­aus­bli­cken lässt. Wir wol­len mit unse­ren Gäs­ten\, der Wis­sen­schaf­te­rin Judith Koh­len­ber­ger und der Jour­na­lis­tin Bea­te Haus­bich­ler dar­über reden\, wie Debat­ten zu Gleich­stel­lung und Anti­dis­kri­mi­nie­rung zu ver­bin­den­den\, soli­da­ri­schen Dis­kur­sen wer­den kön­nen und wel­che Nar­ra­ti­ve wir dem Neid\, der Aus­gren­zung und der Spal­tung ent­ge­gen­hal­ten kön­nen\, wenn wir über Anti-Ras­sis­mus\, Gleich­stel­lung von Frau­en\, Inklu­si­on\, Reli­gi­ons­frei­heit\, Alters­dis­kri­mi­nie­rung oder LGBTIQ+-Themen sprechen. \nNach den State­ments von Judith Koh­len­ber­ger\, Bea­te Haus­bich­ler und Vol­ker Frey ist es mög­lich\, über den Zoom-Chat Fra­gen zu stel­len und mitzudiskutieren. \nDie Dis­kus­si­on wird auf­ge­zeich­net und dann auf face­book zur Ver­fü­gung ste­hen. Wenn Sie sich für die Ver­an­stal­tung anmel­den\, stim­men Sie damit auto­ma­tisch der Ver­öf­fent­li­chung zu. \nDie Dis­kus­si­on fin­det online auf Zoom statt. Den Link erhal­ten Sie nach Ihrer Anmel­dung: info@klagsverband.at. Bit­te schal­ten Sie Ihre Kame­ra und Ihr Mikro aus und stel­len Sie Fra­gen über den Chat. \nDie Dis­kus­si­ons­run­de: \nJudith Koh­len­ber­ger ist Kul­tur­wis­sen­schaft­le­rin am Insti­tut für Sozi­al­po­li­tik der Wirt­schafts­uni­ver­si­tät Wien und forscht zu Flucht­mi­gra­ti­on\, Inte­gra­ti­on und gesell­schaft­li­cher Teil­ha­be. Ihr Essay „Wir“ (erschie­nen bei Kre­mayr & Sche­ri­au) wid­met sich aktu­el­len Zuge­hö­rig­keits­de­bat­ten in der plu­ra­lis­ti­schen Gesellschaft. \nBea­te Haus­bich­ler ist Redak­teu­rin bei der Tages­zei­tung DER STANDARD\, seit 2014 lei­tet sie deren frau­en­po­li­ti­sches Res­sort die­Stan­dard. Sie schreibt außer­dem regel­mä­ßig die Kolum­ne „heim.spiel“ für das femi­nis­ti­sche Maga­zin an.schläge. Ihr ers­tes Buch „Der ver­kauf­te Femi­nis­mus. Wie aus einer poli­ti­schen Bewe­gung ein pro­fi­ta­bles Label wur­de“ ist kürz­lich im Resi­denz-Ver­lag erschienen. \nVol­ker Frey ist Jurist und Diver­si­ty-Trai­ner und lei­tet den Klags­ver­band als Generalsekretär.
URL:https://8maerz.at/veranstaltung/der-klagsverband-diskutiert-ueber-gleichstellung-reden/
LOCATION:Online\, Wien\, Österreich
END:VEVENT
END:VCALENDAR