BEGIN:VCALENDAR
VERSION:2.0
PRODID:-//8. März - ECPv6.15.17.1//NONSGML v1.0//EN
CALSCALE:GREGORIAN
METHOD:PUBLISH
X-ORIGINAL-URL:https://8maerz.at
X-WR-CALDESC:Veranstaltungen für 8. März
REFRESH-INTERVAL;VALUE=DURATION:PT1H
X-Robots-Tag:noindex
X-PUBLISHED-TTL:PT1H
BEGIN:VTIMEZONE
TZID:Europe/Vienna
BEGIN:DAYLIGHT
TZOFFSETFROM:+0100
TZOFFSETTO:+0200
TZNAME:CEST
DTSTART:20200329T010000
END:DAYLIGHT
BEGIN:STANDARD
TZOFFSETFROM:+0200
TZOFFSETTO:+0100
TZNAME:CET
DTSTART:20201025T010000
END:STANDARD
BEGIN:DAYLIGHT
TZOFFSETFROM:+0100
TZOFFSETTO:+0200
TZNAME:CEST
DTSTART:20210328T010000
END:DAYLIGHT
BEGIN:STANDARD
TZOFFSETFROM:+0200
TZOFFSETTO:+0100
TZNAME:CET
DTSTART:20211031T010000
END:STANDARD
BEGIN:DAYLIGHT
TZOFFSETFROM:+0100
TZOFFSETTO:+0200
TZNAME:CEST
DTSTART:20220327T010000
END:DAYLIGHT
BEGIN:STANDARD
TZOFFSETFROM:+0200
TZOFFSETTO:+0100
TZNAME:CET
DTSTART:20221030T010000
END:STANDARD
END:VTIMEZONE
BEGIN:VEVENT
DTSTART;VALUE=DATE:20210308
DTEND;VALUE=DATE:20210309
DTSTAMP:20260421T071513
CREATED:20210301T214442Z
LAST-MODIFIED:20210301T223040Z
UID:10003824-1615161600-1615247999@8maerz.at
SUMMARY:profil Online-Talk: Grüß Gott\, Backlash!
DESCRIPTION:Wie die Pan­de­mie den Femi­nis­mus auf die Schnau­ze hat fal­len las­sen. War­um Lock­down\, Fern-Unter­richt und Home-Office Gen­der­rol­len ret­ra­di­tio­na­li­sie­ren. Und wie wir da je wie­der raus kom­men können. \nAnläss­lich des Welt­frau­en­tags am 8. März diskutieren: \nMeri Diso­ski (Frau­en­spre­che­rin der Grünen)\nHen­ri­ke Brand­stöt­ter (Frau­en­spre­che­rin Neos)\nElfrie­de Ham­merl (Jour­na­lis­tin)\nTarek Leit­ner (Jour­na­list ORF)\nMari Lang (Jour­na­lis­tin ORF | Frau­en­fra­gen – der Podcast) \nDis­kus­si­ons­lei­tung: Ange­li­ka Hager (pro­fil\, Res­sort­lei­tung Gesellschaft) \nHaben Sie Fra­gen für die Dis­kus­si­ons­run­de? Dann sen­den Sie die­se vor­ab an: events@profil.at. \nAnmel­dung kos­ten­los unter https://profil-events.at/de/weltfrauentag.\nNach Anmel­dung bekom­men Sie einen Link zuge­schickt\, mit die­sem steht Ihnen der pro­fil-Talk ab 8. März 2021 als Video-on-Demand zur Verfügung.
URL:https://8maerz.at/veranstaltung/profil-online-talk-gruess-gott-backlash/
LOCATION:Online\, Wien\, Österreich
END:VEVENT
BEGIN:VEVENT
DTSTART;TZID=Europe/Vienna:20210308T070000
DTEND;TZID=Europe/Vienna:20210308T235900
DTSTAMP:20260421T071513
CREATED:20210303T214524Z
LAST-MODIFIED:20210303T214601Z
UID:10003831-1615186800-1615247940@8maerz.at
SUMMARY:Radio ORANGE 94.0 Spezialprogramm zum 8. März
DESCRIPTION:Radio ORANGE 94.0 Schwerpunktprogramm zum 8. März\n8.3.2021\, ganz­tä­gig – ab 7:00 bis Mitternacht\non air auf UKW 94.0 und online auf o94.at \nZum inter­na­tio­na­len femi­nis­ti­scher Kampf­tag am 8. März gibt es auch die­ses Jahr wie­der ein Spe­zi­al­pro­gramm bei Radio ORANGE 94.0. Es geht um Mäd­chen­ra­dio und Radio­ver­net­zung\, Bünd­nis­se und Quo­ten\, Arbeits­welt und Wahl­recht\, Sexua­li­tät und Selbst­be­stim­mung\, Freiheitskämpfer_innen und Held_innen\, Kindergärtner_innen und Stadtplaner_innen\, Sub­ver­si­ves Hand­ar­bei­ten und Musik\, femin­in­i­ty und que­er­ness\, Fei­ern und Demons­trie­ren und noch vie­les mehr – ab 7:00 on air. \nEinen Über­blick über das gesam­te Pro­gram gibt es hier: https://o94.at/programm/programm-uebersicht?datum=2021–03-08
URL:https://8maerz.at/veranstaltung/radio-orange-spezialprogramm-zum-8-maerz/
LOCATION:Online\, Wien\, Österreich
END:VEVENT
BEGIN:VEVENT
DTSTART;TZID=Europe/Vienna:20210308T090000
DTEND;TZID=Europe/Vienna:20210308T203000
DTSTAMP:20260421T071513
CREATED:20210301T211638Z
LAST-MODIFIED:20210301T223113Z
UID:10003821-1615194000-1615235400@8maerz.at
SUMMARY:Frauen. Gestalten. Zukunft. - Frauentag der Stadt Wien
DESCRIPTION:Der Welt-Frau­en­tag kommt heu­er coro­nabe­dingt zu Ihnen/Euch nach Hau­se! Unter dem Mot­to „Frau­en. Gestal­ten. Zukunft.“ bie­tet der Online-Frau­en­tag der Stadt Wien rund um den 8. März ein tol­les Programm. \nAm 8. März gibt es kos­ten­lo­se Online-Kur­se\, jede Men­ge Tipps\, Infos und Anre­gun­gen und ein span­nen­des Bera­tungs- und Unterhaltungsprogramm. \nAlle digi­ta­len Ange­bo­te der Stadt Wien am Frau­en­tag 2021\, fin­den Sie/findet Ihr in der Pro­gramm­über­sicht auf der Web­site der Stadt Wien: https://frauentag.wien.gv.at/veranstaltungen/
URL:https://8maerz.at/veranstaltung/frauen-gestalten-zukunft-frauentag-der-stadt-wien/
LOCATION:Online\, Wien\, Österreich
END:VEVENT
BEGIN:VEVENT
DTSTART;TZID=Europe/Vienna:20210308T120000
DTEND;TZID=Europe/Vienna:20210308T131500
DTSTAMP:20260421T071513
CREATED:20210209T212247Z
LAST-MODIFIED:20210222T213731Z
UID:10003565-1615204800-1615209300@8maerz.at
SUMMARY:aging and aging trouble. was alle erfahren\, wenn sie es erleben
DESCRIPTION:ein gespräch zum inter­na­tio­na­len frauen*tag \nMon­tag\, 8. März 2021 | 12:00 Uhr\nfin­det digi­tal statt \nDoris Ingrisch spricht mit Eve­lyn Tor­ton Beck (eme­rit. Univ-Prof.in\, Uni­ver­si­ty of Mary­land\, USA)\, Miri­am Hal­ler (kubia\, Kom­pe­tenz­zen­trum für kul­tu­rel­le Bil­dung im Alter und Inklu­si­on) und Ange­li­ka Sil­ber­bau­er (Arbeits­kreis für Gleich­be­hand­lungs­fra­gen – AKG\, mdw) \nein unan­ge­neh­mes the­ma für einen 8. märz? ja\, viel­leicht. aber ein not­wen­di­ges. ein hoch­po­li­ti­sches\, denn ein mit der fra­ge nach gleich­be­hand­lung ver­bun­de­nes. zudem aber auch eines\, das nicht von der jeweils eige­nen exis­tenz zu tren­nen ist. eines\, das engs­tens mit dem the­ma von lebens­kon­zep­ten und hand­lungs­mög­lich­kei­ten ver­wo­ben ist. in jedem jahr unse­res lebens\, von beginn an. und\, unter ande­rem eines\, das uns auch ethi­scher gewalt gegen­über sensibilisiert. \nEine Ver­an­stal­tung der Stab­stel­le Gleich­stel­lung\, Gen­der Stu­dies und Diver­si­tät (GGD) in Koope­ra­ti­on mit dem Insti­tut für Kul­tur­ma­nage­ment und Gen­der Stu­dies der mdw – Uni­ver­si­tät für Musik und dar­stel­len­de Kunst Wien \nAnmel­dung & Kontakt:\nDie­se Ver­an­stal­tung fin­det als Zoom-Mee­ting statt und wird aus Doku­men­ta­ti­ons- und Infor­ma­ti­ons­zwe­cken aufgezeichnet.*\n*Wenn Sie über Zoom an einem Mee­ting teil­neh­men\, sind Sie mit Ihrem regis­trier­ten Namen und\, falls Sie die Kame­ra akti­viert haben\, mit Ihrem Bild sicht­bar. Wenn Sie sich unter Nut­zung der Mikro­fon­funk­ti­on aktiv mit einem Kom­men­tar an der Dis­kus­si­on betei­li­gen\, wer­den Sie von allen Teilnehmer_innen live gehört und gese­hen. Da das Mee­ting auf­ge­zeich­net wird\, wer­den zu Doku­men­ta­ti­ons- und Infor­ma­ti­ons­zwe­cken der mdw – Uni­ver­si­tät für Musik und dar­stel­len­de Kunst Wien (mdw) Video- und Audio­auf­nah­men von Ihrer Per­son ange­fer­tigt. Mit Ihrer Anmel­dung ertei­len sie der mdw – Uni­ver­si­tät für Musik und dar­stel­len­de Kunst Wien eine unbe­grenz­te\, unein­ge­schränk­te\, über­trag­ba­re Lizenz zur Ver­wen­dung die­ser Auf­nah­me. Die­se Lizenz ist ins­be­son­de­re auf die oben genann­ten Doku­men­ta­ti­ons- und Infor­ma­ti­ons­zwe­cke der Uni­ver­si­tät beschränkt. Wenn Sie nicht Teil der Auf­zeich­nung sein wol­len\, mel­den Sie sich bit­te unter einem Pseud­onym an und schal­ten Sie wäh­rend der Nut­zung von Zoom die Kame­ra- und Mikro­fon­funk­tio­nen nicht ein. Die­se wer­den von der mdw in ihrer Eigen­schaft als Mode­ra­tor stan­dard­mä­ßig deaktiviert.\nBit­te beach­ten Sie unse­re aus­führ­li­chen Datenschutzhinweise. \nUm den Link für die Onlin­ever­an­stal­tung über­mit­teln zu kön­nen\, bit­te um Anmel­dung bis 7.3.2021 per Mail. \nMag.a phil. Bir­git Huebener\nggd@mdw.ac.at\n+43 (1) 71155–6071
URL:https://8maerz.at/veranstaltung/aging-and-aging-trouble-was-alle-erfahren-wenn-sie-es-erleben/
LOCATION:Online\, Wien\, Österreich
ORGANIZER;CN="mdw %E2%80%93 Universit%C3%A4t f%C3%BCr Musik und darstellende Kunst":MAILTO:https://www.mdw.ac.at
END:VEVENT
BEGIN:VEVENT
DTSTART;TZID=Europe/Vienna:20210308T150000
DTEND;TZID=Europe/Vienna:20210308T154500
DTSTAMP:20260421T071513
CREATED:20210303T224845Z
LAST-MODIFIED:20210303T224845Z
UID:10003585-1615215600-1615218300@8maerz.at
SUMMARY:Buchpräsentation "Die Erste - Mutige Pionierinnen auf dem Weg ins 21. Jahrhundert"
DESCRIPTION:Online-Buch­prä­sen­ta­ti­on mit Bea­trix Hain und Bar­ba­ra Hafok: „Die Ers­te“\, Echome­dia Verlag \nOb Wis­sen­schaft\, Kunst\, Sport oder Tech­nik: Es waren immer Män­ner\, die Geschich­te schrie­ben. Bis sich die ers­ten Frau­en ihren Platz erober­ten. Ob Poli­ti­ke­rin­nen\, Wis­sen­schaft­le­rin­nen\, Sport­le­rin­nen oder Künst­le­rin­nen\, die bei­den Autorin­nen holen die „Ers­ten“\, die Vor­kämp­fe­rin­nen\, auf die Büh­ne! In zeit­his­to­ri­schen Por­träts beleuch­ten sie das Leben der Frau­en\, die Geschlech­ter­ge­schich­te geschrie­ben haben und schrei­ben wer­den. Min­des­tens eine der „Ers­ten“ wird live zuge­schal­tet. Die Gleich­be­hand­lungs­be­auf­trag­te und die Kul­tur­ver­mitt­le­rin haben ganz frisch Beein­dru­cken­des aus den letz­ten 150 Jah­ren gesammelt. \nEine Online-Buch­prä­sen­ta­ti­on auf dem offe­nen Face­book-Kanal „Tha­lia Wien Mit­te“: https://www.facebook.com/events/134133335248503 \nDetails auf https://www.thalia.at/shop/home/veranstaltungen/showDetail/30904/
URL:https://8maerz.at/veranstaltung/buchpraesentation-die-erste-mutige-pionierinnen-auf-dem-weg-ins-21-jahrhundert/
LOCATION:Online\, Wien\, Österreich
END:VEVENT
BEGIN:VEVENT
DTSTART;TZID=Europe/Vienna:20210308T170000
DTEND;TZID=Europe/Vienna:20210308T190000
DTSTAMP:20260421T071513
CREATED:20210215T205927Z
LAST-MODIFIED:20210222T205747Z
UID:10003570-1615222800-1615230000@8maerz.at
SUMMARY:Gespräch: Zwischen Rebellion und Anpassung – Vor- und Nachlässe von Frauen in Bibliotheken und Archiven
DESCRIPTION:Zwischen Rebellion und Anpassung – Vor- und Nachlässe von Frauen in Bibliotheken und Archiven\nGespräch zum Frau­en­tag 2021 \nEin­bli­cke in diver­se Frau­en­nach­läs­se der Wien­bi­blio­thek im Rathaus\nOrt und Zeit \nMon­tag\, 8. März\, 17:00 Uhr\n**Live­stream aus der Wien­bi­blio­thek im Rathaus** \nZur Ver­an­stal­tung:\nBiblio­the­ken und Archi­ve sam­meln und erschlie­ßen Schrif­ten und Doku­men­te von mehr oder weni­ger pro­mi­nen­ten Per­sön­lich­kei­ten und machen die­se der Öffent­lich­keit zugäng­lich. Die ver­wahr­ten Mate­ria­li­en doku­men­tie­ren größ­ten­teils das Leben und Schaf­fen von Män­nern\, wäh­rend Vor- und Nach­läs­se von Frau­en lan­ge nicht den ent­spre­chen­den Ein­gang in nach­lass­ver­wal­ten­de Insti­tu­tio­nen fan­den. Feh­len­de oder nur spär­lich vor­han­de­ne Quel­len – die­ses Ver­säum­nis wur­de im letz­ten Drit­tel des 20. Jahr­hun­derts beson­ders evi­dent\, als Fra­ge­stel­lun­gen aus dem Bereich der Frau­en- und Geschlech­ter­ge­schich­te in den Fokus rück­ten. Was folg­te\, war eine ver­mehr­te sys­te­ma­ti­sche Sam­mel­tä­tig­keit im Hin­blick auf Vor- und Nach­läs­se von Frau­en\, die viel­fach auch von enga­gier­ten Frau­en vor­an­ge­trie­ben wur­de. Dabei ver­lor der Pro­mi­nen­ten­sta­tus als Auf­nah­me­kri­te­ri­um viel­fach an Gewicht. \nWie ent­ste­hen Vor- und Nach­läs­se von Frau­en und auf wel­chen Wegen gelan­gen sie in Biblio­the­ken und Archi­ve? Wer pro­du­ziert\, wer sam­melt\, wer erschließt\, wer erforscht die­ses Mate­ri­al? Was sind\, je nach Insti­tu­ti­on\, die Kri­te­ri­en für die Auf­nah­me in die Biblio­thek oder das Archiv? Wel­che Quel­len kann ein „Frau­en­nach­lass“ über­haupt beinhal­ten? Wie kön­nen Biblio­the­ken und Archi­ve auf die­se Bestän­de auf­merk­sam machen und deren Erfor­schung vorantreiben? \nDie­se und ande­re Fra­gen ste­hen zur Dis­kus­si­on und sol­len zu wei­te­rem Nach­den­ken anre­gen\, im Hin­blick sowohl auf die bis­he­ri­ge Pra­xis als auch auf künf­ti­ge Strategien. \nPro­gramm:\nIm Gespräch\nKatha­ri­na Pra­ger und Kyra Wald­ner\, Wien­bi­blio­thek im Rathaus\nmit Li Ger­hal­ter\, Samm­lung Frau­en­nach­läs­se\, Uni­ver­si­tät Wien \nAll­ge­mei­ne Informationen:\nMit der Teil­nah­me an die­ser Ver­an­stal­tung stim­men Sie der Ver­öf­fent­li­chung von Fotos\, Video- und Audio­auf­zeich­nun­gen\, die im Rah­men der Ver­an­stal­tun­gen ent­ste­hen\, zu.
URL:https://8maerz.at/veranstaltung/gespraech-zwischen-rebellion-und-anpassung-vor-und-nachlaesse-von-frauen-in-bibliotheken-und-archiven/
LOCATION:Online\, Wien\, Österreich
END:VEVENT
BEGIN:VEVENT
DTSTART;TZID=Europe/Vienna:20210308T170000
DTEND;TZID=Europe/Vienna:20210308T190000
DTSTAMP:20260421T071513
CREATED:20210301T212653Z
LAST-MODIFIED:20210301T212738Z
UID:10003822-1615222800-1615230000@8maerz.at
SUMMARY:Online-Vorträge und -Gespräch: "Unter Druck - Frauen in der Krise"
DESCRIPTION:Live­stream:\nDer Live­stream wird kurz vor Veran­staltungs­beginn in der Media­thek des Par­la­ments ver­füg­bar sein. Zum Live­stream gelan­gen Sie mit dem Link https://www.parlament.gv.at/MEDIA/. \nInhalt:\nVor 110 Jah­ren – im März 1911 – gin­gen in Öster­reich erst­mals allein in Wien über 20.000 Frau­en und soli­darische Män­ner\, anläss­lich des Inter­nationa­len Welt­frauen­tages auf die Stra­ßen\, um für die Gleich­berech­tigung von Frau­en zu kämp­fen. Der Lebens­alltag von Frau­en damals war ein ganz ande­rer als heu­te. Eini­ge der hist­orischen For­de­run­gen sind heu­te umge­setzt\, ande­re war­ten noch auf ihre Erfül­lung. Anläss­lich des 110-jäh­ri­gen Jubi­läums gibt die His­to­ri­ke­rin Gabri­el­la Hauch einen Über­blick über die Ent­wickl­ungen und Ver­änder­ungen der Frauen­leben in Öster­reich der letz­ten 110 Jah­re. Wel­chen beson­de­ren Heraus­forder­ungen und psy­chi­schen Belast­ungen sich gera­de Frau­en jetzt durch die aktu­el­le Coro­na-Kri­se aus­ge­setzt sehen\, wie man aus die­sen Krisen­situationen her­aus­kom­men und wie man sie ver­mei­den kann\, bespre­chen die Psycho­analy­tiker­innen Eri­ka Free­man und Jut­ta Men­schik-Ben­de­le in einem von Patri­cia Pawli­cki mode­rier­ten Dialog. \nPro­gramm: \nBegrü­ßung und Moderation\nPatri­cia Pawli­cki\, Journalistin \nKey­notes:\nZukunft braucht Ver­gan­gen­heit! 110 Jah­re Welt­frau­en­tag in Öster­reich. Vom Frau­en­le­ben damals bis heute.\nGabri­el­la Hauch\, Uni­ver­si­täts­pro­fes­so­rin für Geschich­te\, Uni­ver­si­tät Wien \nFrau­en 2021: Eine kri­ti­sche Analyse\nDoris Bures\, Zwei­te Prä­si­den­tin des Nationalrates \nIm Gespräch:\nEri­ka Free­man\, Psy­cho­ana­ly­ti­ke­rin\, Zeit­zeu­gin und Autorin\nJut­ta Men­schik-Ben­de­le\, Psy­cho­ana­ly­ti­ke­rin\, em. Uni­ver­si­täts­pro­fes­so­rin und eh. Vize­rek­to­rin der Alpe-Adria-Universität \nDatum: 08.03.2021\, 17:00\nOrt: online\nVer­an­stal­te­rIn: 2. NR-PräsidentIn
URL:https://8maerz.at/veranstaltung/online-vortraege-gespraech-unter-druck-frauen-in-der-krise/
LOCATION:Online\, Wien\, Österreich
END:VEVENT
BEGIN:VEVENT
DTSTART;TZID=Europe/Vienna:20210308T180000
DTEND;TZID=Europe/Vienna:20210308T190000
DTSTAMP:20260421T071513
CREATED:20210307T163924Z
LAST-MODIFIED:20210307T164018Z
UID:10003592-1615226400-1615230000@8maerz.at
SUMMARY:Buchpräsentation "Mutiger\, klüger\, verrückter"
DESCRIPTION:„Muti­ger\, klü­ger\, ver­rück­ter“ von Ger­hard Jeli­nek\, erschie­nen im Amal­thea-Ver­lag\, ist eine Zusam­men­stel­lung beson­de­rer Men­schen. Aus mythi­scher\, bibli­scher und anti­ker Zeit. Aus Sagen\, Mit­tel­al­ter und Neu­zeit. Quel­len der männ­li­chen Geschichts­schrei­bung wer­den pro­fes­sio­nell ent­blät­tert und hin­ter den meist zurecht­ge­rück­ten Dar­stel­lun­gen die wah­ren Per­so­nen gesucht. Frau­en\, die damals und auch heu­te noch stell­ver­tre­tend für die vie­len unbe­kann­ten Frau­en ste­hen\, die „Mann“ nicht zu unter­drü­cken ver­mag. Denn vie­le waren und sind – sie­he Titel. \nEine Online-Buch­prä­sen­ta­ti­on auf dem offe­nen Face­book-Kanal „Tha­lia Wien Mit­te“. Ver­füg­bar ab dem 8.3.2021 um 18.00 Uhr. Mehr sie­he hier.
URL:https://8maerz.at/veranstaltung/buchpraesentation-mutiger-kluger-verrueckter/
LOCATION:Online\, Wien\, Österreich
END:VEVENT
BEGIN:VEVENT
DTSTART;TZID=Europe/Vienna:20210308T180000
DTEND;TZID=Europe/Vienna:20210308T193000
DTSTAMP:20260421T071513
CREATED:20210301T201454Z
LAST-MODIFIED:20210301T205152Z
UID:10003816-1615226400-1615231800@8maerz.at
SUMMARY:Online-Diskussion: Wo bleiben die Stimmen der afrikanischen Frauen?
DESCRIPTION:Anläss­lich des inter­na­tio­na­len Frau­en­ta­ges ver­an­stal­ten die Grü­nen Migrant*innen Wien gemein­sam mit der Arbeits­grup­pe Afri­ka der GMW und dem Ver­ein Kokok eine Dis­kus­si­ons­run­de unter dem Titel \n„Wo bleiben die Stimmen der afrikanischen Frauen?“\nDie Her­aus­for­de­run­gen im All­tag sind für die meis­ten afri­ka­ni­schen Frau­en in Wien sehr viel­fäl­tig. Je nach Situa­ti­on kön­nen ein­ge­schränk­te Infor­ma­ti­on und Berufs­le­ben mehr für eine stän­di­ge Abhän­gig­keit sor­gen. Der Man­gel auf Basis­in­for­ma­tio­nen ist gera­de für vie­le afri­ka­ni­sche Frau­en eine enor­me Belas­tung. Dies führt oft zu sozia­ler Aus­gren­zung und Ver­un­si­che­rung Ihrer Lebensumstände. \nIn Öster­reich leben­de afri­ka­ni­sche Frau­en\, wel­chen in den Medi­en und in der öffent­li­chen Wahr­neh­mung kaum Auf­merk­sam­keit gewid­met wird und so unsicht­bar wer­den\, sol­len in die­ser Ver­an­stal­tung die ihnen gebüh­ren­de Auf­merk­sam­keit erhalten. \nEs dis­ku­tie­ren:\nAlev Kor­un\, Men­schen­rechts­ak­ti­vis­tin\, NR a.D.\nBijou Cis­sé\, Ver­ein Kokok in Wien\nSaki­li­ba Safi­a­tou\, Obfrau des Ver­eins Kokok\nSuz­a­na Sto­ja­no­vić-Joham\, GMW-Vorstand \nDatum: 8. März 2021\, 18 Uhr\, über Zoom \nLink: https://us02web.zoom.us/j/3862530776?pwd=dWp4Z2sycUhkWGV3b0xMamdOUFV3dz09 \nMee­ting-ID: 386 253 0776\nKenn­code: gmw2021
URL:https://8maerz.at/veranstaltung/online-diskussion-wo-bleiben-die-stimmen-der-afrikanischen-frauen/
LOCATION:Online\, Wien\, Österreich
END:VEVENT
BEGIN:VEVENT
DTSTART;TZID=Europe/Vienna:20210308T183000
DTEND;TZID=Europe/Vienna:20210308T193000
DTSTAMP:20260421T071513
CREATED:20210303T230812Z
LAST-MODIFIED:20210303T230921Z
UID:10003588-1615228200-1615231800@8maerz.at
SUMMARY:Meidlinger Frauensprechstunde
DESCRIPTION:Die Grü­nen Meid­ling ver­an­stal­ten die 1. Meid­lin­ger Frau­en­sprech­stun­de. Es wird ein Frau­en­quiz geben und es wer­den drei Preis­trä­ge­rin­nen des Frau­en­prei­ses 2020 zu Gäs­tin sein: Dr.in med. Katha­ri­na Krup­pa von Grow Tog­e­ther\, Maria Schei­blau­er vom Vin­zi­Dorf und Susan­ne Zech­ner von der Vin­zi­Rast. Schaut vor­bei zum Ken­nen­ler­nen und Austauschen! \nZoom-Link: https://us02web.zoom.us/j/82955732588
URL:https://8maerz.at/veranstaltung/meidlinger-frauensprechstunde/
LOCATION:Online\, Wien\, Österreich
END:VEVENT
BEGIN:VEVENT
DTSTART;TZID=Europe/Vienna:20210309T140000
DTEND;TZID=Europe/Vienna:20210309T160000
DTSTAMP:20260421T071513
CREATED:20210307T171343Z
LAST-MODIFIED:20210307T171424Z
UID:10003593-1615298400-1615305600@8maerz.at
SUMMARY:Diskussion: „Eine Union der Gleichheit?“
DESCRIPTION:„Eine Union der Gleichheit?“\nStand­ort­be­stim­mung auf dem Weg zur Gleich­stel­lung der Geschlech­ter in der Euro­päi­schen Union \nDebat­tie­ren Sie am Diens­tag\, den 9. März von 14 bis 16 Uhr online mit! \nBegrü­ßung:\nChris­ta Kirch­mair und Maria Rösslhu­mer\, stv. Vor­sit­zen­de des öster­rei­chi­schen Frauenrings\nFrank Piplat\, Lei­ter des Ver­bin­dungs­bü­ros des Euro­päi­schen Parlaments \nStand­ort­be­stim­mung:\nEve­lyn Reg­ner (Euro­pa­ab­ge­ord­ne­te SPÖ/S&D)\,\nVor­sit­zen­de des Aus­schus­ses für die Rech­te der Frau und die Gleich­stel­lung der Geschlechter) \nBrea­kout-Ses­si­ons zu fol­gen­den Themen: \nFrau­en in Füh­rungs­po­si­tio­nen: Bricht die EU die glä­ser­ne Decke?\nmit Eve­lyn Reg­ner und Maria Rauch-Kal­lat (Frau­en­mi­nis­te­rin a.D.\, Grün­de­rin „Club Alpha“) \nGeschlech­ter­ge­rech­tes Bud­get: Wel­ches Gewicht hat die Gleich­stel­lung im EU-Haus­halt und beim Wie­der­auf­bau nach Corona?\nmit Moni­ka Vana (Euro­pa­ab­ge­ord­ne­te\, Grü­ne/­Grü­ne-EFA) und Katha­ri­na Mader (Öko­no­min\, WU) \nDigi­ta­li­sie­rung: Wie ent­wi­ckeln sich die Geschlech­ter­rol­len in Tech­nik und sozia­len Medien?\nmit Ange­li­ka Win­zig (Euro­pa­ab­ge­ord­ne­te\, ÖVP/EVP) (ange­fragt) und Vivi­en Blech­ner (@Vanillaholica) \nMode­ra­ti­on: Jonas Vogt (frei­er Journalist) \nAnmel­dung: https://ec.europa.eu/eusurvey/runner/Frauentag2021
URL:https://8maerz.at/veranstaltung/diskussion-eine-union-der-gleichheit/
LOCATION:Online\, Wien\, Österreich
END:VEVENT
BEGIN:VEVENT
DTSTART;TZID=Europe/Vienna:20210310T170000
DTEND;TZID=Europe/Vienna:20210310T190000
DTSTAMP:20260421T071513
CREATED:20210307T172938Z
LAST-MODIFIED:20210307T173036Z
UID:10003836-1615395600-1615402800@8maerz.at
SUMMARY:Salon der offenen Geheimnisse: "Neuer Materialismus\, feministische Praktiken"
DESCRIPTION:Salon der offenen Secrets/Geheimnisse – SOS: „Neuer Materialismus\, feministische Praktiken“\nmit Karin Rei­sin­ger\, Patri­cia J. Reis\, Taguhi Toro­syan\, Ste­fa­nie Wuschitz\, Bar­ba­ra Huber und Kari­na Jarrett \nWann: 10.3.2021\, 17:00\nAnmel­dung unter: fgd@akbild.ac.at \n„Was sind Open Secrets? Der sprich­wört­li­che Ele­fant im Raum? Klatsch und Tratsch? Öffent­lich zen­sier­te und stig­ma­ti­sier­te The­men? All das\, aber nicht aus­schließ­lich. Wir defi­nie­ren Open Secrets als sehr situ­ier­te Nische für ver­kör­per­te Erfah­run­gen\, Wis­sen und Spaß – am Frau­sein*\, an der Über­win­dung von Bina­ri­tä­ten mit/durch/in Kunst\, Tech­no­lo­gien\, Inge­nieur- und Mate­ri­al­wis­sen­schaf­ten und an der Ver­bin­dung unter­ein­an­der auf die uner­war­tets­te und lebens­be­ja­hen­de Weise.“ \nMit die­ser Online Dis­kus­si­on wird die Ver­an­stal­tungs­rei­he 100 Jah­re – Sie* kam und blieb“ im Som­mer­se­mes­ter fortgesetzt.
URL:https://8maerz.at/veranstaltung/salon-der-offenen-geheimnisse-neuer-materialismus-feministische-praktiken/
LOCATION:Online\, Wien\, Österreich
END:VEVENT
BEGIN:VEVENT
DTSTART;TZID=Europe/Vienna:20210310T190000
DTEND;TZID=Europe/Vienna:20210310T210000
DTSTAMP:20260421T071513
CREATED:20210301T210450Z
LAST-MODIFIED:20210301T210734Z
UID:10003820-1615402800-1615410000@8maerz.at
SUMMARY:FRAUEN.LEBEN: Im Gespräch mit Elisabeth Puchhammer-Stöckl – Wissenschaftlerin des Jahres 2020
DESCRIPTION:Im Gespräch mit Eli­sa­beth Puchhammer-Stöckl\nMode­ra­ti­on: Rena­te Kain \nAls Frau sicht­bar in der Wissenschaft\nAus­zü­ge aus einem Inter­view in den Salz­bur­ger Nach­rich­ten\, vom 12. Jän­ner 2021: \nSel­ten steht jemand so beschei­den im Ram­pen­licht wie die 58-jäh­ri­ge Eli­sa­beth Puch­ham­mer-Stöckl. Sie lei­tet das Zen­trum für Viro­lo­gie an der Med- Uni Wien. Nun wur­de sie zur Wis­sen­schaft­le­rin des Jah­res gekürt. \nWie sieht sie den Stel­len­wert der Wis­sen­schaft seit Aus­bruch der Pandemie?\n„So sicht­bar wie jetzt war Wis­sen­schaft noch nie. Aber es war auch sel­ten so schwie­rig\, gesi­cher­tes Wis­sen zeit­nah zu kom­mu­ni­zie­ren. Es gab unheim­lich vie­le Publi­ka­tio­nen inner­halb kür­zes­ter Zeit. Es kur­sier­te also viel unge­si­cher­tes Wis­sen in der Öffent­lich­keit. Das war eine Gratwanderung.“ \nFast über Nacht wur­de das Fach­ge­biet durch die Pan­de­mie ins Licht der Öffent­lich­keit kata­pul­tiert. Wie hat sich dadurch der All­tag einer Wis­sen­schaft­le­rin geändert?\n„Gera­de zu Beginn kam vie­les zusam­men und wir muss­ten prio­ri­sie­ren. Wir bau­ten die Dia­gnos­tik am Insti­tut auf und muss­ten zuse­hen\, dass die For­schung irgend­wie wei­ter­lief. Vor allem waren wir aber mit Auf­klä­rung nach außen beschäftigt.“ \nWie sieht die Rol­le von Frau­en in wis­sen­schaft­li­chen Füh­rungs­po­si­tio­nen heu­te aus?\n„Da ist auf jeden Fall noch Luft nach oben. Aber je mehr Frau­en in Füh­rungs­po­si­tio­nen sind\, des­to mehr wer­den nach­kom­men. Da hilft die Vor­bild­wir­kung. Aber auch\, dass das Ver­ständ­nis für jun­ge Müt­ter grö­ßer wird. Weil einer der Knack­punk­te in der Kar­rie­re von Frau­en ist immer noch die Familiengründung.“ \nDr.in Eli­sa­beth Puchhammer-Stöckl\nwur­de in Wien gebo­ren\, stu­dier­te hier Medi­zin und pro­mo­vier­te 1986 zum Dok­tor der Medi­zin. Sie begann 1987 als Assis­ten­tin am Insti­tut für Viro­lo­gie und absol­vier­te die Aus­bil­dun­gen zur Fach­ärz­tin für Hygie­ne und Mikro­bio­lo­gie sowie zur Fach­ärz­tin für Viro­lo­gie. Sie ent­wi­ckel­te neue Tech­no­lo­gien für die Virus­dia­gnos­tik\, erhielt dafür natio­na­le und inter­na­tio­na­le Prei­se (Wel­co­me award\, Prei­se der Höchst Foun­da­ti­on) und habi­li­tier­te 1994 für das Fach Viro­lo­gie. Nach der Geburt ihrer bei­den Töch­ter arbei­te­te sie etli­che Jah­re in Teil­zeit. Im Jahr 2000 wur­de sie ao. Pro­fes­so­rin am Insti­tut für Viro­lo­gie. Sie war 2001–2010 Vize­prä­si­den­tin der öster­rei­chi­schen AIDS Gesell­schaft\, ist Lei­te­rin der öster­rei­chi­schen HIV Refe­renz­zen­tra­le\, Mit­glied der Kom­mis­si­on für sexu­ell über­trag­ba­re Erkran­kun­gen des Gesund­heits­mi­nis­te­ri­ums und im Vor­stand der Öster­rei­chi­schen Gesell­schaft für Hygie­ne\, Mikro­bio­lo­gie und Prä­ven­tiv­me­di­zin (ÖGHMP). 2019 lehr­te sie als Gast­pro­fes­so­rin an der Uni­ver­si­tät von Pavia in der Lom­bar­dei. Seit Beginn der Coro­na-Pan­de­mie ist sie Mit­glied der Coro­na Taskforce des Gesundheitsministers. \nAnmel­dung mög­lich bis 10.03.2021\, 12:00 Uhr hier: Link\nDen Zugangs­link erhal­ten Sie spä­tes­tens nach Anmel­de­schluss per Mail.
URL:https://8maerz.at/veranstaltung/frauen-leben-im-gespraech-mit-elisabeth-puchhammer-stockl-wissenschaftlerin-des-jahres-2020/
LOCATION:Online\, Wien\, Österreich
END:VEVENT
END:VCALENDAR