BEGIN:VCALENDAR
VERSION:2.0
PRODID:-//8. März - ECPv6.15.20//NONSGML v1.0//EN
CALSCALE:GREGORIAN
METHOD:PUBLISH
X-WR-CALNAME:8. März
X-ORIGINAL-URL:https://8maerz.at
X-WR-CALDESC:Veranstaltungen für 8. März
REFRESH-INTERVAL;VALUE=DURATION:PT1H
X-Robots-Tag:noindex
X-PUBLISHED-TTL:PT1H
BEGIN:VTIMEZONE
TZID:Europe/Vienna
BEGIN:DAYLIGHT
TZOFFSETFROM:+0100
TZOFFSETTO:+0200
TZNAME:CEST
DTSTART:20190331T010000
END:DAYLIGHT
BEGIN:STANDARD
TZOFFSETFROM:+0200
TZOFFSETTO:+0100
TZNAME:CET
DTSTART:20191027T010000
END:STANDARD
BEGIN:DAYLIGHT
TZOFFSETFROM:+0100
TZOFFSETTO:+0200
TZNAME:CEST
DTSTART:20200329T010000
END:DAYLIGHT
BEGIN:STANDARD
TZOFFSETFROM:+0200
TZOFFSETTO:+0100
TZNAME:CET
DTSTART:20201025T010000
END:STANDARD
BEGIN:DAYLIGHT
TZOFFSETFROM:+0100
TZOFFSETTO:+0200
TZNAME:CEST
DTSTART:20210328T010000
END:DAYLIGHT
BEGIN:STANDARD
TZOFFSETFROM:+0200
TZOFFSETTO:+0100
TZNAME:CET
DTSTART:20211031T010000
END:STANDARD
END:VTIMEZONE
BEGIN:VEVENT
DTSTART;TZID=Europe/Vienna:20200206T180000
DTEND;TZID=Europe/Vienna:20200206T210000
DTSTAMP:20260425T172227
CREATED:20200205T210856Z
LAST-MODIFIED:20200205T211027Z
UID:10003628-1581012000-1581022800@8maerz.at
SUMMARY:Trans_in'_anticapitalist_feminism
DESCRIPTION:Trans_in’_anticapitalist_feminism\nAnti­ka­pi­ta­lis­ti­sche trans­fe­mi­nis­ti­sche Posi­tio­nen in feministischen\nKämp­fen. Mode­rier­tes Gespräch mit Zoe* Chamonix \n// 06.02.2020\, 18 Uhr\n// Kunst­tank­stel­le Otta­kring\, Grund­stein­gas­se 45–47\, 1 160 Wien\n// Kin­der­be­treu­ung vor Ort\n// Cont­act for whisper trans­la­ti­on via\ngegenpatriarchatundkapital@riseup.net \nTrans*feminine Per­so­nen ste­hen im Fokus der Gewalt und Aus­beu­tung der\ngegen­wär­ti­gen patri­ar­cha­len und kapi­ta­lis­ti­schen Gesell­schaft. Sie sind\nBetrof­fe­ne unmit­tel­ba­rer zwi­schen­mensch­li­cher und institutioneller\nGewalt. Auch gefähr­li­chen und beson­ders ausbeuterischen\nArbeits­ver­hält­nis­sen sind sie beson­ders häu­fig unter­wor­fen. Gewaltvoll\noder aus­schlie­ßend stel­len sich staat­li­che sowie klas­sisch familiäre\nCare Struk­tu­ren für sie oft­mals dar. Rela­ti­ve Sicher­heit im Bestehenden\nist für trans*feminine Per­so­nen auch des­halb in zuge­spitz­ter Wei­se daran\ngebun­den\, die eige­ne Arbeits­kraft zu ver­kau­fen. Nicht zufäl­lig waren\ntrans*feminine Per­so­nen\, ins­be­son­de­re of Color\, zen­tra­le Akteuer*innen\nanti­ka­pi­ta­lis­ti­scher quee­rer Poli­ti­ken. Nicht ohne Grund entwickelten\ntrans*feminine Per­so­nen in den ver­gan­ge­nen Jahr­zehn­ten soli­da­ri­sche Care\nPrak­ti­ken und Poli­ti­ken. Ent­spre­chend ist auch die Kritik\npatri­ar­chal-kapi­ta­lis­ti­scher Ver­hält­nis­se im Fokus zahlreicher\ntrans*feministischer Aktivist*innen und Theoretiker*innen. Gleichzeitig\nfin­den sich trans*feministische Ana­ly­sen und Posi­tio­nen noch immer sehr\nsel­ten in femi­nis­ti­schen links­ra­di­ka­len Zusam­men­hän­gen. Der Sta­tus von\ntrans*feminen Per­so­nen in vie­len die­ser Grup­pen bleibt pre­kär und\nmar­gi­nal. Ihre Erfah­run­gen\, gesell­schaft­li­che Posi­tio­nen und Kämpfe\nfin­den hier oft­mals nur rand­stän­di­ge Betrach­tung und bleiben\nuntheoretisiert. \nIm Gespräch mit Zoe* geht es um den Bedin­gun­gen und Möglichkeiten\nlinks­ra­di­ka­ler trans*feministischer Kämp­fe\, über\nAus­schlüs­se\, Soli­da­ri­tät und geteil­te femi­nis­ti­sche Kämpfe.\nThe revo­lu­ti­on will be trans*feminist or it will not be. \nZoe* Cha­mo­nix ist trans*feministische Akti­vis­tin* und For­schen­de*. Sie*\narbei­te­tet in Wien in den\, zu den und gegen die hiesigen\ncis­he­tero­pa­tri­ar­cha­len (u.a.) kapi­ta­lis­ti­schen Verhältnisse. \nDie Veranstalter_innen behal­ten sich vor\, Per­so­nen\, die in der\nVer­gan­gen­heit durch trans*feindliche Posi­tio­nie­run­gen auf­ge­fal­len sind\nund sich auch auf die­ser Ver­an­stal­tung trans*feindlich äußern/verhalten\,\ndes Rau­mes zu verweisen. \nEine Ver­an­stal­tung der Rei­he ‚Wenn wir strei­ken steht die Welt still‘.
URL:https://8maerz.at/veranstaltung/trans_in_anticapitalist_feminism/
LOCATION:Kunsttankstelle Ottakring\, Grundsteingasse 45-47\, Wien\, Wien\, 1160\, Österreich
END:VEVENT
END:VCALENDAR